BEGIN:VCALENDAR
VERSION:2.0
PRODID:-//Howling Woods Farm - ECPv6.15.20//NONSGML v1.0//EN
CALSCALE:GREGORIAN
METHOD:PUBLISH
X-ORIGINAL-URL:https://howlingwoods.org
X-WR-CALDESC:Events for Howling Woods Farm
REFRESH-INTERVAL;VALUE=DURATION:PT1H
X-Robots-Tag:noindex
X-PUBLISHED-TTL:PT1H
BEGIN:VTIMEZONE
TZID:UTC
BEGIN:STANDARD
TZOFFSETFROM:+0000
TZOFFSETTO:+0000
TZNAME:UTC
DTSTART:20230101T000000
END:STANDARD
END:VTIMEZONE
BEGIN:VEVENT
DTSTART;VALUE=DATE:20240115
DTEND;VALUE=DATE:20240117
DTSTAMP:20260420T224012
CREATED:20231214T003816Z
LAST-MODIFIED:20231214T003816Z
UID:50836-1705276800-1705449599@howlingwoods.org
SUMMARY:Farm Closed
DESCRIPTION:
URL:https://howlingwoods.org/event/farm-closed-518/
END:VEVENT
BEGIN:VEVENT
DTSTART;VALUE=DATE:20240117
DTEND;VALUE=DATE:20240118
DTSTAMP:20260420T224012
CREATED:20231128T054345Z
LAST-MODIFIED:20231128T054345Z
UID:50580-1705449600-1705535999@howlingwoods.org
SUMMARY:Visit the Farm
DESCRIPTION:Come to the farm and meet Naiche\, Lyra\, Orion\, Sirius\, Raven\, Luna\, Jack\, Sayen\, Chante and Oberon during a one hour tour of our facility. You must make an appointment before visiting\, and to schedule please call 609-901-1387.
URL:https://howlingwoods.org/event/visit-the-farm-566/
ORGANIZER;CN="Howling Woods Farm":MAILTO:luv2howl@optonline.net
END:VEVENT
BEGIN:VEVENT
DTSTART;VALUE=DATE:20240118
DTEND;VALUE=DATE:20240119
DTSTAMP:20260420T224012
CREATED:20231214T003851Z
LAST-MODIFIED:20231214T003851Z
UID:50838-1705536000-1705622399@howlingwoods.org
SUMMARY:Farm Closed
DESCRIPTION:
URL:https://howlingwoods.org/event/farm-closed-519/
END:VEVENT
BEGIN:VEVENT
DTSTART;VALUE=DATE:20240119
DTEND;VALUE=DATE:20240121
DTSTAMP:20260420T224012
CREATED:20231128T054505Z
LAST-MODIFIED:20231128T054505Z
UID:50582-1705622400-1705795199@howlingwoods.org
SUMMARY:Visit the Farm
DESCRIPTION:Come to the farm and meet Naiche\, Lyra\, Orion\, Sirius\, Raven\, Luna\, Jack\, Sayen\, Chante and Oberon during a one hour tour of our facility. You must make an appointment before visiting\, and to schedule please call 609-901-1387.
URL:https://howlingwoods.org/event/visit-the-farm-572/
LOCATION:Howling Woods Farm\, 1371 W Veterans Hwy\, Jackson\, New Jersey\, 08527
ORGANIZER;CN="Howling Woods Farm":MAILTO:luv2howl@optonline.net
END:VEVENT
BEGIN:VEVENT
DTSTART;VALUE=DATE:20240120
DTEND;VALUE=DATE:20240121
DTSTAMP:20260420T224012
CREATED:20231128T203103Z
LAST-MODIFIED:20231128T203103Z
UID:50601-1705708800-1705795199@howlingwoods.org
SUMMARY:Visit the Farm
DESCRIPTION:Come to the farm and meet Naiche\, Lyra\, Orion\, Sirius\, Raven\, Luna\, Jack\, Oberon\, Sayen & Chante during a one hour tour of our facility. You must make an appointment before visiting\, and to schedule please call 609-901-1387.
URL:https://howlingwoods.org/event/visit-the-farm-577/
LOCATION:Howling Woods Farm\, 1371 W Veterans Hwy\, Jackson\, New Jersey\, 08527
ORGANIZER;CN="Howling Woods Farm":MAILTO:luv2howl@optonline.net
END:VEVENT
BEGIN:VEVENT
DTSTART;VALUE=DATE:20240121
DTEND;VALUE=DATE:20240124
DTSTAMP:20260420T224012
CREATED:20231214T003935Z
LAST-MODIFIED:20231214T003935Z
UID:50840-1705795200-1706054399@howlingwoods.org
SUMMARY:Farm Closed
DESCRIPTION:
URL:https://howlingwoods.org/event/farm-closed-520/
END:VEVENT
BEGIN:VEVENT
DTSTART;VALUE=DATE:20240124
DTEND;VALUE=DATE:20240125
DTSTAMP:20260420T224012
CREATED:20231128T054634Z
LAST-MODIFIED:20231128T054634Z
UID:50584-1706054400-1706140799@howlingwoods.org
SUMMARY:Visit the Farm
DESCRIPTION:Come to the farm and meet Naiche\, Lyra\, Orion\, Sirius\, Raven\, Luna\, Jack\, Sayen\, Chante and Oberon during a one hour tour of our facility. You must make an appointment before visiting\, and to schedule please call 609-901-1387.
URL:https://howlingwoods.org/event/visit-the-farm-573/
LOCATION:Howling Woods Farm\, 1371 W Veterans Hwy\, Jackson\, New Jersey\, 08527
ORGANIZER;CN="Howling Woods Farm":MAILTO:luv2howl@optonline.net
END:VEVENT
BEGIN:VEVENT
DTSTART;VALUE=DATE:20240125
DTEND;VALUE=DATE:20240126
DTSTAMP:20260420T224012
CREATED:20231214T004023Z
LAST-MODIFIED:20231214T004023Z
UID:50842-1706140800-1706227199@howlingwoods.org
SUMMARY:Farm Closed
DESCRIPTION:
URL:https://howlingwoods.org/event/farm-closed-521/
END:VEVENT
BEGIN:VEVENT
DTSTART;VALUE=DATE:20240126
DTEND;VALUE=DATE:20240127
DTSTAMP:20260420T224012
CREATED:20231128T054747Z
LAST-MODIFIED:20231128T054747Z
UID:50586-1706227200-1706313599@howlingwoods.org
SUMMARY:Visit the Farm
DESCRIPTION:Come to the farm and meet Naiche\, Lyra\, Orion\, Sirius\, Raven\, Luna\, Jack\, Sayen\, Chante and Oberon during a one hour tour of our facility. You must make an appointment before visiting\, and to schedule please call 609-901-1387.
URL:https://howlingwoods.org/event/visit-the-farm-574/
LOCATION:Howling Woods Farm\, 1371 W Veterans Hwy\, Jackson\, New Jersey\, 08527
ORGANIZER;CN="Howling Woods Farm":MAILTO:luv2howl@optonline.net
END:VEVENT
BEGIN:VEVENT
DTSTART;VALUE=DATE:20240127
DTEND;VALUE=DATE:20240128
DTSTAMP:20260420T224012
CREATED:20231214T004332Z
LAST-MODIFIED:20231214T004332Z
UID:50844-1706313600-1706399999@howlingwoods.org
SUMMARY:Farm Closed
DESCRIPTION:
URL:https://howlingwoods.org/event/farm-closed-522/
END:VEVENT
BEGIN:VEVENT
DTSTART;VALUE=DATE:20240128
DTEND;VALUE=DATE:20240129
DTSTAMP:20260420T224012
CREATED:20231128T054906Z
LAST-MODIFIED:20231128T054906Z
UID:50588-1706400000-1706486399@howlingwoods.org
SUMMARY:Visit the Farm
DESCRIPTION:Come to the farm and meet Naiche\, Lyra\, Orion\, Sirius\, Raven\, Luna\, Jack\, Sayen\, Chante and Oberon during a one hour tour of our facility. You must make an appointment before visiting\, and to schedule please call 609-901-1387.
URL:https://howlingwoods.org/event/visit-the-farm-575/
LOCATION:Howling Woods Farm\, 1371 W Veterans Hwy\, Jackson\, New Jersey\, 08527
ORGANIZER;CN="Howling Woods Farm":MAILTO:luv2howl@optonline.net
END:VEVENT
BEGIN:VEVENT
DTSTART;VALUE=DATE:20240129
DTEND;VALUE=DATE:20240131
DTSTAMP:20260420T224012
CREATED:20231214T004406Z
LAST-MODIFIED:20231214T004406Z
UID:50846-1706486400-1706659199@howlingwoods.org
SUMMARY:Farm Closed
DESCRIPTION:
URL:https://howlingwoods.org/event/farm-closed-523/
END:VEVENT
BEGIN:VEVENT
DTSTART;VALUE=DATE:20240131
DTEND;VALUE=DATE:20240201
DTSTAMP:20260420T224012
CREATED:20231128T203520Z
LAST-MODIFIED:20231128T203520Z
UID:50603-1706659200-1706745599@howlingwoods.org
SUMMARY:Visit the Farm
DESCRIPTION:Come to the farm and meet Naiche\, Lyra\, Orion\, Sirius\, Raven\, Luna\, Jack\, Oberon\, Sayen & Chante during a one hour tour of our facility. You must make an appointment before visiting\, and to schedule please call 609-901-1387.
URL:https://howlingwoods.org/event/visit-the-farm-578/
LOCATION:Howling Woods Farm\, 1371 W Veterans Hwy\, Jackson\, New Jersey\, 08527
ORGANIZER;CN="Howling Woods Farm":MAILTO:luv2howl@optonline.net
END:VEVENT
BEGIN:VEVENT
DTSTART;VALUE=DATE:20240202
DTEND;VALUE=DATE:20240203
DTSTAMP:20260420T224012
CREATED:20231128T204534Z
LAST-MODIFIED:20231128T204534Z
UID:50628-1706832000-1706918399@howlingwoods.org
SUMMARY:Visit the Farm
DESCRIPTION:Come to the farm and meet Naiche\, Lyra\, Orion\, Sirius\, Raven\, Luna\, Jack\, Oberon\, Sayen & Chante during a one hour tour of our facility. You must make an appointment before visiting\, and to schedule please call 609-901-1387.
URL:https://howlingwoods.org/event/visit-the-farm-579/
LOCATION:Howling Woods Farm\, 1371 W Veterans Hwy\, Jackson\, New Jersey\, 08527
ORGANIZER;CN="Howling Woods Farm":MAILTO:luv2howl@optonline.net
END:VEVENT
BEGIN:VEVENT
DTSTART;VALUE=DATE:20240203
DTEND;VALUE=DATE:20240204
DTSTAMP:20260420T224012
CREATED:20231128T210829Z
LAST-MODIFIED:20231128T210829Z
UID:50648-1706918400-1707004799@howlingwoods.org
SUMMARY:Visit the Farm
DESCRIPTION:Come to the farm and meet Naiche\, Lyra\, Orion\, Sirius\, Raven\, Luna\, Jack\, Oberon\, Sayen & Chante during a one hour tour of our facility. You must make an appointment before visiting\, and to schedule please call 609-901-1387.
URL:https://howlingwoods.org/event/visit-the-farm-588/
LOCATION:Howling Woods Farm\, 1371 W Veterans Hwy\, Jackson\, New Jersey\, 08527
ORGANIZER;CN="Howling Woods Farm":MAILTO:luv2howl@optonline.net
END:VEVENT
BEGIN:VEVENT
DTSTART;TZID=UTC:20240204T100000
DTEND;TZID=UTC:20240204T150000
DTSTAMP:20260420T224012
CREATED:20231128T212131Z
LAST-MODIFIED:20231128T212507Z
UID:50653-1707040800-1707058800@howlingwoods.org
SUMMARY:Fire and Ice Festival
DESCRIPTION:Come to the Fire and Ice Festival at the New Egypt Flea Market on Sunday\, February 4 and meet some of our animals.  Howling Woods Farm will be present on Sunday 10am until closing.
URL:https://howlingwoods.org/event/50653/
LOCATION:New Egypt Flea Market Village\, 933 Monmouth Rd\, Cream Ridge\, NJ
END:VEVENT
BEGIN:VEVENT
DTSTART;VALUE=DATE:20240207
DTEND;VALUE=DATE:20240208
DTSTAMP:20260420T224012
CREATED:20231230T033600Z
LAST-MODIFIED:20231230T033600Z
UID:50992-1707264000-1707350399@howlingwoods.org
SUMMARY:Visit the Farm
DESCRIPTION:Come to the farm and meet Naiche\, Lyra\, Orion\, Sirius\, Raven\, Luna\, Jack\, Oberon\, Sayen & Chante during a one hour tour of our facility. You must make an appointment before visiting\, and to schedule please call 609-901-1387.
URL:https://howlingwoods.org/event/visit-the-farm-589/
LOCATION:Howling Woods Farm\, 1371 W Veterans Hwy\, Jackson\, New Jersey\, 08527
ORGANIZER;CN="Howling Woods Farm":MAILTO:luv2howl@optonline.net
END:VEVENT
BEGIN:VEVENT
DTSTART;VALUE=DATE:20240209
DTEND;VALUE=DATE:20240210
DTSTAMP:20260420T224012
CREATED:20231230T033656Z
LAST-MODIFIED:20231230T033656Z
UID:50994-1707436800-1707523199@howlingwoods.org
SUMMARY:Visit the Farm
DESCRIPTION:Come to the farm and meet Naiche\, Lyra\, Orion\, Sirius\, Raven\, Luna\, Jack\, Oberon\, Sayen & Chante during a one hour tour of our facility. You must make an appointment before visiting\, and to schedule please call 609-901-1387.
URL:https://howlingwoods.org/event/visit-the-farm-590/
LOCATION:Howling Woods Farm\, 1371 W Veterans Hwy\, Jackson\, New Jersey\, 08527
ORGANIZER;CN="Howling Woods Farm":MAILTO:luv2howl@optonline.net
END:VEVENT
BEGIN:VEVENT
DTSTART;VALUE=DATE:20240211
DTEND;VALUE=DATE:20240212
DTSTAMP:20260420T224012
CREATED:20231128T205530Z
LAST-MODIFIED:20231128T205530Z
UID:50632-1707609600-1707695999@howlingwoods.org
SUMMARY:Visit the Farm
DESCRIPTION:Come to the farm and meet Naiche\, Lyra\, Orion\, Sirius\, Raven\, Luna\, Jack\, Oberon\, Sayen & Chante during a one hour tour of our facility. You must make an appointment before visiting\, and to schedule please call 609-901-1387.
URL:https://howlingwoods.org/event/visit-the-farm-580/
LOCATION:Howling Woods Farm\, 1371 W Veterans Hwy\, Jackson\, New Jersey\, 08527
ORGANIZER;CN="Howling Woods Farm":MAILTO:luv2howl@optonline.net
END:VEVENT
BEGIN:VEVENT
DTSTART;VALUE=DATE:20240214
DTEND;VALUE=DATE:20240215
DTSTAMP:20260420T224012
CREATED:20231230T033823Z
LAST-MODIFIED:20231230T033823Z
UID:50996-1707868800-1707955199@howlingwoods.org
SUMMARY:Visit the Farm
DESCRIPTION:Come to the farm and meet Naiche\, Lyra\, Orion\, Sirius\, Raven\, Luna\, Jack\, Oberon\, Sayen & Chante during a one hour tour of our facility. You must make an appointment before visiting\, and to schedule please call 609-901-1387.
URL:https://howlingwoods.org/event/visit-the-farm-591/
LOCATION:Howling Woods Farm\, 1371 W Veterans Hwy\, Jackson\, New Jersey\, 08527
ORGANIZER;CN="Howling Woods Farm":MAILTO:luv2howl@optonline.net
END:VEVENT
BEGIN:VEVENT
DTSTART;VALUE=DATE:20240216
DTEND;VALUE=DATE:20240217
DTSTAMP:20260420T224012
CREATED:20231230T033934Z
LAST-MODIFIED:20231230T033934Z
UID:50998-1708041600-1708127999@howlingwoods.org
SUMMARY:Visit the Farm
DESCRIPTION:Come to the farm and meet Naiche\, Lyra\, Orion\, Sirius\, Raven\, Luna\, Jack\, Oberon\, Sayen & Chante during a one hour tour of our facility. You must make an appointment before visiting\, and to schedule please call 609-901-1387.
URL:https://howlingwoods.org/event/visit-the-farm-592/
LOCATION:Howling Woods Farm\, 1371 W Veterans Hwy\, Jackson\, New Jersey\, 08527
ORGANIZER;CN="Howling Woods Farm":MAILTO:luv2howl@optonline.net
END:VEVENT
BEGIN:VEVENT
DTSTART;VALUE=DATE:20240217
DTEND;VALUE=DATE:20240218
DTSTAMP:20260420T224012
CREATED:20231128T205657Z
LAST-MODIFIED:20231128T205657Z
UID:50634-1708128000-1708214399@howlingwoods.org
SUMMARY:Visit the Farm
DESCRIPTION:Come to the farm and meet Naiche\, Lyra\, Orion\, Sirius\, Raven\, Luna\, Jack\, Oberon\, Sayen & Chante during a one hour tour of our facility. You must make an appointment before visiting\, and to schedule please call 609-901-1387.
URL:https://howlingwoods.org/event/visit-the-farm-581/
LOCATION:Howling Woods Farm\, 1371 W Veterans Hwy\, Jackson\, New Jersey\, 08527
ORGANIZER;CN="Howling Woods Farm":MAILTO:luv2howl@optonline.net
END:VEVENT
BEGIN:VEVENT
DTSTART;VALUE=DATE:20240221
DTEND;VALUE=DATE:20240222
DTSTAMP:20260420T224012
CREATED:20231230T034116Z
LAST-MODIFIED:20231230T034116Z
UID:51000-1708473600-1708559999@howlingwoods.org
SUMMARY:Visit the Farm
DESCRIPTION:Come to the farm and meet Naiche\, Lyra\, Orion\, Sirius\, Raven\, Luna\, Jack\, Oberon\, Sayen & Chante during a one hour tour of our facility. You must make an appointment before visiting\, and to schedule please call 609-901-1387.
URL:https://howlingwoods.org/event/visit-the-farm-593/
LOCATION:Howling Woods Farm\, 1371 W Veterans Hwy\, Jackson\, New Jersey\, 08527
ORGANIZER;CN="Howling Woods Farm":MAILTO:luv2howl@optonline.net
END:VEVENT
BEGIN:VEVENT
DTSTART;VALUE=DATE:20240223
DTEND;VALUE=DATE:20240224
DTSTAMP:20260420T224012
CREATED:20231230T034221Z
LAST-MODIFIED:20231230T034221Z
UID:51002-1708646400-1708732799@howlingwoods.org
SUMMARY:Visit the Farm
DESCRIPTION:Come to the farm and meet Naiche\, Lyra\, Orion\, Sirius\, Raven\, Luna\, Jack\, Oberon\, Sayen & Chante during a one hour tour of our facility. You must make an appointment before visiting\, and to schedule please call 609-901-1387.
URL:https://howlingwoods.org/event/visit-the-farm-594/
LOCATION:Howling Woods Farm\, 1371 W Veterans Hwy\, Jackson\, New Jersey\, 08527
ORGANIZER;CN="Howling Woods Farm":MAILTO:luv2howl@optonline.net
END:VEVENT
BEGIN:VEVENT
DTSTART;VALUE=DATE:20240225
DTEND;VALUE=DATE:20240226
DTSTAMP:20260420T224012
CREATED:20231128T205816Z
LAST-MODIFIED:20231128T205816Z
UID:50636-1708819200-1708905599@howlingwoods.org
SUMMARY:Visit the Farm
DESCRIPTION:Come to the farm and meet Naiche\, Lyra\, Orion\, Sirius\, Raven\, Luna\, Jack\, Oberon\, Sayen & Chante during a one hour tour of our facility. You must make an appointment before visiting\, and to schedule please call 609-901-1387.
URL:https://howlingwoods.org/event/visit-the-farm-582/
LOCATION:Howling Woods Farm\, 1371 W Veterans Hwy\, Jackson\, New Jersey\, 08527
ORGANIZER;CN="Howling Woods Farm":MAILTO:luv2howl@optonline.net
END:VEVENT
BEGIN:VEVENT
DTSTART;TZID=UTC:20240227T140000
DTEND;TZID=UTC:20240227T170000
DTSTAMP:20260420T224012
CREATED:20240223T035210Z
LAST-MODIFIED:20240223T035210Z
UID:51665-1709042400-1709053200@howlingwoods.org
SUMMARY:Presentation - Monroe Village (private)
DESCRIPTION:
URL:https://howlingwoods.org/event/presentation-monroe-village-private-2/
END:VEVENT
BEGIN:VEVENT
DTSTART;VALUE=DATE:20240228
DTEND;VALUE=DATE:20240229
DTSTAMP:20260420T224012
CREATED:20231230T034408Z
LAST-MODIFIED:20231230T034408Z
UID:51004-1709078400-1709164799@howlingwoods.org
SUMMARY:Visit the Farm
DESCRIPTION:Come to the farm and meet Naiche\, Lyra\, Orion\, Sirius\, Raven\, Luna\, Jack\, Oberon\, Sayen & Chante during a one hour tour of our facility. You must make an appointment before visiting\, and to schedule please call 609-901-1387.
URL:https://howlingwoods.org/event/visit-the-farm-595/
LOCATION:Howling Woods Farm\, 1371 W Veterans Hwy\, Jackson\, New Jersey\, 08527
ORGANIZER;CN="Howling Woods Farm":MAILTO:luv2howl@optonline.net
END:VEVENT
BEGIN:VEVENT
DTSTART;VALUE=DATE:20240301
DTEND;VALUE=DATE:20240302
DTSTAMP:20260420T224012
CREATED:20231230T034515Z
LAST-MODIFIED:20231230T034515Z
UID:51006-1709251200-1709337599@howlingwoods.org
SUMMARY:Visit the Farm
DESCRIPTION:Come to the farm and meet Naiche\, Lyra\, Orion\, Sirius\, Raven\, Luna\, Jack\, Oberon\, Sayen & Chante during a one hour tour of our facility. You must make an appointment before visiting\, and to schedule please call 609-901-1387.
URL:https://howlingwoods.org/event/visit-the-farm-596/
LOCATION:Howling Woods Farm\, 1371 W Veterans Hwy\, Jackson\, New Jersey\, 08527
ORGANIZER;CN="Howling Woods Farm":MAILTO:luv2howl@optonline.net
END:VEVENT
BEGIN:VEVENT
DTSTART;VALUE=DATE:20240302
DTEND;VALUE=DATE:20240303
DTSTAMP:20260420T224012
CREATED:20231128T210011Z
LAST-MODIFIED:20231128T210011Z
UID:50638-1709337600-1709423999@howlingwoods.org
SUMMARY:Visit the Farm
DESCRIPTION:Come to the farm and meet Naiche\, Lyra\, Orion\, Sirius\, Raven\, Luna\, Jack\, Oberon\, Sayen & Chante during a one hour tour of our facility. You must make an appointment before visiting\, and to schedule please call 609-901-1387.
URL:https://howlingwoods.org/event/visit-the-farm-583/
LOCATION:Howling Woods Farm\, 1371 W Veterans Hwy\, Jackson\, New Jersey\, 08527
ORGANIZER;CN="Howling Woods Farm":MAILTO:luv2howl@optonline.net
END:VEVENT
BEGIN:VEVENT
DTSTART;VALUE=DATE:20240303
DTEND;VALUE=DATE:20240304
DTSTAMP:20260420T224012
CREATED:20240119T235230Z
LAST-MODIFIED:20240119T235230Z
UID:51263-1709424000-1709510399@howlingwoods.org
SUMMARY:Farm Closed
DESCRIPTION:
URL:https://howlingwoods.org/event/farm-closed-524/
END:VEVENT
END:VCALENDAR