BEGIN:VCALENDAR
VERSION:2.0
PRODID:-//Howling Woods Farm - ECPv6.15.20//NONSGML v1.0//EN
CALSCALE:GREGORIAN
METHOD:PUBLISH
X-ORIGINAL-URL:https://howlingwoods.org
X-WR-CALDESC:Events for Howling Woods Farm
REFRESH-INTERVAL;VALUE=DURATION:PT1H
X-Robots-Tag:noindex
X-PUBLISHED-TTL:PT1H
BEGIN:VTIMEZONE
TZID:UTC
BEGIN:STANDARD
TZOFFSETFROM:+0000
TZOFFSETTO:+0000
TZNAME:UTC
DTSTART:20220101T000000
END:STANDARD
END:VTIMEZONE
BEGIN:VEVENT
DTSTART;TZID=UTC:20231202T100000
DTEND;TZID=UTC:20231202T160000
DTSTAMP:20260420T192403
CREATED:20231108T043016Z
LAST-MODIFIED:20231108T043016Z
UID:50375-1701511200-1701532800@howlingwoods.org
SUMMARY:Photos with Santa and His Wolf
DESCRIPTION:Come to the farm with you family and have your photo taken with Santa and his wolf.  No reservation required.  You can bring pets as will\, though a wolf will not be present.
URL:https://howlingwoods.org/event/photos-with-santa-and-his-wolf-2/
LOCATION:Howling Woods Farm\, 1371 W Veterans Hwy\, Jackson\, New Jersey\, 08527
ORGANIZER;CN="Howling Woods Farm":MAILTO:luv2howl@optonline.net
END:VEVENT
BEGIN:VEVENT
DTSTART;VALUE=DATE:20231206
DTEND;VALUE=DATE:20231207
DTSTAMP:20260420T192403
CREATED:20231108T034418Z
LAST-MODIFIED:20231108T034418Z
UID:50348-1701820800-1701907199@howlingwoods.org
SUMMARY:Visit the Farm
DESCRIPTION:Come to the farm and meet Naiche\, Lyra\, Orion\, Sirius\, Raven\, Luna\, Jack\, Oberon\, Sayen & Chante during a one hour tour of our facility. You must make an appointment before visiting\, and to schedule please call 609-901-1387.
URL:https://howlingwoods.org/event/visit-the-farm-558/
LOCATION:Howling Woods Farm\, 1371 W Veterans Hwy\, Jackson\, New Jersey\, 08527
ORGANIZER;CN="Howling Woods Farm":MAILTO:luv2howl@optonline.net
END:VEVENT
BEGIN:VEVENT
DTSTART;VALUE=DATE:20231208
DTEND;VALUE=DATE:20231210
DTSTAMP:20260420T192403
CREATED:20231108T034653Z
LAST-MODIFIED:20231108T034653Z
UID:50350-1701993600-1702166399@howlingwoods.org
SUMMARY:Visit the Farm
DESCRIPTION:Come to the farm and meet Naiche\, Lyra\, Orion\, Sirius\, Raven\, Luna\, Jack\, Oberon\, Sayen & Chante during a one hour tour of our facility. You must make an appointment before visiting\, and to schedule please call 609-901-1387.
URL:https://howlingwoods.org/event/visit-the-farm-559/
LOCATION:Howling Woods Farm\, 1371 W Veterans Hwy\, Jackson\, New Jersey\, 08527
ORGANIZER;CN="Howling Woods Farm":MAILTO:luv2howl@optonline.net
END:VEVENT
BEGIN:VEVENT
DTSTART;VALUE=DATE:20231213
DTEND;VALUE=DATE:20231214
DTSTAMP:20260420T192403
CREATED:20231108T034809Z
LAST-MODIFIED:20231108T034809Z
UID:50352-1702425600-1702511999@howlingwoods.org
SUMMARY:Visit the Farm
DESCRIPTION:Come to the farm and meet Naiche\, Lyra\, Orion\, Sirius\, Raven\, Luna\, Jack\, Oberon\, Sayen & Chante during a one hour tour of our facility. You must make an appointment before visiting\, and to schedule please call 609-901-1387.
URL:https://howlingwoods.org/event/visit-the-farm-560/
LOCATION:Howling Woods Farm\, 1371 W Veterans Hwy\, Jackson\, New Jersey\, 08527
ORGANIZER;CN="Howling Woods Farm":MAILTO:luv2howl@optonline.net
END:VEVENT
BEGIN:VEVENT
DTSTART;VALUE=DATE:20231215
DTEND;VALUE=DATE:20231216
DTSTAMP:20260420T192403
CREATED:20231108T034920Z
LAST-MODIFIED:20231108T034920Z
UID:50354-1702598400-1702684799@howlingwoods.org
SUMMARY:Visit the Farm
DESCRIPTION:Come to the farm and meet Naiche\, Lyra\, Orion\, Sirius\, Raven\, Luna\, Jack\, Oberon\, Sayen & Chante during a one hour tour of our facility. You must make an appointment before visiting\, and to schedule please call 609-901-1387.
URL:https://howlingwoods.org/event/visit-the-farm-561/
LOCATION:Howling Woods Farm\, 1371 W Veterans Hwy\, Jackson\, New Jersey\, 08527
ORGANIZER;CN="Howling Woods Farm":MAILTO:luv2howl@optonline.net
END:VEVENT
BEGIN:VEVENT
DTSTART;VALUE=DATE:20231217
DTEND;VALUE=DATE:20231218
DTSTAMP:20260420T192403
CREATED:20231108T035013Z
LAST-MODIFIED:20231108T035013Z
UID:50356-1702771200-1702857599@howlingwoods.org
SUMMARY:Visit the Farm
DESCRIPTION:Come to the farm and meet Naiche\, Lyra\, Orion\, Sirius\, Raven\, Luna\, Jack\, Oberon\, Sayen & Chante during a one hour tour of our facility. You must make an appointment before visiting\, and to schedule please call 609-901-1387.
URL:https://howlingwoods.org/event/visit-the-farm-562/
LOCATION:Howling Woods Farm\, 1371 W Veterans Hwy\, Jackson\, New Jersey\, 08527
ORGANIZER;CN="Howling Woods Farm":MAILTO:luv2howl@optonline.net
END:VEVENT
BEGIN:VEVENT
DTSTART;TZID=UTC:20231217T100000
DTEND;TZID=UTC:20231217T160000
DTSTAMP:20260420T192403
CREATED:20231108T043148Z
LAST-MODIFIED:20231108T043148Z
UID:50377-1702807200-1702828800@howlingwoods.org
SUMMARY:Photos with Santa and His Wolf
DESCRIPTION:Come to the farm with you family and have your photo taken with Santa and his wolf.  No reservation required.  You can bring pets as will\, though a wolf will not be present.
URL:https://howlingwoods.org/event/photos-with-santa-and-his-wolf-3/
LOCATION:Howling Woods Farm\, 1371 W Veterans Hwy\, Jackson\, New Jersey\, 08527
ORGANIZER;CN="Howling Woods Farm":MAILTO:luv2howl@optonline.net
END:VEVENT
BEGIN:VEVENT
DTSTART;VALUE=DATE:20231220
DTEND;VALUE=DATE:20231221
DTSTAMP:20260420T192403
CREATED:20231108T035123Z
LAST-MODIFIED:20231108T035123Z
UID:50358-1703030400-1703116799@howlingwoods.org
SUMMARY:Visit the Farm
DESCRIPTION:Come to the farm and meet Naiche\, Lyra\, Orion\, Sirius\, Raven\, Luna\, Jack\, Oberon\, Sayen & Chante during a one hour tour of our facility. You must make an appointment before visiting\, and to schedule please call 609-901-1387.
URL:https://howlingwoods.org/event/visit-the-farm-563/
LOCATION:Howling Woods Farm\, 1371 W Veterans Hwy\, Jackson\, New Jersey\, 08527
ORGANIZER;CN="Howling Woods Farm":MAILTO:luv2howl@optonline.net
END:VEVENT
BEGIN:VEVENT
DTSTART;VALUE=DATE:20231222
DTEND;VALUE=DATE:20231224
DTSTAMP:20260420T192403
CREATED:20231108T035237Z
LAST-MODIFIED:20231108T035237Z
UID:50360-1703203200-1703375999@howlingwoods.org
SUMMARY:Visit the Farm
DESCRIPTION:Come to the farm and meet Naiche\, Lyra\, Orion\, Sirius\, Raven\, Luna\, Jack\, Oberon\, Sayen & Chante during a one hour tour of our facility. You must make an appointment before visiting\, and to schedule please call 609-901-1387.
URL:https://howlingwoods.org/event/visit-the-farm-564/
LOCATION:Howling Woods Farm\, 1371 W Veterans Hwy\, Jackson\, New Jersey\, 08527
ORGANIZER;CN="Howling Woods Farm":MAILTO:luv2howl@optonline.net
END:VEVENT
BEGIN:VEVENT
DTSTART;VALUE=DATE:20231226
DTEND;VALUE=DATE:20231229
DTSTAMP:20260420T192403
CREATED:20231108T035822Z
LAST-MODIFIED:20231128T194707Z
UID:50362-1703548800-1703807999@howlingwoods.org
SUMMARY:Visit the Farm
DESCRIPTION:Come to the farm and meet Naiche\, Lyra\, Orion\, Sirius\, Raven\, Luna\, Jack\, Oberon\, Sayen & Chante during a one hour tour of our facility. You must make an appointment before visiting\, and to schedule please call 609-901-1387.
URL:https://howlingwoods.org/event/visit-the-farm-565/
LOCATION:Howling Woods Farm\, 1371 W Veterans Hwy\, Jackson\, New Jersey\, 08527
ORGANIZER;CN="Howling Woods Farm":MAILTO:luv2howl@optonline.net
END:VEVENT
BEGIN:VEVENT
DTSTART;VALUE=DATE:20231229
DTEND;VALUE=DATE:20231230
DTSTAMP:20260420T192403
CREATED:20230726T023623Z
LAST-MODIFIED:20231214T002745Z
UID:49475-1703808000-1703894399@howlingwoods.org
SUMMARY:Visit the Farm
DESCRIPTION:Come to the farm and meet Naiche\, Lyra\, Orion\, Sirius\, Raven\, Luna\, Jack\, Oberon\, Sayen & Chante during a one hour tour of our facility. You must make an appointment before visiting\, and to schedule please call 609-901-1387.
URL:https://howlingwoods.org/event/presentation-liberty-science-center/
LOCATION:Howling Woods Farm\, 1371 W Veterans Hwy\, Jackson\, New Jersey\, 08527
ORGANIZER;CN="Howling Woods Farm":MAILTO:luv2howl@optonline.net
END:VEVENT
BEGIN:VEVENT
DTSTART;VALUE=DATE:20231230
DTEND;VALUE=DATE:20231231
DTSTAMP:20260420T192403
CREATED:20231214T003004Z
LAST-MODIFIED:20231214T003004Z
UID:50824-1703894400-1703980799@howlingwoods.org
SUMMARY:Farm Closed
DESCRIPTION:
URL:https://howlingwoods.org/event/farm-closed-512/
END:VEVENT
BEGIN:VEVENT
DTSTART;VALUE=DATE:20231231
DTEND;VALUE=DATE:20240101
DTSTAMP:20260420T192403
CREATED:20230726T023922Z
LAST-MODIFIED:20230726T023922Z
UID:49477-1703980800-1704067199@howlingwoods.org
SUMMARY:Visit the Farm
DESCRIPTION:Come to the farm and meet Naiche\, Lyra\, Orion\, Sirius\, Raven\, Luna\, Jack\, Sayen & Chante during a one hour tour of our facility. You must make an appointment before visiting\, and to schedule please call 609-901-1387.
URL:https://howlingwoods.org/event/visit-the-farm-544/
LOCATION:Howling Woods Farm\, 1371 W Veterans Hwy\, Jackson\, New Jersey\, 08527
ORGANIZER;CN="Howling Woods Farm":MAILTO:luv2howl@optonline.net
END:VEVENT
BEGIN:VEVENT
DTSTART;VALUE=DATE:20240101
DTEND;VALUE=DATE:20240103
DTSTAMP:20260420T192403
CREATED:20231214T003229Z
LAST-MODIFIED:20231214T003229Z
UID:50826-1704067200-1704239999@howlingwoods.org
SUMMARY:Farm Closed
DESCRIPTION:
URL:https://howlingwoods.org/event/farm-closed-513/
END:VEVENT
BEGIN:VEVENT
DTSTART;VALUE=DATE:20240103
DTEND;VALUE=DATE:20240104
DTSTAMP:20260420T192403
CREATED:20231128T035453Z
LAST-MODIFIED:20231128T035453Z
UID:50569-1704240000-1704326399@howlingwoods.org
SUMMARY:Visit the Farm
DESCRIPTION:Come to the farm and meet Naiche\, Lyra\, Orion\, Sirius\, Raven\, Luna\, Jack\, Sayen\, Chante and Oberon during a one hour tour of our facility. You must make an appointment before visiting\, and to schedule please call 609-901-1387.
URL:https://howlingwoods.org/event/visit-the-farm-567/
LOCATION:Howling Woods Farm\, 1371 W Veterans Hwy\, Jackson\, New Jersey\, 08527
ORGANIZER;CN="Howling Woods Farm":MAILTO:luv2howl@optonline.net
END:VEVENT
BEGIN:VEVENT
DTSTART;VALUE=DATE:20240104
DTEND;VALUE=DATE:20240105
DTSTAMP:20260420T192403
CREATED:20231214T003540Z
LAST-MODIFIED:20231214T003540Z
UID:50828-1704326400-1704412799@howlingwoods.org
SUMMARY:Farm Closed
DESCRIPTION:
URL:https://howlingwoods.org/event/farm-closed-514/
END:VEVENT
BEGIN:VEVENT
DTSTART;VALUE=DATE:20240105
DTEND;VALUE=DATE:20240107
DTSTAMP:20260420T192403
CREATED:20231128T035626Z
LAST-MODIFIED:20231128T035626Z
UID:50571-1704412800-1704585599@howlingwoods.org
SUMMARY:Visit the Farm
DESCRIPTION:Come to the farm and meet Naiche\, Lyra\, Orion\, Sirius\, Raven\, Luna\, Jack\, Sayen\, Chante and Oberon during a one hour tour of our facility. You must make an appointment before visiting\, and to schedule please call 609-901-1387.
URL:https://howlingwoods.org/event/visit-the-farm-568/
LOCATION:Howling Woods Farm\, 1371 W Veterans Hwy\, Jackson\, New Jersey\, 08527
ORGANIZER;CN="Howling Woods Farm":MAILTO:luv2howl@optonline.net
END:VEVENT
BEGIN:VEVENT
DTSTART;VALUE=DATE:20240106
DTEND;VALUE=DATE:20240107
DTSTAMP:20260420T192403
CREATED:20231128T202753Z
LAST-MODIFIED:20231128T202753Z
UID:50599-1704499200-1704585599@howlingwoods.org
SUMMARY:Visit the Farm
DESCRIPTION:Come to the farm and meet Naiche\, Lyra\, Orion\, Sirius\, Raven\, Luna\, Jack\, Oberon\, Sayen & Chante during a one hour tour of our facility. You must make an appointment before visiting\, and to schedule please call 609-901-1387.
URL:https://howlingwoods.org/event/visit-the-farm-576/
LOCATION:Howling Woods Farm\, 1371 W Veterans Hwy\, Jackson\, New Jersey\, 08527
ORGANIZER;CN="Howling Woods Farm":MAILTO:luv2howl@optonline.net
END:VEVENT
BEGIN:VEVENT
DTSTART;VALUE=DATE:20240107
DTEND;VALUE=DATE:20240110
DTSTAMP:20260420T192403
CREATED:20231214T003628Z
LAST-MODIFIED:20231214T003628Z
UID:50830-1704585600-1704844799@howlingwoods.org
SUMMARY:Farm Closed
DESCRIPTION:
URL:https://howlingwoods.org/event/farm-closed-515/
END:VEVENT
BEGIN:VEVENT
DTSTART;VALUE=DATE:20240110
DTEND;VALUE=DATE:20240111
DTSTAMP:20260420T192403
CREATED:20231128T035805Z
LAST-MODIFIED:20231128T035805Z
UID:50573-1704844800-1704931199@howlingwoods.org
SUMMARY:Visit the Farm
DESCRIPTION:Come to the farm and meet Naiche\, Lyra\, Orion\, Sirius\, Raven\, Luna\, Jack\, Sayen\, Chante and Oberon during a one hour tour of our facility. You must make an appointment before visiting\, and to schedule please call 609-901-1387.
URL:https://howlingwoods.org/event/visit-the-farm-569/
LOCATION:Howling Woods Farm\, 1371 W Veterans Hwy\, Jackson\, New Jersey\, 08527
ORGANIZER;CN="Howling Woods Farm":MAILTO:luv2howl@optonline.net
END:VEVENT
BEGIN:VEVENT
DTSTART;VALUE=DATE:20240111
DTEND;VALUE=DATE:20240112
DTSTAMP:20260420T192403
CREATED:20231214T003708Z
LAST-MODIFIED:20231214T003708Z
UID:50832-1704931200-1705017599@howlingwoods.org
SUMMARY:Farm Closed
DESCRIPTION:
URL:https://howlingwoods.org/event/farm-closed-516/
END:VEVENT
BEGIN:VEVENT
DTSTART;VALUE=DATE:20240112
DTEND;VALUE=DATE:20240113
DTSTAMP:20260420T192403
CREATED:20231128T035947Z
LAST-MODIFIED:20231128T035947Z
UID:50575-1705017600-1705103999@howlingwoods.org
SUMMARY:Visit the Farm
DESCRIPTION:Come to the farm and meet Naiche\, Lyra\, Orion\, Sirius\, Raven\, Luna\, Jack\, Sayen\, Chante and Oberon during a one hour tour of our facility. You must make an appointment before visiting\, and to schedule please call 609-901-1387.
URL:https://howlingwoods.org/event/visit-the-farm-570/
LOCATION:Howling Woods Farm\, 1371 W Veterans Hwy\, Jackson\, New Jersey\, 08527
ORGANIZER;CN="Howling Woods Farm":MAILTO:luv2howl@optonline.net
END:VEVENT
BEGIN:VEVENT
DTSTART;VALUE=DATE:20240113
DTEND;VALUE=DATE:20240114
DTSTAMP:20260420T192403
CREATED:20231214T003736Z
LAST-MODIFIED:20231214T003736Z
UID:50834-1705104000-1705190399@howlingwoods.org
SUMMARY:Farm Closed
DESCRIPTION:
URL:https://howlingwoods.org/event/farm-closed-517/
END:VEVENT
BEGIN:VEVENT
DTSTART;VALUE=DATE:20240114
DTEND;VALUE=DATE:20240115
DTSTAMP:20260420T192403
CREATED:20231128T040103Z
LAST-MODIFIED:20231128T040103Z
UID:50577-1705190400-1705276799@howlingwoods.org
SUMMARY:Visit the Farm
DESCRIPTION:Come to the farm and meet Naiche\, Lyra\, Orion\, Sirius\, Raven\, Luna\, Jack\, Sayen\, Chante and Oberon during a one hour tour of our facility. You must make an appointment before visiting\, and to schedule please call 609-901-1387.
URL:https://howlingwoods.org/event/visit-the-farm-571/
LOCATION:Howling Woods Farm\, 1371 W Veterans Hwy\, Jackson\, New Jersey\, 08527
ORGANIZER;CN="Howling Woods Farm":MAILTO:luv2howl@optonline.net
END:VEVENT
BEGIN:VEVENT
DTSTART;VALUE=DATE:20240115
DTEND;VALUE=DATE:20240117
DTSTAMP:20260420T192403
CREATED:20231214T003816Z
LAST-MODIFIED:20231214T003816Z
UID:50836-1705276800-1705449599@howlingwoods.org
SUMMARY:Farm Closed
DESCRIPTION:
URL:https://howlingwoods.org/event/farm-closed-518/
END:VEVENT
BEGIN:VEVENT
DTSTART;VALUE=DATE:20240117
DTEND;VALUE=DATE:20240118
DTSTAMP:20260420T192403
CREATED:20231128T054345Z
LAST-MODIFIED:20231128T054345Z
UID:50580-1705449600-1705535999@howlingwoods.org
SUMMARY:Visit the Farm
DESCRIPTION:Come to the farm and meet Naiche\, Lyra\, Orion\, Sirius\, Raven\, Luna\, Jack\, Sayen\, Chante and Oberon during a one hour tour of our facility. You must make an appointment before visiting\, and to schedule please call 609-901-1387.
URL:https://howlingwoods.org/event/visit-the-farm-566/
ORGANIZER;CN="Howling Woods Farm":MAILTO:luv2howl@optonline.net
END:VEVENT
BEGIN:VEVENT
DTSTART;VALUE=DATE:20240118
DTEND;VALUE=DATE:20240119
DTSTAMP:20260420T192403
CREATED:20231214T003851Z
LAST-MODIFIED:20231214T003851Z
UID:50838-1705536000-1705622399@howlingwoods.org
SUMMARY:Farm Closed
DESCRIPTION:
URL:https://howlingwoods.org/event/farm-closed-519/
END:VEVENT
BEGIN:VEVENT
DTSTART;VALUE=DATE:20240119
DTEND;VALUE=DATE:20240121
DTSTAMP:20260420T192403
CREATED:20231128T054505Z
LAST-MODIFIED:20231128T054505Z
UID:50582-1705622400-1705795199@howlingwoods.org
SUMMARY:Visit the Farm
DESCRIPTION:Come to the farm and meet Naiche\, Lyra\, Orion\, Sirius\, Raven\, Luna\, Jack\, Sayen\, Chante and Oberon during a one hour tour of our facility. You must make an appointment before visiting\, and to schedule please call 609-901-1387.
URL:https://howlingwoods.org/event/visit-the-farm-572/
LOCATION:Howling Woods Farm\, 1371 W Veterans Hwy\, Jackson\, New Jersey\, 08527
ORGANIZER;CN="Howling Woods Farm":MAILTO:luv2howl@optonline.net
END:VEVENT
BEGIN:VEVENT
DTSTART;VALUE=DATE:20240120
DTEND;VALUE=DATE:20240121
DTSTAMP:20260420T192403
CREATED:20231128T203103Z
LAST-MODIFIED:20231128T203103Z
UID:50601-1705708800-1705795199@howlingwoods.org
SUMMARY:Visit the Farm
DESCRIPTION:Come to the farm and meet Naiche\, Lyra\, Orion\, Sirius\, Raven\, Luna\, Jack\, Oberon\, Sayen & Chante during a one hour tour of our facility. You must make an appointment before visiting\, and to schedule please call 609-901-1387.
URL:https://howlingwoods.org/event/visit-the-farm-577/
LOCATION:Howling Woods Farm\, 1371 W Veterans Hwy\, Jackson\, New Jersey\, 08527
ORGANIZER;CN="Howling Woods Farm":MAILTO:luv2howl@optonline.net
END:VEVENT
BEGIN:VEVENT
DTSTART;VALUE=DATE:20240121
DTEND;VALUE=DATE:20240124
DTSTAMP:20260420T192403
CREATED:20231214T003935Z
LAST-MODIFIED:20231214T003935Z
UID:50840-1705795200-1706054399@howlingwoods.org
SUMMARY:Farm Closed
DESCRIPTION:
URL:https://howlingwoods.org/event/farm-closed-520/
END:VEVENT
END:VCALENDAR