BEGIN:VCALENDAR
VERSION:2.0
PRODID:-//Howling Woods Farm - ECPv6.15.20//NONSGML v1.0//EN
CALSCALE:GREGORIAN
METHOD:PUBLISH
X-WR-CALNAME:Howling Woods Farm
X-ORIGINAL-URL:https://howlingwoods.org
X-WR-CALDESC:Events for Howling Woods Farm
REFRESH-INTERVAL;VALUE=DURATION:PT1H
X-Robots-Tag:noindex
X-PUBLISHED-TTL:PT1H
BEGIN:VTIMEZONE
TZID:UTC
BEGIN:STANDARD
TZOFFSETFROM:+0000
TZOFFSETTO:+0000
TZNAME:UTC
DTSTART:20210101T000000
END:STANDARD
END:VTIMEZONE
BEGIN:VEVENT
DTSTART;VALUE=DATE:20220302
DTEND;VALUE=DATE:20220303
DTSTAMP:20260420T203731
CREATED:20220107T083808Z
LAST-MODIFIED:20220107T083808Z
UID:42356-1646179200-1646265599@howlingwoods.org
SUMMARY:Visit the Farm
DESCRIPTION:Come to the farm and meet our animals Naiche\, Kotori\, Orion\, Sirius\, Raven\, Luna\, Jack\, Suki\, Sayen & Chante during a one hour tour of our facility. You must make an appointment before visiting\, and to schedule an appointment please call 732-534-5745 or 609-901-1387 Monday thru Friday between 11am and 4pm. We usually book up 4 weeks in advance on weekends\, so please call ahead.
URL:https://howlingwoods.org/event/visit-the-farm-358/
END:VEVENT
BEGIN:VEVENT
DTSTART;VALUE=DATE:20220301
DTEND;VALUE=DATE:20220302
DTSTAMP:20260420T203731
CREATED:20220107T085940Z
LAST-MODIFIED:20220107T085940Z
UID:42394-1646092800-1646179199@howlingwoods.org
SUMMARY:Farm Closed
DESCRIPTION:
URL:https://howlingwoods.org/event/farm-closed-389/
END:VEVENT
BEGIN:VEVENT
DTSTART;VALUE=DATE:20220228
DTEND;VALUE=DATE:20220301
DTSTAMP:20260420T203731
CREATED:20220107T085745Z
LAST-MODIFIED:20220107T085745Z
UID:42392-1646006400-1646092799@howlingwoods.org
SUMMARY:Farm Closed
DESCRIPTION:
URL:https://howlingwoods.org/event/farm-closed-388/
END:VEVENT
BEGIN:VEVENT
DTSTART;VALUE=DATE:20220227
DTEND;VALUE=DATE:20220228
DTSTAMP:20260420T203731
CREATED:20220107T085705Z
LAST-MODIFIED:20220107T085705Z
UID:42390-1645920000-1646006399@howlingwoods.org
SUMMARY:Visit the Farm
DESCRIPTION:Come to the farm and meet our animals Naiche\, Kotori\, Orion\, Sirius\, Raven\, Luna\, Jack\, Suki\, Sayen & Chante during a one hour tour of our facility. You must make an appointment before visiting\, and to schedule an appointment please call 732-534-5745 or 609-901-1387 Monday thru Friday between 11am and 4pm. We usually book up 4 weeks in advance on weekends\, so please call ahead.
URL:https://howlingwoods.org/event/visit-the-farm-365/
END:VEVENT
BEGIN:VEVENT
DTSTART;VALUE=DATE:20220226
DTEND;VALUE=DATE:20220227
DTSTAMP:20260420T203731
CREATED:20220107T085001Z
LAST-MODIFIED:20220107T085001Z
UID:42378-1645833600-1645919999@howlingwoods.org
SUMMARY:Farm Closed
DESCRIPTION:
URL:https://howlingwoods.org/event/farm-closed-383/
END:VEVENT
BEGIN:VEVENT
DTSTART;VALUE=DATE:20220225
DTEND;VALUE=DATE:20220226
DTSTAMP:20260420T203731
CREATED:20220107T084226Z
LAST-MODIFIED:20220107T084226Z
UID:42364-1645747200-1645833599@howlingwoods.org
SUMMARY:Visit the Farm
DESCRIPTION:Come to the farm and meet our animals Naiche\, Kotori\, Orion\, Sirius\, Raven\, Luna\, Jack\, Suki\, Sayen & Chante during a one hour tour of our facility. You must make an appointment before visiting\, and to schedule an appointment please call 732-534-5745 or 609-901-1387 Monday thru Friday between 11am and 4pm. We usually book up 4 weeks in advance on weekends\, so please call ahead.
URL:https://howlingwoods.org/event/visit-the-farm-362/
END:VEVENT
BEGIN:VEVENT
DTSTART;VALUE=DATE:20220224
DTEND;VALUE=DATE:20220225
DTSTAMP:20260420T203731
CREATED:20220107T085549Z
LAST-MODIFIED:20220107T085549Z
UID:42388-1645660800-1645747199@howlingwoods.org
SUMMARY:Farm Closed
DESCRIPTION:
URL:https://howlingwoods.org/event/farm-closed-387/
END:VEVENT
BEGIN:VEVENT
DTSTART;VALUE=DATE:20220223
DTEND;VALUE=DATE:20220224
DTSTAMP:20260420T203731
CREATED:20220107T083716Z
LAST-MODIFIED:20220107T083716Z
UID:42354-1645574400-1645660799@howlingwoods.org
SUMMARY:Visit the Farm
DESCRIPTION:Come to the farm and meet our animals Naiche\, Kotori\, Orion\, Sirius\, Raven\, Luna\, Jack\, Suki\, Sayen & Chante during a one hour tour of our facility. You must make an appointment before visiting\, and to schedule an appointment please call 732-534-5745 or 609-901-1387 Monday thru Friday between 11am and 4pm. We usually book up 4 weeks in advance on weekends\, so please call ahead.
URL:https://howlingwoods.org/event/visit-the-farm-357/
END:VEVENT
BEGIN:VEVENT
DTSTART;VALUE=DATE:20220220
DTEND;VALUE=DATE:20220223
DTSTAMP:20260420T203731
CREATED:20220107T084917Z
LAST-MODIFIED:20220107T084917Z
UID:42376-1645315200-1645574399@howlingwoods.org
SUMMARY:Farm Closed
DESCRIPTION:
URL:https://howlingwoods.org/event/farm-closed-382/
END:VEVENT
BEGIN:VEVENT
DTSTART;TZID=UTC:20220219T080000
DTEND;TZID=UTC:20220219T170000
DTSTAMP:20260420T203731
CREATED:20220219T081509Z
LAST-MODIFIED:20220219T081509Z
UID:42731-1645257600-1645290000@howlingwoods.org
SUMMARY:Farm Closed
DESCRIPTION:
URL:https://howlingwoods.org/event/farm-closed-423/
END:VEVENT
BEGIN:VEVENT
DTSTART;VALUE=DATE:20220218
DTEND;VALUE=DATE:20220220
DTSTAMP:20260420T203731
CREATED:20220107T084125Z
LAST-MODIFIED:20220107T084125Z
UID:42362-1645142400-1645315199@howlingwoods.org
SUMMARY:Visit the Farm
DESCRIPTION:Come to the farm and meet our animals Naiche\, Kotori\, Orion\, Sirius\, Raven\, Luna\, Jack\, Suki\, Sayen & Chante during a one hour tour of our facility. You must make an appointment before visiting\, and to schedule an appointment please call 732-534-5745 or 609-901-1387 Monday thru Friday between 11am and 4pm. We usually book up 4 weeks in advance on weekends\, so please call ahead.
URL:https://howlingwoods.org/event/visit-the-farm-361/
END:VEVENT
BEGIN:VEVENT
DTSTART;VALUE=DATE:20220217
DTEND;VALUE=DATE:20220218
DTSTAMP:20260420T203731
CREATED:20220107T085512Z
LAST-MODIFIED:20220107T085512Z
UID:42386-1645056000-1645142399@howlingwoods.org
SUMMARY:Farm Closed
DESCRIPTION:
URL:https://howlingwoods.org/event/farm-closed-386/
END:VEVENT
BEGIN:VEVENT
DTSTART;VALUE=DATE:20220216
DTEND;VALUE=DATE:20220217
DTSTAMP:20260420T203731
CREATED:20220107T083614Z
LAST-MODIFIED:20220107T083614Z
UID:42352-1644969600-1645055999@howlingwoods.org
SUMMARY:Visit the Farm
DESCRIPTION:Come to the farm and meet our animals Naiche\, Kotori\, Orion\, Sirius\, Raven\, Luna\, Jack\, Suki\, Sayen & Chante during a one hour tour of our facility. You must make an appointment before visiting\, and to schedule an appointment please call 732-534-5745 or 609-901-1387 Monday thru Friday between 11am and 4pm. We usually book up 4 weeks in advance on weekends\, so please call ahead.
URL:https://howlingwoods.org/event/visit-the-farm-356/
END:VEVENT
BEGIN:VEVENT
DTSTART;VALUE=DATE:20220214
DTEND;VALUE=DATE:20220216
DTSTAMP:20260420T203731
CREATED:20220107T084815Z
LAST-MODIFIED:20220107T084815Z
UID:42374-1644796800-1644969599@howlingwoods.org
SUMMARY:Farm Closed
DESCRIPTION:
URL:https://howlingwoods.org/event/farm-closed-381/
END:VEVENT
BEGIN:VEVENT
DTSTART;VALUE=DATE:20220213
DTEND;VALUE=DATE:20220214
DTSTAMP:20260420T203731
CREATED:20220107T085418Z
LAST-MODIFIED:20220107T085418Z
UID:42384-1644710400-1644796799@howlingwoods.org
SUMMARY:Visit the Farm
DESCRIPTION:Come to the farm and meet our animals Naiche\, Kotori\, Orion\, Sirius\, Raven\, Luna\, Jack\, Suki\, Sayen & Chante during a one hour tour of our facility. You must make an appointment before visiting\, and to schedule an appointment please call 732-534-5745 or 609-901-1387 Monday thru Friday between 11am and 4pm. We usually book up 4 weeks in advance on weekends\, so please call ahead.
URL:https://howlingwoods.org/event/visit-the-farm-364/
END:VEVENT
BEGIN:VEVENT
DTSTART;VALUE=DATE:20220212
DTEND;VALUE=DATE:20220213
DTSTAMP:20260420T203731
CREATED:20220107T084707Z
LAST-MODIFIED:20220107T084707Z
UID:42372-1644624000-1644710399@howlingwoods.org
SUMMARY:Farm Closed
DESCRIPTION:
URL:https://howlingwoods.org/event/farm-closed-380/
END:VEVENT
BEGIN:VEVENT
DTSTART;VALUE=DATE:20220211
DTEND;VALUE=DATE:20220212
DTSTAMP:20260420T203731
CREATED:20220107T084031Z
LAST-MODIFIED:20220107T084031Z
UID:42360-1644537600-1644623999@howlingwoods.org
SUMMARY:Visit the Farm
DESCRIPTION:Come to the farm and meet our animals Naiche\, Kotori\, Orion\, Sirius\, Raven\, Luna\, Jack\, Suki\, Sayen & Chante during a one hour tour of our facility. You must make an appointment before visiting\, and to schedule an appointment please call 732-534-5745 or 609-901-1387 Monday thru Friday between 11am and 4pm. We usually book up 4 weeks in advance on weekends\, so please call ahead.
URL:https://howlingwoods.org/event/visit-the-farm-360/
END:VEVENT
BEGIN:VEVENT
DTSTART;VALUE=DATE:20220210
DTEND;VALUE=DATE:20220211
DTSTAMP:20260420T203731
CREATED:20220107T084630Z
LAST-MODIFIED:20220107T084630Z
UID:42370-1644451200-1644537599@howlingwoods.org
SUMMARY:Farm Closed
DESCRIPTION:
URL:https://howlingwoods.org/event/farm-closed-379/
END:VEVENT
BEGIN:VEVENT
DTSTART;VALUE=DATE:20220209
DTEND;VALUE=DATE:20220210
DTSTAMP:20260420T203731
CREATED:20220107T083520Z
LAST-MODIFIED:20220107T083520Z
UID:42350-1644364800-1644451199@howlingwoods.org
SUMMARY:Visit the Farm
DESCRIPTION:Come to the farm and meet our animals Naiche\, Kotori\, Orion\, Sirius\, Raven\, Luna\, Jack\, Suki\, Sayen & Chante during a one hour tour of our facility. You must make an appointment before visiting\, and to schedule an appointment please call 732-534-5745 or 609-901-1387 Monday thru Friday between 11am and 4pm. We usually book up 4 weeks in advance on weekends\, so please call ahead.
URL:https://howlingwoods.org/event/visit-the-farm-355/
END:VEVENT
BEGIN:VEVENT
DTSTART;VALUE=DATE:20220206
DTEND;VALUE=DATE:20220209
DTSTAMP:20260420T203731
CREATED:20220107T084524Z
LAST-MODIFIED:20220107T084524Z
UID:42368-1644105600-1644364799@howlingwoods.org
SUMMARY:Farm Closed
DESCRIPTION:
URL:https://howlingwoods.org/event/farm-closed-378/
END:VEVENT
BEGIN:VEVENT
DTSTART;VALUE=DATE:20220204
DTEND;VALUE=DATE:20220206
DTSTAMP:20260420T203731
CREATED:20220107T083922Z
LAST-MODIFIED:20220107T083922Z
UID:42358-1643932800-1644105599@howlingwoods.org
SUMMARY:Visit the Farm
DESCRIPTION:Come to the farm and meet our animals Naiche\, Kotori\, Orion\, Sirius\, Raven\, Luna\, Jack\, Suki\, Sayen & Chante during a one hour tour of our facility. You must make an appointment before visiting\, and to schedule an appointment please call 732-534-5745 or 609-901-1387 Monday thru Friday between 11am and 4pm. We usually book up 4 weeks in advance on weekends\, so please call ahead.
URL:https://howlingwoods.org/event/visit-the-farm-359/
END:VEVENT
BEGIN:VEVENT
DTSTART;VALUE=DATE:20220203
DTEND;VALUE=DATE:20220204
DTSTAMP:20260420T203731
CREATED:20220107T085237Z
LAST-MODIFIED:20220107T085237Z
UID:42382-1643846400-1643932799@howlingwoods.org
SUMMARY:Farm Closed
DESCRIPTION:
URL:https://howlingwoods.org/event/farm-closed-385/
END:VEVENT
BEGIN:VEVENT
DTSTART;VALUE=DATE:20220202
DTEND;VALUE=DATE:20220203
DTSTAMP:20260420T203731
CREATED:20220107T083424Z
LAST-MODIFIED:20220107T083424Z
UID:42348-1643760000-1643846399@howlingwoods.org
SUMMARY:Visit the Farm
DESCRIPTION:Come to the farm and meet our animals Naiche\, Kotori\, Orion\, Sirius\, Raven\, Luna\, Jack\, Suki\, Sayen & Chante during a one hour tour of our facility. You must make an appointment before visiting\, and to schedule an appointment please call 732-534-5745 or 609-901-1387 Monday thru Friday between 11am and 4pm. We usually book up 4 weeks in advance on weekends\, so please call ahead.
URL:https://howlingwoods.org/event/visit-the-farm-351/
END:VEVENT
BEGIN:VEVENT
DTSTART;VALUE=DATE:20220201
DTEND;VALUE=DATE:20220202
DTSTAMP:20260420T203731
CREATED:20220107T085202Z
LAST-MODIFIED:20220107T085202Z
UID:42380-1643673600-1643759999@howlingwoods.org
SUMMARY:Farm Closed
DESCRIPTION:
URL:https://howlingwoods.org/event/farm-closed-384/
END:VEVENT
BEGIN:VEVENT
DTSTART;VALUE=DATE:20220131
DTEND;VALUE=DATE:20220201
DTSTAMP:20260420T203731
CREATED:20220107T081614Z
LAST-MODIFIED:20220107T081614Z
UID:42346-1643587200-1643673599@howlingwoods.org
SUMMARY:Farm Closed
DESCRIPTION:
URL:https://howlingwoods.org/event/farm-closed-377/
END:VEVENT
BEGIN:VEVENT
DTSTART;VALUE=DATE:20220130
DTEND;VALUE=DATE:20220131
DTSTAMP:20260420T203731
CREATED:20220107T081535Z
LAST-MODIFIED:20220107T081535Z
UID:42344-1643500800-1643587199@howlingwoods.org
SUMMARY:Visit the Farm
DESCRIPTION:Come to the farm and meet our animals Naiche\, Kotori\, Orion\, Sirius\, Raven\, Luna\, Jack\, Suki\, Sayen & Chante during a one hour tour of our facility. You must make an appointment before visiting\, and to schedule an appointment please call 732-534-5745 or 609-901-1387 Monday thru Friday between 11am and 4pm. We usually book up 4 weeks in advance on weekends\, so please call ahead.
URL:https://howlingwoods.org/event/visit-the-farm-354/
END:VEVENT
BEGIN:VEVENT
DTSTART;VALUE=DATE:20220129
DTEND;VALUE=DATE:20220130
DTSTAMP:20260420T203731
CREATED:20220107T080852Z
LAST-MODIFIED:20220107T080852Z
UID:42337-1643414400-1643500799@howlingwoods.org
SUMMARY:Farm Closed
DESCRIPTION:
URL:https://howlingwoods.org/event/farm-closed-376/
END:VEVENT
BEGIN:VEVENT
DTSTART;VALUE=DATE:20220128
DTEND;VALUE=DATE:20220129
DTSTAMP:20260420T203731
CREATED:20220107T081440Z
LAST-MODIFIED:20220107T081440Z
UID:42342-1643328000-1643414399@howlingwoods.org
SUMMARY:Visit the Farm
DESCRIPTION:Come to the farm and meet our animals Naiche\, Kotori\, Orion\, Sirius\, Raven\, Luna\, Jack\, Suki\, Sayen & Chante during a one hour tour of our facility. You must make an appointment before visiting\, and to schedule an appointment please call 732-534-5745 or 609-901-1387 Monday thru Friday between 11am and 4pm. We usually book up 4 weeks in advance on weekends\, so please call ahead.
URL:https://howlingwoods.org/event/visit-the-farm-353/
END:VEVENT
BEGIN:VEVENT
DTSTART;VALUE=DATE:20220127
DTEND;VALUE=DATE:20220128
DTSTAMP:20260420T203731
CREATED:20220107T080739Z
LAST-MODIFIED:20220107T080739Z
UID:42335-1643241600-1643327999@howlingwoods.org
SUMMARY:Farm Closed
DESCRIPTION:
URL:https://howlingwoods.org/event/farm-closed-374/
END:VEVENT
BEGIN:VEVENT
DTSTART;VALUE=DATE:20220126
DTEND;VALUE=DATE:20220127
DTSTAMP:20260420T203731
CREATED:20220107T081146Z
LAST-MODIFIED:20220107T081146Z
UID:42339-1643155200-1643241599@howlingwoods.org
SUMMARY:Visit the Farm
DESCRIPTION:Come to the farm and meet our animals Naiche\, Kotori\, Orion\, Sirius\, Raven\, Luna\, Jack\, Suki\, Sayen & Chante during a one hour tour of our facility. You must make an appointment before visiting\, and to schedule an appointment please call 732-534-5745 or 609-901-1387 Monday thru Friday between 11am and 4pm. We usually book up 4 weeks in advance on weekends\, so please call ahead.
URL:https://howlingwoods.org/event/visit-the-farm-352/
ORGANIZER;CN="Howling Woods Farm":MAILTO:luv2howl@optonline.net
END:VEVENT
END:VCALENDAR