BEGIN:VCALENDAR
VERSION:2.0
PRODID:-//Howling Woods Farm - ECPv6.15.20//NONSGML v1.0//EN
CALSCALE:GREGORIAN
METHOD:PUBLISH
X-ORIGINAL-URL:https://howlingwoods.org
X-WR-CALDESC:Events for Howling Woods Farm
REFRESH-INTERVAL;VALUE=DURATION:PT1H
X-Robots-Tag:noindex
X-PUBLISHED-TTL:PT1H
BEGIN:VTIMEZONE
TZID:UTC
BEGIN:STANDARD
TZOFFSETFROM:+0000
TZOFFSETTO:+0000
TZNAME:UTC
DTSTART:20210101T000000
END:STANDARD
END:VTIMEZONE
BEGIN:VEVENT
DTSTART;VALUE=DATE:20221217
DTEND;VALUE=DATE:20221218
DTSTAMP:20260420T171755
CREATED:20221005T073112Z
LAST-MODIFIED:20221110T073137Z
UID:45436-1671235200-1671321599@howlingwoods.org
SUMMARY:Visit the Farm
DESCRIPTION:Come to the farm and meet Naiche\, Kotori\, Orion\, Sirius\, Raven\, Luna\, Jack\, Suki\, Sayen & Chante during a one hour tour of our facility. You must make an appointment before visiting\, and to schedule please call 609-901-1387. \nSanta will be at the farm for photos with children and pets.  10am to 4pm.  No appointment necessary.
URL:https://howlingwoods.org/event/visit-the-farm-photos-with-santa-2/
END:VEVENT
BEGIN:VEVENT
DTSTART;TZID=UTC:20221217T100000
DTEND;TZID=UTC:20221217T160000
DTSTAMP:20260420T171755
CREATED:20221110T074831Z
LAST-MODIFIED:20221110T074831Z
UID:45789-1671271200-1671292800@howlingwoods.org
SUMMARY:Photos with Santa
DESCRIPTION:Bring your kids to have thier photo taken with Santa and his Wolf on Saturday December 17 10am to 4pm. Dogs also welcome.
URL:https://howlingwoods.org/event/photos-with-santa-4/
END:VEVENT
BEGIN:VEVENT
DTSTART;VALUE=DATE:20221218
DTEND;VALUE=DATE:20221221
DTSTAMP:20260420T171755
CREATED:20221005T072103Z
LAST-MODIFIED:20221005T072103Z
UID:45428-1671321600-1671580799@howlingwoods.org
SUMMARY:Farm Closed
DESCRIPTION:
URL:https://howlingwoods.org/event/farm-closed-476/
END:VEVENT
BEGIN:VEVENT
DTSTART;VALUE=DATE:20221221
DTEND;VALUE=DATE:20221225
DTSTAMP:20260420T171755
CREATED:20221005T071435Z
LAST-MODIFIED:20221005T071435Z
UID:45420-1671580800-1671926399@howlingwoods.org
SUMMARY:Visit the Farm
DESCRIPTION:Come to the farm and meet Naiche\, Kotori\, Orion\, Sirius\, Raven\, Luna\, Jack\, Suki\, Sayen & Chante during a one hour tour of our facility. You must make an appointment before visiting\, and to schedule please call 609-901-1387.
URL:https://howlingwoods.org/event/visit-the-farm-449/
END:VEVENT
BEGIN:VEVENT
DTSTART;VALUE=DATE:20221225
DTEND;VALUE=DATE:20221228
DTSTAMP:20260420T171755
CREATED:20221005T072215Z
LAST-MODIFIED:20221005T072215Z
UID:45430-1671926400-1672185599@howlingwoods.org
SUMMARY:Farm Closed
DESCRIPTION:
URL:https://howlingwoods.org/event/farm-closed-479/
END:VEVENT
BEGIN:VEVENT
DTSTART;VALUE=DATE:20221228
DTEND;VALUE=DATE:20221231
DTSTAMP:20260420T171755
CREATED:20221005T072353Z
LAST-MODIFIED:20221005T072353Z
UID:45432-1672185600-1672444799@howlingwoods.org
SUMMARY:Visit the Farm
DESCRIPTION:Come to the farm and meet Naiche\, Kotori\, Orion\, Sirius\, Raven\, Luna\, Jack\, Suki\, Sayen & Chante during a one hour tour of our facility. You must make an appointment before visiting\, and to schedule please call 609-901-1387.
URL:https://howlingwoods.org/event/visit-the-farm-450/
END:VEVENT
BEGIN:VEVENT
DTSTART;TZID=UTC:20221229T140000
DTEND;TZID=UTC:20221229T150000
DTSTAMP:20260420T171755
CREATED:20221110T080557Z
LAST-MODIFIED:20221110T080557Z
UID:45795-1672322400-1672326000@howlingwoods.org
SUMMARY:Presentation: Plainfield Public Library
DESCRIPTION:
URL:https://howlingwoods.org/event/presentation-plainfield-public-library-2/
END:VEVENT
BEGIN:VEVENT
DTSTART;VALUE=DATE:20221231
DTEND;VALUE=DATE:20230101
DTSTAMP:20260420T171755
CREATED:20221005T072431Z
LAST-MODIFIED:20221005T072431Z
UID:45434-1672444800-1672531199@howlingwoods.org
SUMMARY:Farm Closed
DESCRIPTION:
URL:https://howlingwoods.org/event/farm-closed-480/
END:VEVENT
BEGIN:VEVENT
DTSTART;VALUE=DATE:20230127
DTEND;VALUE=DATE:20230129
DTSTAMP:20260420T171755
CREATED:20230126T072728Z
LAST-MODIFIED:20230126T072728Z
UID:46858-1674777600-1674950399@howlingwoods.org
SUMMARY:Visit the Farm
DESCRIPTION:Come to the farm and meet Naiche\, Lyra\, Orion\, Sirius\, Raven\, Luna\, Jack\, Sayen & Chante during a one hour tour of our facility. You must make an appointment before visiting\, and to schedule please call 609-901-1387.
URL:https://howlingwoods.org/event/visit-the-farm-448/
LOCATION:Howling Woods Farm\, 1371 W Veterans Hwy\, Jackson\, New Jersey\, 08527
END:VEVENT
BEGIN:VEVENT
DTSTART;VALUE=DATE:20230129
DTEND;VALUE=DATE:20230201
DTSTAMP:20260420T171755
CREATED:20230127T000003Z
LAST-MODIFIED:20230127T000003Z
UID:46957-1674950400-1675209599@howlingwoods.org
SUMMARY:Farm Closed
DESCRIPTION:
URL:https://howlingwoods.org/event/farm-closed-481/
END:VEVENT
BEGIN:VEVENT
DTSTART;VALUE=DATE:20230201
DTEND;VALUE=DATE:20230202
DTSTAMP:20260420T171755
CREATED:20230126T072932Z
LAST-MODIFIED:20230126T072932Z
UID:46860-1675209600-1675295999@howlingwoods.org
SUMMARY:Visit the Farm
DESCRIPTION:Come to the farm and meet Naiche\, Lyra\, Orion\, Sirius\, Raven\, Luna\, Jack\, Sayen & Chante during a one hour tour of our facility. You must make an appointment before visiting\, and to schedule please call 609-901-1387.
URL:https://howlingwoods.org/event/visit-the-farm-451/
ORGANIZER;CN="Howling Woods Farm":MAILTO:luv2howl@optonline.net
END:VEVENT
BEGIN:VEVENT
DTSTART;VALUE=DATE:20230202
DTEND;VALUE=DATE:20230203
DTSTAMP:20260420T171755
CREATED:20230127T000627Z
LAST-MODIFIED:20230127T000627Z
UID:46967-1675296000-1675382399@howlingwoods.org
SUMMARY:Farm Closed
DESCRIPTION:
URL:https://howlingwoods.org/event/farm-closed-485/
END:VEVENT
BEGIN:VEVENT
DTSTART;VALUE=DATE:20230203
DTEND;VALUE=DATE:20230204
DTSTAMP:20260420T171755
CREATED:20230126T074038Z
LAST-MODIFIED:20230126T074038Z
UID:46878-1675382400-1675468799@howlingwoods.org
SUMMARY:Visit the Farm
DESCRIPTION:Come to the farm and meet Naiche\, Lyra\, Orion\, Sirius\, Raven\, Luna\, Jack\, Sayen & Chante during a one hour tour of our facility. You must make an appointment before visiting\, and to schedule please call 609-901-1387.
URL:https://howlingwoods.org/event/visit-the-farm-460/
END:VEVENT
BEGIN:VEVENT
DTSTART;TZID=UTC:20230204T100000
DTEND;TZID=UTC:20230204T160000
DTSTAMP:20260420T171755
CREATED:20230127T003830Z
LAST-MODIFIED:20230127T003830Z
UID:47023-1675504800-1675526400@howlingwoods.org
SUMMARY:New Egypt Fire and Ice Festival
DESCRIPTION:Come and visit our animals at the New Egypt Fire and Ice Festival at New Egypt Flea Market Village.  Howling Woods Farm will be present Saturday February 4 from 10am to 4pm\, at which time you can visit or have your photo taken with our animals.  More info available at https://newegyptfleamarket.com/fire-ice-festival-february-4th-2023/.
URL:https://howlingwoods.org/event/new-egypt-fire-and-ice-festival/
LOCATION:New Egypt Flea Market Village\, 933 Monmouth Rd\, Cream Ridge\, NJ
END:VEVENT
BEGIN:VEVENT
DTSTART;VALUE=DATE:20230205
DTEND;VALUE=DATE:20230206
DTSTAMP:20260420T171755
CREATED:20230126T073247Z
LAST-MODIFIED:20230126T073247Z
UID:46864-1675555200-1675641599@howlingwoods.org
SUMMARY:Visit the Farm
DESCRIPTION:Come to the farm and meet Naiche\, Lyra\, Orion\, Sirius\, Raven\, Luna\, Jack\, Sayen & Chante during a one hour tour of our facility. You must make an appointment before visiting\, and to schedule please call 609-901-1387.
URL:https://howlingwoods.org/event/visit-the-farm-453/
END:VEVENT
BEGIN:VEVENT
DTSTART;VALUE=DATE:20230206
DTEND;VALUE=DATE:20230208
DTSTAMP:20260420T171755
CREATED:20230127T000833Z
LAST-MODIFIED:20230127T000833Z
UID:46973-1675641600-1675814399@howlingwoods.org
SUMMARY:Farm Closed
DESCRIPTION:
URL:https://howlingwoods.org/event/farm-closed-488/
END:VEVENT
BEGIN:VEVENT
DTSTART;VALUE=DATE:20230208
DTEND;VALUE=DATE:20230209
DTSTAMP:20260420T171755
CREATED:20230126T074134Z
LAST-MODIFIED:20230126T074134Z
UID:46880-1675814400-1675900799@howlingwoods.org
SUMMARY:Visit the Farm
DESCRIPTION:Come to the farm and meet Naiche\, Lyra\, Orion\, Sirius\, Raven\, Luna\, Jack\, Sayen & Chante during a one hour tour of our facility. You must make an appointment before visiting\, and to schedule please call 609-901-1387.
URL:https://howlingwoods.org/event/visit-the-farm-461/
END:VEVENT
BEGIN:VEVENT
DTSTART;VALUE=DATE:20230209
DTEND;VALUE=DATE:20230210
DTSTAMP:20260420T171755
CREATED:20230127T000607Z
LAST-MODIFIED:20230127T000607Z
UID:46965-1675900800-1675987199@howlingwoods.org
SUMMARY:Farm Closed
DESCRIPTION:
URL:https://howlingwoods.org/event/farm-closed-484/
END:VEVENT
BEGIN:VEVENT
DTSTART;VALUE=DATE:20230210
DTEND;VALUE=DATE:20230212
DTSTAMP:20260420T171755
CREATED:20230126T073518Z
LAST-MODIFIED:20230126T073518Z
UID:46868-1675987200-1676159999@howlingwoods.org
SUMMARY:Visit the Farm
DESCRIPTION:Come to the farm and meet Naiche\, Lyra\, Orion\, Sirius\, Raven\, Luna\, Jack\, Sayen & Chante during a one hour tour of our facility. You must make an appointment before visiting\, and to schedule please call 609-901-1387.
URL:https://howlingwoods.org/event/visit-the-farm-455/
END:VEVENT
BEGIN:VEVENT
DTSTART;VALUE=DATE:20230212
DTEND;VALUE=DATE:20230215
DTSTAMP:20260420T171755
CREATED:20230127T000237Z
LAST-MODIFIED:20230127T000237Z
UID:46959-1676160000-1676419199@howlingwoods.org
SUMMARY:Farm Closed
DESCRIPTION:
URL:https://howlingwoods.org/event/farm-closed-482/
END:VEVENT
BEGIN:VEVENT
DTSTART;VALUE=DATE:20230215
DTEND;VALUE=DATE:20230216
DTSTAMP:20260420T171755
CREATED:20230126T073624Z
LAST-MODIFIED:20230126T073624Z
UID:46870-1676419200-1676505599@howlingwoods.org
SUMMARY:Visit the Farm
DESCRIPTION:Come to the farm and meet Naiche\, Lyra\, Orion\, Sirius\, Raven\, Luna\, Jack\, Sayen & Chante during a one hour tour of our facility. You must make an appointment before visiting\, and to schedule please call 609-901-1387.
URL:https://howlingwoods.org/event/visit-the-farm-456/
END:VEVENT
BEGIN:VEVENT
DTSTART;VALUE=DATE:20230216
DTEND;VALUE=DATE:20230217
DTSTAMP:20260420T171755
CREATED:20230127T000719Z
LAST-MODIFIED:20230127T000719Z
UID:46969-1676505600-1676591999@howlingwoods.org
SUMMARY:Farm Closed
DESCRIPTION:
URL:https://howlingwoods.org/event/farm-closed-486/
END:VEVENT
BEGIN:VEVENT
DTSTART;VALUE=DATE:20230217
DTEND;VALUE=DATE:20230218
DTSTAMP:20260420T171755
CREATED:20230126T073703Z
LAST-MODIFIED:20230126T073703Z
UID:46872-1676592000-1676678399@howlingwoods.org
SUMMARY:Visit the Farm
DESCRIPTION:Come to the farm and meet Naiche\, Lyra\, Orion\, Sirius\, Raven\, Luna\, Jack\, Sayen & Chante during a one hour tour of our facility. You must make an appointment before visiting\, and to schedule please call 609-901-1387.
URL:https://howlingwoods.org/event/visit-the-farm-457/
END:VEVENT
BEGIN:VEVENT
DTSTART;VALUE=DATE:20230218
DTEND;VALUE=DATE:20230219
DTSTAMP:20260420T171755
CREATED:20230127T001040Z
LAST-MODIFIED:20230127T001040Z
UID:46977-1676678400-1676764799@howlingwoods.org
SUMMARY:Farm Closed
DESCRIPTION:
URL:https://howlingwoods.org/event/farm-closed-490/
END:VEVENT
BEGIN:VEVENT
DTSTART;VALUE=DATE:20230219
DTEND;VALUE=DATE:20230220
DTSTAMP:20260420T171755
CREATED:20230127T000433Z
LAST-MODIFIED:20230127T000433Z
UID:46961-1676764800-1676851199@howlingwoods.org
SUMMARY:Visit the Farm
DESCRIPTION:Come to the farm and meet Naiche\, Lyra\, Orion\, Sirius\, Raven\, Luna\, Jack\, Sayen & Chante during a one hour tour of our facility. You must make an appointment before visiting\, and to schedule please call 609-901-1387.
URL:https://howlingwoods.org/event/visit-the-farm-454/
END:VEVENT
BEGIN:VEVENT
DTSTART;VALUE=DATE:20230220
DTEND;VALUE=DATE:20230222
DTSTAMP:20260420T171755
CREATED:20230127T000544Z
LAST-MODIFIED:20230127T000544Z
UID:46963-1676851200-1677023999@howlingwoods.org
SUMMARY:Farm Closed
DESCRIPTION:
URL:https://howlingwoods.org/event/farm-closed-483/
END:VEVENT
BEGIN:VEVENT
DTSTART;VALUE=DATE:20230222
DTEND;VALUE=DATE:20230223
DTSTAMP:20260420T171755
CREATED:20230126T074829Z
LAST-MODIFIED:20230126T074829Z
UID:46884-1677024000-1677110399@howlingwoods.org
SUMMARY:Visit the Farm
DESCRIPTION:Come to the farm and meet Naiche\, Lyra\, Orion\, Sirius\, Raven\, Luna\, Jack\, Sayen & Chante during a one hour tour of our facility. You must make an appointment before visiting\, and to schedule please call 609-901-1387.
URL:https://howlingwoods.org/event/visit-the-farm-463/
END:VEVENT
BEGIN:VEVENT
DTSTART;VALUE=DATE:20230223
DTEND;VALUE=DATE:20230224
DTSTAMP:20260420T171755
CREATED:20230127T000749Z
LAST-MODIFIED:20230127T000749Z
UID:46971-1677110400-1677196799@howlingwoods.org
SUMMARY:Farm Closed
DESCRIPTION:
URL:https://howlingwoods.org/event/farm-closed-487/
END:VEVENT
BEGIN:VEVENT
DTSTART;VALUE=DATE:20230224
DTEND;VALUE=DATE:20230226
DTSTAMP:20260420T171755
CREATED:20230126T073806Z
LAST-MODIFIED:20230126T073831Z
UID:46874-1677196800-1677369599@howlingwoods.org
SUMMARY:Visit the Farm
DESCRIPTION:Come to the farm and meet Naiche\, Lyra\, Orion\, Sirius\, Raven\, Luna\, Jack\, Sayen & Chante during a one hour tour of our facility. You must make an appointment before visiting\, and to schedule please call 609-901-1387.
URL:https://howlingwoods.org/event/visit-the-farm-458/
END:VEVENT
BEGIN:VEVENT
DTSTART;VALUE=DATE:20230226
DTEND;VALUE=DATE:20230301
DTSTAMP:20260420T171755
CREATED:20230127T000913Z
LAST-MODIFIED:20230127T000913Z
UID:46975-1677369600-1677628799@howlingwoods.org
SUMMARY:Farm Closed
DESCRIPTION:
URL:https://howlingwoods.org/event/farm-closed-489/
END:VEVENT
END:VCALENDAR