BEGIN:VCALENDAR
VERSION:2.0
PRODID:-//Howling Woods Farm - ECPv6.15.20//NONSGML v1.0//EN
CALSCALE:GREGORIAN
METHOD:PUBLISH
X-ORIGINAL-URL:https://howlingwoods.org
X-WR-CALDESC:Events for Howling Woods Farm
REFRESH-INTERVAL;VALUE=DURATION:PT1H
X-Robots-Tag:noindex
X-PUBLISHED-TTL:PT1H
BEGIN:VTIMEZONE
TZID:UTC
BEGIN:STANDARD
TZOFFSETFROM:+0000
TZOFFSETTO:+0000
TZNAME:UTC
DTSTART:20240101T000000
END:STANDARD
END:VTIMEZONE
BEGIN:VEVENT
DTSTART;VALUE=DATE:20250618
DTEND;VALUE=DATE:20250621
DTSTAMP:20260423T000515
CREATED:20250319T034757Z
LAST-MODIFIED:20250319T034757Z
UID:54489-1750204800-1750463999@howlingwoods.org
SUMMARY:Visit the Farm
DESCRIPTION:Come to the farm and meet Lyra\, Orion\, Sirius\, Raven\, Luna\, Jack\, Oberon\, Sayen\, Aristos and our two new pups Buddy and Holly during a one hour tour of our facility. Visit our gift shop to find cool gifts for animal lovers. You must make an appointment before visiting\, and to schedule please call 609-901-1387.
URL:https://howlingwoods.org/event/visit-the-farm-775/
LOCATION:Howling Woods Farm\, 1371 W Veterans Hwy\, Jackson\, New Jersey\, 08527
ORGANIZER;CN="Howling Woods Farm":MAILTO:luv2howl@optonline.net
END:VEVENT
BEGIN:VEVENT
DTSTART;VALUE=DATE:20250621
DTEND;VALUE=DATE:20250622
DTSTAMP:20260423T000515
CREATED:20250319T035916Z
LAST-MODIFIED:20250319T040052Z
UID:54501-1750464000-1750550399@howlingwoods.org
SUMMARY:Farm Closed
DESCRIPTION:
URL:https://howlingwoods.org/event/farm-closed-566/
LOCATION:New Jersey
END:VEVENT
BEGIN:VEVENT
DTSTART;VALUE=DATE:20250622
DTEND;VALUE=DATE:20250623
DTSTAMP:20260423T000515
CREATED:20250319T034914Z
LAST-MODIFIED:20250319T034914Z
UID:54491-1750550400-1750636799@howlingwoods.org
SUMMARY:Visit the Farm
DESCRIPTION:Come to the farm and meet Lyra\, Orion\, Sirius\, Raven\, Luna\, Jack\, Oberon\, Sayen\, Aristos and our two new pups Buddy and Holly during a one hour tour of our facility. Visit our gift shop to find cool gifts for animal lovers. You must make an appointment before visiting\, and to schedule please call 609-901-1387.
URL:https://howlingwoods.org/event/visit-the-farm-776/
LOCATION:Howling Woods Farm\, 1371 W Veterans Hwy\, Jackson\, New Jersey\, 08527
ORGANIZER;CN="Howling Woods Farm":MAILTO:luv2howl@optonline.net
END:VEVENT
BEGIN:VEVENT
DTSTART;VALUE=DATE:20250623
DTEND;VALUE=DATE:20250625
DTSTAMP:20260423T000515
CREATED:20250319T035040Z
LAST-MODIFIED:20250319T035040Z
UID:54493-1750636800-1750809599@howlingwoods.org
SUMMARY:Farm Closed
DESCRIPTION:
URL:https://howlingwoods.org/event/farm-closed-564/
LOCATION:New Jersey
END:VEVENT
BEGIN:VEVENT
DTSTART;VALUE=DATE:20250625
DTEND;VALUE=DATE:20250628
DTSTAMP:20260423T000515
CREATED:20250319T035204Z
LAST-MODIFIED:20250319T035204Z
UID:54495-1750809600-1751068799@howlingwoods.org
SUMMARY:Visit the Farm
DESCRIPTION:Come to the farm and meet Lyra\, Orion\, Sirius\, Raven\, Luna\, Jack\, Oberon\, Sayen\, Aristos and our two new pups Buddy and Holly during a one hour tour of our facility. Visit our gift shop to find cool gifts for animal lovers. You must make an appointment before visiting\, and to schedule please call 609-901-1387.
URL:https://howlingwoods.org/event/visit-the-farm-777/
LOCATION:Howling Woods Farm\, 1371 W Veterans Hwy\, Jackson\, New Jersey\, 08527
ORGANIZER;CN="Howling Woods Farm":MAILTO:luv2howl@optonline.net
END:VEVENT
BEGIN:VEVENT
DTSTART;VALUE=DATE:20250628
DTEND;VALUE=DATE:20250629
DTSTAMP:20260423T000515
CREATED:20250319T035310Z
LAST-MODIFIED:20250319T035310Z
UID:54497-1751068800-1751155199@howlingwoods.org
SUMMARY:Visit the Farm
DESCRIPTION:Come to the farm and meet Lyra\, Orion\, Sirius\, Raven\, Luna\, Jack\, Oberon\, Sayen\, Aristos and our two new pups Buddy and Holly during a one hour tour of our facility. Visit our gift shop to find cool gifts for animal lovers. You must make an appointment before visiting\, and to schedule please call 609-901-1387.
URL:https://howlingwoods.org/event/visit-the-farm-778/
LOCATION:Howling Woods Farm\, 1371 W Veterans Hwy\, Jackson\, New Jersey\, 08527
ORGANIZER;CN="Howling Woods Farm":MAILTO:luv2howl@optonline.net
END:VEVENT
BEGIN:VEVENT
DTSTART;VALUE=DATE:20250629
DTEND;VALUE=DATE:20250702
DTSTAMP:20260423T000515
CREATED:20250319T035537Z
LAST-MODIFIED:20250319T035537Z
UID:54499-1751155200-1751414399@howlingwoods.org
SUMMARY:Farm Closed
DESCRIPTION:
URL:https://howlingwoods.org/event/farm-closed-565/
LOCATION:New Jersey
END:VEVENT
BEGIN:VEVENT
DTSTART;VALUE=DATE:20250702
DTEND;VALUE=DATE:20250704
DTSTAMP:20260423T000515
CREATED:20250319T040520Z
LAST-MODIFIED:20250319T041154Z
UID:54503-1751414400-1751587199@howlingwoods.org
SUMMARY:Visit the Farm
DESCRIPTION:Come to the farm and meet Lyra\, Orion\, Sirius\, Raven\, Luna\, Jack\, Oberon\, Sayen\, Aristos and our two new pups Buddy and Holly during a one hour tour of our facility. Visit our gift shop to find cool gifts for animal lovers. You must make an appointment before visiting\, and to schedule please call 609-901-1387.
URL:https://howlingwoods.org/event/visit-the-farm-779/
LOCATION:Howling Woods Farm\, 1371 W Veterans Hwy\, Jackson\, New Jersey\, 08527
ORGANIZER;CN="Howling Woods Farm":MAILTO:luv2howl@optonline.net
END:VEVENT
BEGIN:VEVENT
DTSTART;VALUE=DATE:20250704
DTEND;VALUE=DATE:20250705
DTSTAMP:20260423T000515
CREATED:20250319T043940Z
LAST-MODIFIED:20250319T043940Z
UID:54508-1751587200-1751673599@howlingwoods.org
SUMMARY:Farm Closed for Independence Day
DESCRIPTION:
URL:https://howlingwoods.org/event/farm-closed-for-independence-day/
LOCATION:New Jersey
END:VEVENT
BEGIN:VEVENT
DTSTART;VALUE=DATE:20250705
DTEND;VALUE=DATE:20250706
DTSTAMP:20260423T000515
CREATED:20250319T040658Z
LAST-MODIFIED:20250319T040658Z
UID:54505-1751673600-1751759999@howlingwoods.org
SUMMARY:Farm Closed
DESCRIPTION:
URL:https://howlingwoods.org/event/farm-closed-567/
LOCATION:Howling Woods Farm\, 1371 W Veterans Hwy\, Jackson\, New Jersey\, 08527
ORGANIZER;CN="Howling Woods Farm":MAILTO:luv2howl@optonline.net
END:VEVENT
BEGIN:VEVENT
DTSTART;VALUE=DATE:20250706
DTEND;VALUE=DATE:20250707
DTSTAMP:20260423T000515
CREATED:20250523T034529Z
LAST-MODIFIED:20250523T034529Z
UID:55075-1751760000-1751846399@howlingwoods.org
SUMMARY:Visit the Farm
DESCRIPTION:Come to the farm and meet Lyra\, Orion\, Sirius\, Raven\, Luna\, Jack\, Oberon\, Sayen\, Aristos\, Bristol\, Buddy and Holly during a one hour tour of our facility. Visit our gift shop to find cool gifts for animal lovers. You must make an appointment before visiting\, and to schedule please call 609-901-1387.
URL:https://howlingwoods.org/event/visit-the-farm-780/
LOCATION:Howling Woods Farm\, 1371 W Veterans Hwy\, Jackson\, New Jersey\, 08527
ORGANIZER;CN="Howling Woods Farm":MAILTO:luv2howl@optonline.net
END:VEVENT
BEGIN:VEVENT
DTSTART;VALUE=DATE:20250707
DTEND;VALUE=DATE:20250709
DTSTAMP:20260423T000515
CREATED:20250523T035807Z
LAST-MODIFIED:20250523T035807Z
UID:55093-1751846400-1752019199@howlingwoods.org
SUMMARY:Farm Closed
DESCRIPTION:
URL:https://howlingwoods.org/event/farm-closed-568/
LOCATION:New Jersey
END:VEVENT
BEGIN:VEVENT
DTSTART;VALUE=DATE:20250709
DTEND;VALUE=DATE:20250712
DTSTAMP:20260423T000515
CREATED:20250523T034658Z
LAST-MODIFIED:20250523T034658Z
UID:55077-1752019200-1752278399@howlingwoods.org
SUMMARY:Visit the Farm
DESCRIPTION:Come to the farm and meet Lyra\, Orion\, Sirius\, Raven\, Luna\, Jack\, Oberon\, Sayen\, Aristos\, Bristol\, Buddy and Holly during a one hour tour of our facility. Visit our gift shop to find cool gifts for animal lovers. You must make an appointment before visiting\, and to schedule please call 609-901-1387.
URL:https://howlingwoods.org/event/visit-the-farm-781/
LOCATION:Howling Woods Farm\, 1371 W Veterans Hwy\, Jackson\, New Jersey\, 08527
ORGANIZER;CN="Howling Woods Farm":MAILTO:luv2howl@optonline.net
END:VEVENT
BEGIN:VEVENT
DTSTART;VALUE=DATE:20250712
DTEND;VALUE=DATE:20250713
DTSTAMP:20260423T000515
CREATED:20250523T034806Z
LAST-MODIFIED:20250523T034806Z
UID:55079-1752278400-1752364799@howlingwoods.org
SUMMARY:Visit the Farm
DESCRIPTION:Come to the farm and meet Lyra\, Orion\, Sirius\, Raven\, Luna\, Jack\, Oberon\, Sayen\, Aristos\, Bristol\, Buddy and Holly during a one hour tour of our facility. Visit our gift shop to find cool gifts for animal lovers. You must make an appointment before visiting\, and to schedule please call 609-901-1387.
URL:https://howlingwoods.org/event/visit-the-farm-782/
LOCATION:Howling Woods Farm\, 1371 W Veterans Hwy\, Jackson\, New Jersey\, 08527
ORGANIZER;CN="Howling Woods Farm":MAILTO:luv2howl@optonline.net
END:VEVENT
BEGIN:VEVENT
DTSTART;VALUE=DATE:20250713
DTEND;VALUE=DATE:20250716
DTSTAMP:20260423T000515
CREATED:20250523T035859Z
LAST-MODIFIED:20250523T035859Z
UID:55095-1752364800-1752623999@howlingwoods.org
SUMMARY:Farm Closed
DESCRIPTION:
URL:https://howlingwoods.org/event/farm-closed-569/
LOCATION:New Jersey
END:VEVENT
BEGIN:VEVENT
DTSTART;VALUE=DATE:20250716
DTEND;VALUE=DATE:20250719
DTSTAMP:20260423T000515
CREATED:20250523T034908Z
LAST-MODIFIED:20250801T233754Z
UID:55081-1752624000-1752883199@howlingwoods.org
SUMMARY:Visit the Farm
DESCRIPTION:Come to the farm and meet Lyra\, Orion\, Sirius\, Raven\, Luna\, Jack\, Oberon\, Sayen\, Aristos\, Bristol\, Buddy and Holly during a one hour tour of our facility. Visit our gift shop to find cool gifts for animal lovers. You must make an appointment before visiting\, and to schedule please call 609-901-1387.
URL:https://howlingwoods.org/event/visit-the-farm-783/
LOCATION:Howling Woods Farm\, 1371 W Veterans Hwy\, Jackson\, New Jersey\, 08527
ORGANIZER;CN="Howling Woods Farm":MAILTO:luv2howl@optonline.net
END:VEVENT
BEGIN:VEVENT
DTSTART;VALUE=DATE:20250717
DTEND;VALUE=DATE:20250718
DTSTAMP:20260423T000515
CREATED:20250716T010403Z
LAST-MODIFIED:20250716T011735Z
UID:55442-1752710400-1752796799@howlingwoods.org
SUMMARY:Presentations - Edison Public Libraries
DESCRIPTION:Come and see a presentation about wolves and meet two of our animals at two public libraries in Edison. Howling Woods will be at the Clara Bartlett Library at 1pm and the Main Library at 4pm\, and again at 5:30pm. \nThe Clara Bartlett Public Library is located at 141 Hoover Ave\, Edison 08837\, and the Main Edison Public Library is located at 340 Plainfield Ave\, Edison 08817.
URL:https://howlingwoods.org/event/presentations-edison-public-libraries-2/
LOCATION:Edison Public Libraries\, 340 Plainfield Ave\, Edison\, NJ\, 08817\, United States
END:VEVENT
BEGIN:VEVENT
DTSTART;VALUE=DATE:20250719
DTEND;VALUE=DATE:20250720
DTSTAMP:20260423T000515
CREATED:20250523T035937Z
LAST-MODIFIED:20250523T035937Z
UID:55097-1752883200-1752969599@howlingwoods.org
SUMMARY:Farm Closed
DESCRIPTION:
URL:https://howlingwoods.org/event/farm-closed-570/
LOCATION:New Jersey
END:VEVENT
BEGIN:VEVENT
DTSTART;VALUE=DATE:20250720
DTEND;VALUE=DATE:20250721
DTSTAMP:20260423T000515
CREATED:20250523T035047Z
LAST-MODIFIED:20250523T035047Z
UID:55083-1752969600-1753055999@howlingwoods.org
SUMMARY:Visit the Farm
DESCRIPTION:Come to the farm and meet Lyra\, Orion\, Sirius\, Raven\, Luna\, Jack\, Oberon\, Sayen\, Aristos\, Bristol\, Buddy and Holly during a one hour tour of our facility. Visit our gift shop to find cool gifts for animal lovers. You must make an appointment before visiting\, and to schedule please call 609-901-1387.
URL:https://howlingwoods.org/event/visit-the-farm-784/
LOCATION:Howling Woods Farm\, 1371 W Veterans Hwy\, Jackson\, New Jersey\, 08527
ORGANIZER;CN="Howling Woods Farm":MAILTO:luv2howl@optonline.net
END:VEVENT
BEGIN:VEVENT
DTSTART;VALUE=DATE:20250721
DTEND;VALUE=DATE:20250723
DTSTAMP:20260423T000515
CREATED:20250523T040027Z
LAST-MODIFIED:20250523T040027Z
UID:55099-1753056000-1753228799@howlingwoods.org
SUMMARY:Farm Closed
DESCRIPTION:
URL:https://howlingwoods.org/event/farm-closed-571/
LOCATION:New Jersey
END:VEVENT
BEGIN:VEVENT
DTSTART;VALUE=DATE:20250723
DTEND;VALUE=DATE:20250726
DTSTAMP:20260423T000515
CREATED:20250523T035141Z
LAST-MODIFIED:20250523T035141Z
UID:55085-1753228800-1753487999@howlingwoods.org
SUMMARY:Visit the Farm
DESCRIPTION:Come to the farm and meet Lyra\, Orion\, Sirius\, Raven\, Luna\, Jack\, Oberon\, Sayen\, Aristos\, Bristol\, Buddy and Holly during a one hour tour of our facility. Visit our gift shop to find cool gifts for animal lovers. You must make an appointment before visiting\, and to schedule please call 609-901-1387.
URL:https://howlingwoods.org/event/visit-the-farm-785/
LOCATION:Howling Woods Farm\, 1371 W Veterans Hwy\, Jackson\, New Jersey\, 08527
ORGANIZER;CN="Howling Woods Farm":MAILTO:luv2howl@optonline.net
END:VEVENT
BEGIN:VEVENT
DTSTART;VALUE=DATE:20250724
DTEND;VALUE=DATE:20250725
DTSTAMP:20260423T000515
CREATED:20250716T012321Z
LAST-MODIFIED:20250716T012321Z
UID:55448-1753315200-1753401599@howlingwoods.org
SUMMARY:Presentation - Second Street Youth Center (private)
DESCRIPTION:
URL:https://howlingwoods.org/event/presentation-second-street-youth-center-private/
LOCATION:New Jersey
END:VEVENT
BEGIN:VEVENT
DTSTART;VALUE=DATE:20250726
DTEND;VALUE=DATE:20250727
DTSTAMP:20260423T000515
CREATED:20250523T035541Z
LAST-MODIFIED:20250523T035541Z
UID:55089-1753488000-1753574399@howlingwoods.org
SUMMARY:Visit the Farm
DESCRIPTION:Come to the farm and meet Lyra\, Orion\, Sirius\, Raven\, Luna\, Jack\, Oberon\, Sayen\, Aristos\, Bristol\, Buddy and Holly during a one hour tour of our facility. Visit our gift shop to find cool gifts for animal lovers. You must make an appointment before visiting\, and to schedule please call 609-901-1387.
URL:https://howlingwoods.org/event/visit-the-farm-786/
LOCATION:Howling Woods Farm\, 1371 W Veterans Hwy\, Jackson\, New Jersey\, 08527
ORGANIZER;CN="Howling Woods Farm":MAILTO:luv2howl@optonline.net
END:VEVENT
BEGIN:VEVENT
DTSTART;VALUE=DATE:20250727
DTEND;VALUE=DATE:20250730
DTSTAMP:20260423T000515
CREATED:20250523T040124Z
LAST-MODIFIED:20250523T040124Z
UID:55101-1753574400-1753833599@howlingwoods.org
SUMMARY:Farm Closed
DESCRIPTION:
URL:https://howlingwoods.org/event/farm-closed-572/
LOCATION:New Jersey
END:VEVENT
BEGIN:VEVENT
DTSTART;VALUE=DATE:20250730
DTEND;VALUE=DATE:20250802
DTSTAMP:20260423T000515
CREATED:20250523T035724Z
LAST-MODIFIED:20250523T035724Z
UID:55091-1753833600-1754092799@howlingwoods.org
SUMMARY:Visit the Farm
DESCRIPTION:Come to the farm and meet Lyra\, Orion\, Sirius\, Raven\, Luna\, Jack\, Oberon\, Sayen\, Aristos\, Bristol\, Buddy and Holly during a one hour tour of our facility. Visit our gift shop to find cool gifts for animal lovers. You must make an appointment before visiting\, and to schedule please call 609-901-1387.
URL:https://howlingwoods.org/event/visit-the-farm-787/
LOCATION:Howling Woods Farm\, 1371 W Veterans Hwy\, Jackson\, New Jersey\, 08527
ORGANIZER;CN="Howling Woods Farm":MAILTO:luv2howl@optonline.net
END:VEVENT
BEGIN:VEVENT
DTSTART;VALUE=DATE:20250802
DTEND;VALUE=DATE:20250803
DTSTAMP:20260423T000515
CREATED:20250523T040246Z
LAST-MODIFIED:20250523T040246Z
UID:55103-1754092800-1754179199@howlingwoods.org
SUMMARY:Farm Closed
DESCRIPTION:
URL:https://howlingwoods.org/event/farm-closed-573/
LOCATION:New Jersey
END:VEVENT
BEGIN:VEVENT
DTSTART;VALUE=DATE:20250803
DTEND;VALUE=DATE:20250804
DTSTAMP:20260423T000515
CREATED:20250523T041525Z
LAST-MODIFIED:20250523T041525Z
UID:55105-1754179200-1754265599@howlingwoods.org
SUMMARY:Visit the Farm
DESCRIPTION:Come to the farm and meet Lyra\, Orion\, Sirius\, Raven\, Luna\, Jack\, Oberon\, Sayen\, Aristos\, Bristol\, Buddy and Holly during a one hour tour of our facility. Visit our gift shop to find cool gifts for animal lovers. You must make an appointment before visiting\, and to schedule please call 609-901-1387.
URL:https://howlingwoods.org/event/visit-the-farm-788/
LOCATION:Howling Woods Farm\, 1371 W Veterans Hwy\, Jackson\, New Jersey\, 08527
ORGANIZER;CN="Howling Woods Farm":MAILTO:luv2howl@optonline.net
END:VEVENT
BEGIN:VEVENT
DTSTART;VALUE=DATE:20250804
DTEND;VALUE=DATE:20250806
DTSTAMP:20260423T000515
CREATED:20250523T042833Z
LAST-MODIFIED:20250523T042833Z
UID:55123-1754265600-1754438399@howlingwoods.org
SUMMARY:Farm Closed
DESCRIPTION:
URL:https://howlingwoods.org/event/farm-closed-574/
LOCATION:New Jersey
END:VEVENT
BEGIN:VEVENT
DTSTART;TZID=UTC:20250804T180000
DTEND;TZID=UTC:20250804T190000
DTSTAMP:20260423T000515
CREATED:20250716T043805Z
LAST-MODIFIED:20250716T044630Z
UID:55450-1754330400-1754334000@howlingwoods.org
SUMMARY:Presentation - Hoboken Public Library
DESCRIPTION:Come and see a presentation about wolves and meet two of our animals at Hoboken Public Library in Hoboken\, New Jersey.
URL:https://howlingwoods.org/event/presentation-hoboken-public-library/
LOCATION:New Jersey
END:VEVENT
BEGIN:VEVENT
DTSTART;VALUE=DATE:20250806
DTEND;VALUE=DATE:20250809
DTSTAMP:20260423T000515
CREATED:20250523T041731Z
LAST-MODIFIED:20250523T041731Z
UID:55107-1754438400-1754697599@howlingwoods.org
SUMMARY:Visit the Farm
DESCRIPTION:Come to the farm and meet Lyra\, Orion\, Sirius\, Raven\, Luna\, Jack\, Oberon\, Sayen\, Aristos\, Bristol\, Buddy and Holly during a one hour tour of our facility. Visit our gift shop to find cool gifts for animal lovers. You must make an appointment before visiting\, and to schedule please call 609-901-1387.
URL:https://howlingwoods.org/event/visit-the-farm-789/
LOCATION:Howling Woods Farm\, 1371 W Veterans Hwy\, Jackson\, New Jersey\, 08527
ORGANIZER;CN="Howling Woods Farm":MAILTO:luv2howl@optonline.net
END:VEVENT
END:VCALENDAR