BEGIN:VCALENDAR
VERSION:2.0
PRODID:-//Howling Woods Farm - ECPv6.15.20//NONSGML v1.0//EN
CALSCALE:GREGORIAN
METHOD:PUBLISH
X-WR-CALNAME:Howling Woods Farm
X-ORIGINAL-URL:https://howlingwoods.org
X-WR-CALDESC:Events for Howling Woods Farm
REFRESH-INTERVAL;VALUE=DURATION:PT1H
X-Robots-Tag:noindex
X-PUBLISHED-TTL:PT1H
BEGIN:VTIMEZONE
TZID:UTC
BEGIN:STANDARD
TZOFFSETFROM:+0000
TZOFFSETTO:+0000
TZNAME:UTC
DTSTART:20240101T000000
END:STANDARD
END:VTIMEZONE
BEGIN:VEVENT
DTSTART;VALUE=DATE:20251207
DTEND;VALUE=DATE:20251208
DTSTAMP:20260423T012225
CREATED:20250828T060653Z
LAST-MODIFIED:20250828T060653Z
UID:55746-1765065600-1765151999@howlingwoods.org
SUMMARY:Visit the Farm
DESCRIPTION:Come to the farm and meet Orion\, Lyra\, Raven\, Luna\, Jack\, Oberon\, Sayen\, Aristos\, Bristol\, Buddy and Holly during a one hour tour of our facility. You must make an appointment before visiting\, and to schedule please call 609-901-1387. Visit our gift shop to find cool gifts for animal lovers.
URL:https://howlingwoods.org/event/visit-the-farm-819/
LOCATION:New Jersey
END:VEVENT
BEGIN:VEVENT
DTSTART;TZID=UTC:20251207T090000
DTEND;TZID=UTC:20251207T150000
DTSTAMP:20260423T012225
CREATED:20250802T030628Z
LAST-MODIFIED:20251128T092202Z
UID:55554-1765098000-1765119600@howlingwoods.org
SUMMARY:Photos with Santa
DESCRIPTION:Santa and his wolf will be at Howling Woods Farm this Sunday November 30. Children of all ages are welcome for a photo of Santa and his wolf\, or just with Santa\, no appointment necessary. You can also bring your pet for a photo (however\, Santa’s wolf will not be present)  Santa will be at the farm from 9am to 3pm.  Address is 1371 W Veterans Hwy\, Jackson\, NJ 08527.  Phone 609-901-1387.
URL:https://howlingwoods.org/event/55554/
LOCATION:Howling Woods Farm\, 1371 W Veterans Hwy\, Jackson\, New Jersey\, 08527
ORGANIZER;CN="Howling Woods Farm":MAILTO:luv2howl@optonline.net
END:VEVENT
BEGIN:VEVENT
DTSTART;VALUE=DATE:20251208
DTEND;VALUE=DATE:20251210
DTSTAMP:20260423T012225
CREATED:20250828T060725Z
LAST-MODIFIED:20250828T060725Z
UID:55748-1765152000-1765324799@howlingwoods.org
SUMMARY:Farm Closed
DESCRIPTION:
URL:https://howlingwoods.org/event/farm-closed-603/
LOCATION:New Jersey
END:VEVENT
BEGIN:VEVENT
DTSTART;VALUE=DATE:20251210
DTEND;VALUE=DATE:20251213
DTSTAMP:20260423T012225
CREATED:20250828T061350Z
LAST-MODIFIED:20250828T061350Z
UID:55758-1765324800-1765583999@howlingwoods.org
SUMMARY:Visit the Farm
DESCRIPTION:Come to the farm and meet Orion\, Lyra\, Raven\, Luna\, Jack\, Oberon\, Sayen\, Aristos\, Bristol\, Buddy and Holly during a one hour tour of our facility. You must make an appointment before visiting\, and to schedule please call 609-901-1387. Visit our gift shop to find cool gifts for animal lovers.
URL:https://howlingwoods.org/event/visit-the-farm-820/
LOCATION:Howling Woods Farm\, 1371 W Veterans Hwy\, Jackson\, New Jersey\, 08527
ORGANIZER;CN="Howling Woods Farm":MAILTO:luv2howl@optonline.net
END:VEVENT
BEGIN:VEVENT
DTSTART;VALUE=DATE:20251213
DTEND;VALUE=DATE:20251214
DTSTAMP:20260423T012225
CREATED:20250828T061520Z
LAST-MODIFIED:20250828T061520Z
UID:55760-1765584000-1765670399@howlingwoods.org
SUMMARY:Visit the Farm
DESCRIPTION:Come to the farm and meet Orion\, Lyra\, Raven\, Luna\, Jack\, Oberon\, Sayen\, Aristos\, Bristol\, Buddy and Holly during a one hour tour of our facility. You must make an appointment before visiting\, and to schedule please call 609-901-1387. Visit our gift shop to find cool gifts for animal lovers.
URL:https://howlingwoods.org/event/visit-the-farm-821/
LOCATION:Howling Woods Farm\, 1371 W Veterans Hwy\, Jackson\, New Jersey\, 08527
ORGANIZER;CN="Howling Woods Farm":MAILTO:luv2howl@optonline.net
END:VEVENT
BEGIN:VEVENT
DTSTART;TZID=UTC:20251213T090000
DTEND;TZID=UTC:20251213T150000
DTSTAMP:20260423T012225
CREATED:20250802T030740Z
LAST-MODIFIED:20251128T092259Z
UID:55556-1765616400-1765638000@howlingwoods.org
SUMMARY:Photos with Santa
DESCRIPTION:Santa and his wolf will be at Howling Woods Farm this Sunday November 30. Children of all ages are welcome for a photo of Santa and his wolf\, or just with Santa\, no appointment necessary. You can also bring your pet for a photo (however\, Santa’s wolf will not be present)  Santa will be at the farm from 9am to 3pm.  Address is 1371 W Veterans Hwy\, Jackson\, NJ 08527.  Phone 609-901-1387.
URL:https://howlingwoods.org/event/photos-with-santa-6/
LOCATION:Howling Woods Farm\, 1371 W Veterans Hwy\, Jackson\, New Jersey\, 08527
ORGANIZER;CN="Howling Woods Farm":MAILTO:luv2howl@optonline.net
END:VEVENT
BEGIN:VEVENT
DTSTART;VALUE=DATE:20251214
DTEND;VALUE=DATE:20251217
DTSTAMP:20260423T012225
CREATED:20250828T060812Z
LAST-MODIFIED:20250828T060812Z
UID:55750-1765670400-1765929599@howlingwoods.org
SUMMARY:Farm Closed
DESCRIPTION:
URL:https://howlingwoods.org/event/farm-closed-604/
LOCATION:New Jersey
END:VEVENT
BEGIN:VEVENT
DTSTART;TZID=UTC:20251215T180000
DTEND;TZID=UTC:20251215T190000
DTSTAMP:20260423T012225
CREATED:20250811T231439Z
LAST-MODIFIED:20250811T231841Z
UID:55631-1765821600-1765825200@howlingwoods.org
SUMMARY:Presentation - Jersey City Public Library
DESCRIPTION:Come and see a presentation about wolves and meet two of our animals at the Jersey City Public Library in Jersey City\, New Jersey.
URL:https://howlingwoods.org/event/presentation-jersey-city-publica-library/
LOCATION:Jersey City Public Library\, 472 Jersey Ave\, Jersey City\, NJ\, United States
END:VEVENT
BEGIN:VEVENT
DTSTART;VALUE=DATE:20251217
DTEND;VALUE=DATE:20251220
DTSTAMP:20260423T012225
CREATED:20250828T061654Z
LAST-MODIFIED:20250828T061654Z
UID:55762-1765929600-1766188799@howlingwoods.org
SUMMARY:Visit the Farm
DESCRIPTION:Come to the farm and meet Orion\, Lyra\, Raven\, Luna\, Jack\, Oberon\, Sayen\, Aristos\, Bristol\, Buddy and Holly during a one hour tour of our facility. You must make an appointment before visiting\, and to schedule please call 609-901-1387. Visit our gift shop to find cool gifts for animal lovers.
URL:https://howlingwoods.org/event/visit-the-farm-822/
LOCATION:Howling Woods Farm\, 1371 W Veterans Hwy\, Jackson\, New Jersey\, 08527
ORGANIZER;CN="Howling Woods Farm":MAILTO:luv2howl@optonline.net
END:VEVENT
BEGIN:VEVENT
DTSTART;VALUE=DATE:20251220
DTEND;VALUE=DATE:20251221
DTSTAMP:20260423T012225
CREATED:20250828T060846Z
LAST-MODIFIED:20250828T060846Z
UID:55752-1766188800-1766275199@howlingwoods.org
SUMMARY:Farm Closed
DESCRIPTION:
URL:https://howlingwoods.org/event/farm-closed-605/
LOCATION:New Jersey
END:VEVENT
BEGIN:VEVENT
DTSTART;VALUE=DATE:20251221
DTEND;VALUE=DATE:20251222
DTSTAMP:20260423T012225
CREATED:20250828T061816Z
LAST-MODIFIED:20250828T061816Z
UID:55764-1766275200-1766361599@howlingwoods.org
SUMMARY:Visit the Farm
DESCRIPTION:Come to the farm and meet Orion\, Lyra\, Raven\, Luna\, Jack\, Oberon\, Sayen\, Aristos\, Bristol\, Buddy and Holly during a one hour tour of our facility. You must make an appointment before visiting\, and to schedule please call 609-901-1387. Visit our gift shop to find cool gifts for animal lovers.
URL:https://howlingwoods.org/event/visit-the-farm-823/
LOCATION:Howling Woods Farm\, 1371 W Veterans Hwy\, Jackson\, New Jersey\, 08527
ORGANIZER;CN="Howling Woods Farm":MAILTO:luv2howl@optonline.net
END:VEVENT
BEGIN:VEVENT
DTSTART;VALUE=DATE:20251222
DTEND;VALUE=DATE:20251224
DTSTAMP:20260423T012225
CREATED:20250828T060931Z
LAST-MODIFIED:20251023T042554Z
UID:55754-1766361600-1766534399@howlingwoods.org
SUMMARY:Visit the Farm
DESCRIPTION:Come to the farm and meet Orion\, Lyra\, Raven\, Luna\, Jack\, Oberon\, Sayen\, Aristos\, Buddy and Holly during a one hour tour of our facility. You must make an appointment before visiting\, and to schedule please call 609-901-1387. Visit our gift shop to find cool gifts for animal lovers.
URL:https://howlingwoods.org/event/farm-closed-606/
LOCATION:Howling Woods Farm\, 1371 W Veterans Hwy\, Jackson\, New Jersey\, 08527
ORGANIZER;CN="Howling Woods Farm":MAILTO:luv2howl@optonline.net
END:VEVENT
BEGIN:VEVENT
DTSTART;VALUE=DATE:20251224
DTEND;VALUE=DATE:20251225
DTSTAMP:20260423T012225
CREATED:20250905T024635Z
LAST-MODIFIED:20250905T024635Z
UID:55823-1766534400-1766620799@howlingwoods.org
SUMMARY:Visit the Farm
DESCRIPTION:Come to the farm and meet Lyra\, Orion\, Raven\, Luna\, Jack\, Oberon\, Sayen\, Aristos\, Bristol\, Buddy and Holly during a one hour tour of our facility. Visit our gift shop to find cool gifts for animal lovers. You must make an appointment before visiting\, and to schedule please call 609-901-1387.
URL:https://howlingwoods.org/event/visit-the-farm-831/
LOCATION:Howling Woods Farm\, 1371 W Veterans Hwy\, Jackson\, New Jersey\, 08527
ORGANIZER;CN="Howling Woods Farm":MAILTO:luv2howl@optonline.net
END:VEVENT
BEGIN:VEVENT
DTSTART;VALUE=DATE:20251225
DTEND;VALUE=DATE:20251226
DTSTAMP:20260423T012225
CREATED:20250904T232134Z
LAST-MODIFIED:20250904T232134Z
UID:55817-1766620800-1766707199@howlingwoods.org
SUMMARY:Farm Closed for Christmas
DESCRIPTION:
URL:https://howlingwoods.org/event/farm-closed-for-christmas/
LOCATION:New Jersey
END:VEVENT
BEGIN:VEVENT
DTSTART;VALUE=DATE:20251226
DTEND;VALUE=DATE:20251227
DTSTAMP:20260423T012225
CREATED:20250904T232234Z
LAST-MODIFIED:20250904T232234Z
UID:55819-1766707200-1766793599@howlingwoods.org
SUMMARY:Visit the Farm
DESCRIPTION:Come to the farm and meet Lyra\, Orion\, Raven\, Luna\, Jack\, Oberon\, Sayen\, Aristos\, Bristol\, Buddy and Holly during a one hour tour of our facility. Visit our gift shop to find cool gifts for animal lovers. You must make an appointment before visiting\, and to schedule please call 609-901-1387.
URL:https://howlingwoods.org/event/visit-the-farm-829/
LOCATION:Howling Woods Farm\, 1371 W Veterans Hwy\, Jackson\, New Jersey\, 08527
ORGANIZER;CN="Howling Woods Farm":MAILTO:luv2howl@optonline.net
END:VEVENT
BEGIN:VEVENT
DTSTART;VALUE=DATE:20251227
DTEND;VALUE=DATE:20251228
DTSTAMP:20260423T012225
CREATED:20250904T232336Z
LAST-MODIFIED:20250904T232418Z
UID:55821-1766793600-1766879999@howlingwoods.org
SUMMARY:Visit the Farm
DESCRIPTION:Come to the farm and meet Lyra\, Orion\, Raven\, Luna\, Jack\, Oberon\, Sayen\, Aristos\, Bristol\, Buddy and Holly during a one hour tour of our facility. Visit our gift shop to find cool gifts for animal lovers. You must make an appointment before visiting\, and to schedule please call 609-901-1387.
URL:https://howlingwoods.org/event/visit-the-farm-830/
LOCATION:Howling Woods Farm\, 1371 W Veterans Hwy\, Jackson\, New Jersey\, 08527
ORGANIZER;CN="Howling Woods Farm":MAILTO:luv2howl@optonline.net
END:VEVENT
BEGIN:VEVENT
DTSTART;VALUE=DATE:20251228
DTEND;VALUE=DATE:20251229
DTSTAMP:20260423T012225
CREATED:20251023T043714Z
LAST-MODIFIED:20251023T043714Z
UID:56041-1766880000-1766966399@howlingwoods.org
SUMMARY:Farm Closed
DESCRIPTION:
URL:https://howlingwoods.org/event/farm-closed-608/
LOCATION:New Jersey
END:VEVENT
BEGIN:VEVENT
DTSTART;VALUE=DATE:20251229
DTEND;VALUE=DATE:20251230
DTSTAMP:20260423T012225
CREATED:20250828T061018Z
LAST-MODIFIED:20251023T043315Z
UID:55756-1766966400-1767052799@howlingwoods.org
SUMMARY:Visit the Farm
DESCRIPTION:Come to the farm and meet Orion\, Lyra\, Raven\, Luna\, Jack\, Oberon\, Sayen\, Aristos\, Bristol\, Buddy and Holly during a one hour tour of our facility. You must make an appointment before visiting\, and to schedule please call 609-901-1387. Visit our gift shop to find cool gifts for animal lovers.
URL:https://howlingwoods.org/event/farm-closed-607/
LOCATION:Howling Woods Farm\, 1371 W Veterans Hwy\, Jackson\, New Jersey\, 08527
ORGANIZER;CN="Howling Woods Farm":MAILTO:luv2howl@optonline.net
END:VEVENT
BEGIN:VEVENT
DTSTART;VALUE=DATE:20251230
DTEND;VALUE=DATE:20251231
DTSTAMP:20260423T012225
CREATED:20251023T043435Z
LAST-MODIFIED:20251023T043435Z
UID:56039-1767052800-1767139199@howlingwoods.org
SUMMARY:Visit the Farm
DESCRIPTION:Come to the farm and meet Orion\, Lyra\, Raven\, Luna\, Jack\, Oberon\, Sayen\, Aristos\, Bristol\, Buddy and Holly during a one hour tour of our facility. You must make an appointment before visiting\, and to schedule please call 609-901-1387. Visit our gift shop to find cool gifts for animal lovers.
URL:https://howlingwoods.org/event/visit-the-farm-832/
LOCATION:Howling Woods Farm\, 1371 W Veterans Hwy\, Jackson\, New Jersey\, 08527
ORGANIZER;CN="Howling Woods Farm":MAILTO:luv2howl@optonline.net
END:VEVENT
BEGIN:VEVENT
DTSTART;VALUE=DATE:20251231
DTEND;VALUE=DATE:20260101
DTSTAMP:20260423T012225
CREATED:20251023T044008Z
LAST-MODIFIED:20251023T044146Z
UID:56043-1767139200-1767225599@howlingwoods.org
SUMMARY:Visit the Farm
DESCRIPTION:Come to the farm and meet Orion\, Lyra\, Raven\, Luna\, Jack\, Oberon\, Sayen\, Aristos\, Bristol\, Buddy and Holly during a one hour tour of our facility. You must make an appointment before visiting\, and to schedule please call 609-901-1387. Visit our gift shop to find cool gifts for animal lovers.
URL:https://howlingwoods.org/event/visit-the-farm-833/
LOCATION:Howling Woods Farm\, 1371 W Veterans Hwy\, Jackson\, New Jersey\, 08527
ORGANIZER;CN="Howling Woods Farm":MAILTO:luv2howl@optonline.net
END:VEVENT
BEGIN:VEVENT
DTSTART;VALUE=DATE:20260101
DTEND;VALUE=DATE:20260102
DTSTAMP:20260423T012225
CREATED:20251023T044349Z
LAST-MODIFIED:20251023T044349Z
UID:56045-1767225600-1767311999@howlingwoods.org
SUMMARY:Farm Closed for New Years
DESCRIPTION:
URL:https://howlingwoods.org/event/farm-closed-for-new-years/
LOCATION:New Jersey
END:VEVENT
BEGIN:VEVENT
DTSTART;VALUE=DATE:20260102
DTEND;VALUE=DATE:20260103
DTSTAMP:20260423T012225
CREATED:20251023T044831Z
LAST-MODIFIED:20251023T044931Z
UID:56047-1767312000-1767398399@howlingwoods.org
SUMMARY:Visit the Farm
DESCRIPTION:Come to the farm and meet Orion\, Lyra\, Raven\, Luna\, Jack\, Oberon\, Sayen\, Aristos\, Bristol\, Buddy and Holly during a one hour tour of our facility. You must make an appointment before visiting\, and to schedule please call 609-901-1387. Visit our gift shop to find cool gifts for animal lovers.
URL:https://howlingwoods.org/event/visit-the-farm-834/
LOCATION:Howling Woods Farm\, 1371 W Veterans Hwy\, Jackson\, New Jersey\, 08527
ORGANIZER;CN="Howling Woods Farm":MAILTO:luv2howl@optonline.net
END:VEVENT
BEGIN:VEVENT
DTSTART;VALUE=DATE:20260103
DTEND;VALUE=DATE:20260104
DTSTAMP:20260423T012225
CREATED:20251023T045206Z
LAST-MODIFIED:20251024T025329Z
UID:56049-1767398400-1767484799@howlingwoods.org
SUMMARY:Farm Closed
DESCRIPTION:
URL:https://howlingwoods.org/event/visit-the-farm-835/
LOCATION:Howling Woods Farm\, 1371 W Veterans Hwy\, Jackson\, New Jersey\, 08527
ORGANIZER;CN="Howling Woods Farm":MAILTO:luv2howl@optonline.net
END:VEVENT
BEGIN:VEVENT
DTSTART;VALUE=DATE:20260104
DTEND;VALUE=DATE:20260105
DTSTAMP:20260423T012225
CREATED:20251023T045425Z
LAST-MODIFIED:20251024T025703Z
UID:56051-1767484800-1767571199@howlingwoods.org
SUMMARY:Visit the Farm
DESCRIPTION:Come to the farm and meet Orion\, Lyra\, Raven\, Luna\, Jack\, Oberon\, Sayen\, Aristos\, Bristol\, Buddy and Holly during a one hour tour of our facility. You must make an appointment before visiting\, and to schedule please call 609-901-1387. Visit our gift shop to find cool gifts for animal lovers.
URL:https://howlingwoods.org/event/farm-closed-609/
LOCATION:Howling Woods Farm\, 1371 W Veterans Hwy\, Jackson\, New Jersey\, 08527
ORGANIZER;CN="Howling Woods Farm":MAILTO:luv2howl@optonline.net
END:VEVENT
BEGIN:VEVENT
DTSTART;VALUE=DATE:20260110
DTEND;VALUE=DATE:20260111
DTSTAMP:20260423T012225
CREATED:20251024T025825Z
LAST-MODIFIED:20251024T025825Z
UID:56065-1768003200-1768089599@howlingwoods.org
SUMMARY:Visit the Farm
DESCRIPTION:Come to the farm and meet Orion\, Lyra\, Raven\, Luna\, Jack\, Oberon\, Sayen\, Aristos\, Bristol\, Buddy and Holly during a one hour tour of our facility. You must make an appointment before visiting\, and to schedule please call 609-901-1387. Visit our gift shop to find cool gifts for animal lovers.
URL:https://howlingwoods.org/event/visit-the-farm-836/
LOCATION:Howling Woods Farm\, 1371 W Veterans Hwy\, Jackson\, New Jersey\, 08527
ORGANIZER;CN="Howling Woods Farm":MAILTO:luv2howl@optonline.net
END:VEVENT
BEGIN:VEVENT
DTSTART;VALUE=DATE:20260111
DTEND;VALUE=DATE:20260112
DTSTAMP:20260423T012225
CREATED:20251024T025919Z
LAST-MODIFIED:20251024T025919Z
UID:56067-1768089600-1768175999@howlingwoods.org
SUMMARY:Farm Closed
DESCRIPTION:
URL:https://howlingwoods.org/event/farm-closed-610/
LOCATION:New Jersey
END:VEVENT
BEGIN:VEVENT
DTSTART;VALUE=DATE:20260114
DTEND;VALUE=DATE:20260115
DTSTAMP:20260423T012225
CREATED:20260114T041209Z
LAST-MODIFIED:20260114T041209Z
UID:56471-1768348800-1768435199@howlingwoods.org
SUMMARY:Visit the Farm
DESCRIPTION:Come to the farm and meet Orion\, Lyra\, Raven\, Luna\, Jack\, Oberon\, Sayen\, Aristos\, Bristol\, Buddy and Holly during a one hour tour of our facility. You must make an appointment before visiting\, and to schedule please call 609-901-1387. Visit our gift shop to find cool gifts for animal lovers.
URL:https://howlingwoods.org/event/visit-the-farm-843/
LOCATION:Howling Woods Farm\, 1371 W Veterans Hwy\, Jackson\, New Jersey\, 08527
ORGANIZER;CN="Howling Woods Farm":MAILTO:luv2howl@optonline.net
END:VEVENT
BEGIN:VEVENT
DTSTART;VALUE=DATE:20260115
DTEND;VALUE=DATE:20260116
DTSTAMP:20260423T012225
CREATED:20260114T041313Z
LAST-MODIFIED:20260114T041313Z
UID:56473-1768435200-1768521599@howlingwoods.org
SUMMARY:Farm Closed
DESCRIPTION:
URL:https://howlingwoods.org/event/farm-closed-618/
LOCATION:New Jersey
END:VEVENT
BEGIN:VEVENT
DTSTART;VALUE=DATE:20260116
DTEND;VALUE=DATE:20260117
DTSTAMP:20260423T012225
CREATED:20260114T041550Z
LAST-MODIFIED:20260114T041550Z
UID:56475-1768521600-1768607999@howlingwoods.org
SUMMARY:Presentation - Spring Lake Heights Elementary School (private)
DESCRIPTION:
URL:https://howlingwoods.org/event/presentation-spring-lake-heights-elementary-school-private/
LOCATION:New Jersey
END:VEVENT
BEGIN:VEVENT
DTSTART;VALUE=DATE:20260116
DTEND;VALUE=DATE:20260117
DTSTAMP:20260423T012225
CREATED:20260114T041721Z
LAST-MODIFIED:20260114T041721Z
UID:56477-1768521600-1768607999@howlingwoods.org
SUMMARY:Visit the Farm
DESCRIPTION:Come to the farm and meet Orion\, Lyra\, Raven\, Luna\, Jack\, Oberon\, Sayen\, Aristos\, Bristol\, Buddy and Holly during a one hour tour of our facility. You must make an appointment before visiting\, and to schedule please call 609-901-1387. Visit our gift shop to find cool gifts for animal lovers.
URL:https://howlingwoods.org/event/visit-the-farm-844/
LOCATION:Howling Woods Farm\, 1371 W Veterans Hwy\, Jackson\, New Jersey\, 08527
ORGANIZER;CN="Howling Woods Farm":MAILTO:luv2howl@optonline.net
END:VEVENT
END:VCALENDAR