BEGIN:VCALENDAR
VERSION:2.0
PRODID:-//Howling Woods Farm - ECPv6.15.20//NONSGML v1.0//EN
CALSCALE:GREGORIAN
METHOD:PUBLISH
X-WR-CALNAME:Howling Woods Farm
X-ORIGINAL-URL:https://howlingwoods.org
X-WR-CALDESC:Events for Howling Woods Farm
REFRESH-INTERVAL;VALUE=DURATION:PT1H
X-Robots-Tag:noindex
X-PUBLISHED-TTL:PT1H
BEGIN:VTIMEZONE
TZID:UTC
BEGIN:STANDARD
TZOFFSETFROM:+0000
TZOFFSETTO:+0000
TZNAME:UTC
DTSTART:20210101T000000
END:STANDARD
END:VTIMEZONE
BEGIN:VEVENT
DTSTART;VALUE=DATE:20220411
DTEND;VALUE=DATE:20220412
DTSTAMP:20260420T155259
CREATED:20220202T063546Z
LAST-MODIFIED:20220202T063546Z
UID:42548-1649635200-1649721599@howlingwoods.org
SUMMARY:Farm Closed
DESCRIPTION:
URL:https://howlingwoods.org/event/farm-closed-400/
LOCATION:New Jersey
END:VEVENT
BEGIN:VEVENT
DTSTART;VALUE=DATE:20220410
DTEND;VALUE=DATE:20220411
DTSTAMP:20260420T155259
CREATED:20220202T063854Z
LAST-MODIFIED:20220202T063854Z
UID:42558-1649548800-1649635199@howlingwoods.org
SUMMARY:Farm Open
DESCRIPTION:Come to the farm and meet our animals Naiche\, Kotori\, Orion\, Sirius\, Raven\, Luna\, Jack\, Suki\, Sayen & Chante during a one hour tour of our facility. You must make an appointment before visiting\, and to schedule an appointment please call 732-534-5745 or 609-901-1387 Monday thru Friday between 11am and 4pm. We usually book up 4 weeks in advance on weekends\, so please call ahead.
URL:https://howlingwoods.org/event/farm-open-22/
LOCATION:New Jersey
END:VEVENT
BEGIN:VEVENT
DTSTART;VALUE=DATE:20220409
DTEND;VALUE=DATE:20220410
DTSTAMP:20260420T155259
CREATED:20220202T063519Z
LAST-MODIFIED:20220202T063519Z
UID:42546-1649462400-1649548799@howlingwoods.org
SUMMARY:Farm Closed
DESCRIPTION:
URL:https://howlingwoods.org/event/farm-closed-399/
LOCATION:New Jersey
END:VEVENT
BEGIN:VEVENT
DTSTART;VALUE=DATE:20220408
DTEND;VALUE=DATE:20220409
DTSTAMP:20260420T155259
CREATED:20220315T062734Z
LAST-MODIFIED:20220315T062734Z
UID:42900-1649376000-1649462399@howlingwoods.org
SUMMARY:Visit the Farm
DESCRIPTION:Come to the farm and meet our animals Naiche\, Kotori\, Orion\, Sirius\, Raven\, Luna\, Jack\, Suki\, Sayen & Chante during a one hour tour of our facility. You must make an appointment before visiting\, and to schedule an appointment please call 732-534-5745 or 609-901-1387 Monday thru Friday between 11am and 4pm. We usually book up 4 weeks in advance on weekends\, so please call ahead.
URL:https://howlingwoods.org/event/visit-the-farm-395/
LOCATION:New Jersey
END:VEVENT
BEGIN:VEVENT
DTSTART;VALUE=DATE:20220407
DTEND;VALUE=DATE:20220408
DTSTAMP:20260420T155259
CREATED:20220219T081347Z
LAST-MODIFIED:20220219T081347Z
UID:42727-1649289600-1649375999@howlingwoods.org
SUMMARY:Farm Closed
DESCRIPTION:
URL:https://howlingwoods.org/event/farm-closed-421/
LOCATION:New Jersey
END:VEVENT
BEGIN:VEVENT
DTSTART;VALUE=DATE:20220406
DTEND;VALUE=DATE:20220407
DTSTAMP:20260420T155259
CREATED:20220315T062657Z
LAST-MODIFIED:20220315T062657Z
UID:42898-1649203200-1649289599@howlingwoods.org
SUMMARY:Visit the Farm
DESCRIPTION:Come to the farm and meet our animals Naiche\, Kotori\, Orion\, Sirius\, Raven\, Luna\, Jack\, Suki\, Sayen & Chante during a one hour tour of our facility. You must make an appointment before visiting\, and to schedule an appointment please call 732-534-5745 or 609-901-1387 Monday thru Friday between 11am and 4pm. We usually book up 4 weeks in advance on weekends\, so please call ahead.
URL:https://howlingwoods.org/event/visit-the-farm-375/
LOCATION:New Jersey
END:VEVENT
BEGIN:VEVENT
DTSTART;VALUE=DATE:20220404
DTEND;VALUE=DATE:20220406
DTSTAMP:20260420T155259
CREATED:20220202T063452Z
LAST-MODIFIED:20220219T080038Z
UID:42544-1649030400-1649203199@howlingwoods.org
SUMMARY:Farm Closed
DESCRIPTION:
URL:https://howlingwoods.org/event/farm-closed-398/
LOCATION:New Jersey
END:VEVENT
BEGIN:VEVENT
DTSTART;VALUE=DATE:20220403
DTEND;VALUE=DATE:20220404
DTSTAMP:20260420T155259
CREATED:20220107T092110Z
LAST-MODIFIED:20220107T092110Z
UID:42418-1648944000-1649030399@howlingwoods.org
SUMMARY:Farm Closed
DESCRIPTION:
URL:https://howlingwoods.org/event/farm-closed-397/
LOCATION:New Jersey
END:VEVENT
BEGIN:VEVENT
DTSTART;VALUE=DATE:20220401
DTEND;VALUE=DATE:20220403
DTSTAMP:20260420T155259
CREATED:20220107T091239Z
LAST-MODIFIED:20220219T075740Z
UID:42402-1648771200-1648943999@howlingwoods.org
SUMMARY:Visit the Farm
DESCRIPTION:Come to the farm and meet our animals Naiche\, Kotori\, Orion\, Sirius\, Raven\, Luna\, Jack\, Suki\, Sayen & Chante during a one hour tour of our facility. You must make an appointment before visiting\, and to schedule an appointment please call 732-534-5745 or 609-901-1387 Monday thru Friday between 11am and 4pm. We usually book up 4 weeks in advance on weekends\, so please call ahead.
URL:https://howlingwoods.org/event/visit-the-farm-368/
LOCATION:New Jersey
END:VEVENT
BEGIN:VEVENT
DTSTART;VALUE=DATE:20220331
DTEND;VALUE=DATE:20220401
DTSTAMP:20260420T155259
CREATED:20220219T074543Z
LAST-MODIFIED:20220219T074543Z
UID:42721-1648684800-1648771199@howlingwoods.org
SUMMARY:Farm Closed
DESCRIPTION:
URL:https://howlingwoods.org/event/farm-closed-420/
LOCATION:New Jersey
END:VEVENT
BEGIN:VEVENT
DTSTART;VALUE=DATE:20220330
DTEND;VALUE=DATE:20220331
DTSTAMP:20260420T155259
CREATED:20220202T061828Z
LAST-MODIFIED:20220219T074921Z
UID:42534-1648598400-1648684799@howlingwoods.org
SUMMARY:Visit the Farm
DESCRIPTION:Come to the farm and meet our animals Naiche\, Kotori\, Orion\, Sirius\, Raven\, Luna\, Jack\, Suki\, Sayen & Chante during a one hour tour of our facility. You must make an appointment before visiting\, and to schedule an appointment please call 732-534-5745 or 609-901-1387 Monday thru Friday between 11am and 4pm. We usually book up 4 weeks in advance on weekends\, so please call ahead.
URL:https://howlingwoods.org/event/visit-the-farm-373/
LOCATION:New Jersey
END:VEVENT
BEGIN:VEVENT
DTSTART;VALUE=DATE:20220328
DTEND;VALUE=DATE:20220330
DTSTAMP:20260420T155259
CREATED:20220107T091731Z
LAST-MODIFIED:20220107T091731Z
UID:42410-1648425600-1648598399@howlingwoods.org
SUMMARY:Farm Closed
DESCRIPTION:
URL:https://howlingwoods.org/event/farm-closed-393/
LOCATION:New Jersey
END:VEVENT
BEGIN:VEVENT
DTSTART;VALUE=DATE:20220327
DTEND;VALUE=DATE:20220328
DTSTAMP:20260420T155259
CREATED:20220107T091115Z
LAST-MODIFIED:20220107T091115Z
UID:42400-1648339200-1648425599@howlingwoods.org
SUMMARY:Visit the Farm
DESCRIPTION:Come to the farm and meet our animals Naiche\, Kotori\, Orion\, Sirius\, Raven\, Luna\, Jack\, Suki\, Sayen & Chante during a one hour tour of our facility. You must make an appointment before visiting\, and to schedule an appointment please call 732-534-5745 or 609-901-1387 Monday thru Friday between 11am and 4pm. We usually book up 4 weeks in advance on weekends\, so please call ahead.
URL:https://howlingwoods.org/event/visit-the-farm-367/
LOCATION:New Jersey
END:VEVENT
BEGIN:VEVENT
DTSTART;VALUE=DATE:20220326
DTEND;VALUE=DATE:20220327
DTSTAMP:20260420T155259
CREATED:20220107T091943Z
LAST-MODIFIED:20220107T091943Z
UID:42416-1648252800-1648339199@howlingwoods.org
SUMMARY:Farm Closed
DESCRIPTION:
URL:https://howlingwoods.org/event/farm-closed-396/
LOCATION:New Jersey
END:VEVENT
BEGIN:VEVENT
DTSTART;VALUE=DATE:20220325
DTEND;VALUE=DATE:20220326
DTSTAMP:20260420T155259
CREATED:20220219T074204Z
LAST-MODIFIED:20220219T074204Z
UID:42719-1648166400-1648252799@howlingwoods.org
SUMMARY:Visit the Farm
DESCRIPTION:Come to the farm and meet our animals Naiche\, Kotori\, Orion\, Sirius\, Raven\, Luna\, Jack\, Suki\, Sayen & Chante during a one hour tour of our facility. You must make an appointment before visiting\, and to schedule an appointment please call 732-534-5745 or 609-901-1387 Monday thru Friday between 11am and 4pm. We usually book up 4 weeks in advance on weekends\, so please call ahead.
URL:https://howlingwoods.org/event/visit-the-farm-394/
LOCATION:New Jersey
END:VEVENT
BEGIN:VEVENT
DTSTART;TZID=UTC:20220324T130000
DTEND;TZID=UTC:20220324T140000
DTSTAMP:20260420T155259
CREATED:20220219T065622Z
LAST-MODIFIED:20220219T065622Z
UID:42704-1648126800-1648130400@howlingwoods.org
SUMMARY:Presentation - Monroe Village (Private)
DESCRIPTION:
URL:https://howlingwoods.org/event/presentation-monroe-village-private/
LOCATION:New Jersey
END:VEVENT
BEGIN:VEVENT
DTSTART;VALUE=DATE:20220324
DTEND;VALUE=DATE:20220325
DTSTAMP:20260420T155259
CREATED:20220219T073917Z
LAST-MODIFIED:20220219T073917Z
UID:42714-1648080000-1648166399@howlingwoods.org
SUMMARY:Farm Closed
DESCRIPTION:
URL:https://howlingwoods.org/event/farm-closed-419/
LOCATION:New Jersey
END:VEVENT
BEGIN:VEVENT
DTSTART;VALUE=DATE:20220323
DTEND;VALUE=DATE:20220324
DTSTAMP:20260420T155259
CREATED:20220202T061727Z
LAST-MODIFIED:20220219T073816Z
UID:42532-1647993600-1648079999@howlingwoods.org
SUMMARY:Visit the Farm
DESCRIPTION:Come to the farm and meet our animals Naiche\, Kotori\, Orion\, Sirius\, Raven\, Luna\, Jack\, Suki\, Sayen & Chante during a one hour tour of our facility. You must make an appointment before visiting\, and to schedule an appointment please call 732-534-5745 or 609-901-1387 Monday thru Friday between 11am and 4pm. We usually book up 4 weeks in advance on weekends\, so please call ahead.
URL:https://howlingwoods.org/event/visit-the-farm-372/
LOCATION:New Jersey
END:VEVENT
BEGIN:VEVENT
DTSTART;VALUE=DATE:20220320
DTEND;VALUE=DATE:20220323
DTSTAMP:20260420T155259
CREATED:20220107T091640Z
LAST-MODIFIED:20220107T091640Z
UID:42408-1647734400-1647993599@howlingwoods.org
SUMMARY:Farm Closed
DESCRIPTION:
URL:https://howlingwoods.org/event/farm-closed-392/
LOCATION:New Jersey
END:VEVENT
BEGIN:VEVENT
DTSTART;VALUE=DATE:20220318
DTEND;VALUE=DATE:20220320
DTSTAMP:20260420T155259
CREATED:20220107T091334Z
LAST-MODIFIED:20220219T073250Z
UID:42404-1647561600-1647734399@howlingwoods.org
SUMMARY:Visit the Farm
DESCRIPTION:Come to the farm and meet our animals Naiche\, Kotori\, Orion\, Sirius\, Raven\, Luna\, Jack\, Suki\, Sayen & Chante during a one hour tour of our facility. You must make an appointment before visiting\, and to schedule an appointment please call 732-534-5745 or 609-901-1387 Monday thru Friday between 11am and 4pm. We usually book up 4 weeks in advance on weekends\, so please call ahead.
URL:https://howlingwoods.org/event/visit-the-farm-369/
LOCATION:New Jersey
END:VEVENT
BEGIN:VEVENT
DTSTART;VALUE=DATE:20220317
DTEND;VALUE=DATE:20220318
DTSTAMP:20260420T155259
CREATED:20220219T072818Z
LAST-MODIFIED:20220219T072910Z
UID:42712-1647475200-1647561599@howlingwoods.org
SUMMARY:Farm Closed
DESCRIPTION:
URL:https://howlingwoods.org/event/farm-closed-418/
LOCATION:New Jersey
END:VEVENT
BEGIN:VEVENT
DTSTART;VALUE=DATE:20220316
DTEND;VALUE=DATE:20220317
DTSTAMP:20260420T155259
CREATED:20220202T061636Z
LAST-MODIFIED:20220219T072431Z
UID:42530-1647388800-1647475199@howlingwoods.org
SUMMARY:Visit the Farm
DESCRIPTION:Come to the farm and meet our animals Naiche\, Kotori\, Orion\, Sirius\, Raven\, Luna\, Jack\, Suki\, Sayen & Chante during a one hour tour of our facility. You must make an appointment before visiting\, and to schedule an appointment please call 732-534-5745 or 609-901-1387 Monday thru Friday between 11am and 4pm. We usually book up 4 weeks in advance on weekends\, so please call ahead.
URL:https://howlingwoods.org/event/visit-the-farm-371/
LOCATION:New Jersey
END:VEVENT
BEGIN:VEVENT
DTSTART;VALUE=DATE:20220314
DTEND;VALUE=DATE:20220316
DTSTAMP:20260420T155259
CREATED:20220107T091819Z
LAST-MODIFIED:20220107T091819Z
UID:42412-1647216000-1647388799@howlingwoods.org
SUMMARY:Farm Closed
DESCRIPTION:
URL:https://howlingwoods.org/event/farm-closed-394/
LOCATION:New Jersey
END:VEVENT
BEGIN:VEVENT
DTSTART;VALUE=DATE:20220313
DTEND;VALUE=DATE:20220314
DTSTAMP:20260420T155259
CREATED:20220107T091023Z
LAST-MODIFIED:20220107T091023Z
UID:42398-1647129600-1647215999@howlingwoods.org
SUMMARY:Visit the Farm
DESCRIPTION:Come to the farm and meet our animals Naiche\, Kotori\, Orion\, Sirius\, Raven\, Luna\, Jack\, Suki\, Sayen & Chante during a one hour tour of our facility. You must make an appointment before visiting\, and to schedule an appointment please call 732-534-5745 or 609-901-1387 Monday thru Friday between 11am and 4pm. We usually book up 4 weeks in advance on weekends\, so please call ahead.
URL:https://howlingwoods.org/event/visit-the-farm-366/
LOCATION:New Jersey
END:VEVENT
BEGIN:VEVENT
DTSTART;VALUE=DATE:20220312
DTEND;VALUE=DATE:20220313
DTSTAMP:20260420T155259
CREATED:20220107T091858Z
LAST-MODIFIED:20220107T091858Z
UID:42414-1647043200-1647129599@howlingwoods.org
SUMMARY:Farm Closed
DESCRIPTION:
URL:https://howlingwoods.org/event/farm-closed-395/
LOCATION:New Jersey
END:VEVENT
BEGIN:VEVENT
DTSTART;VALUE=DATE:20220311
DTEND;VALUE=DATE:20220312
DTSTAMP:20260420T155259
CREATED:20220219T072711Z
LAST-MODIFIED:20220219T072711Z
UID:42710-1646956800-1647043199@howlingwoods.org
SUMMARY:Visit the Farm
DESCRIPTION:Come to the farm and meet our animals Naiche\, Kotori\, Orion\, Sirius\, Raven\, Luna\, Jack\, Suki\, Sayen & Chante during a one hour tour of our facility. You must make an appointment before visiting\, and to schedule an appointment please call 732-534-5745 or 609-901-1387 Monday thru Friday between 11am and 4pm. We usually book up 4 weeks in advance on weekends\, so please call ahead.
URL:https://howlingwoods.org/event/visit-the-farm-389/
LOCATION:New Jersey
END:VEVENT
BEGIN:VEVENT
DTSTART;VALUE=DATE:20220310
DTEND;VALUE=DATE:20220311
DTSTAMP:20260420T155259
CREATED:20220219T072057Z
LAST-MODIFIED:20220219T072057Z
UID:42708-1646870400-1646956799@howlingwoods.org
SUMMARY:Farm Closed
DESCRIPTION:
URL:https://howlingwoods.org/event/farm-closed-417/
LOCATION:New Jersey
END:VEVENT
BEGIN:VEVENT
DTSTART;TZID=UTC:20220309T000000
DTEND;TZID=UTC:20220309T235900
DTSTAMP:20260420T155259
CREATED:20220202T061539Z
LAST-MODIFIED:20220219T071919Z
UID:42528-1646784000-1646870340@howlingwoods.org
SUMMARY:Visit the Farm
DESCRIPTION:Come to the farm and meet our animals Naiche\, Kotori\, Orion\, Sirius\, Raven\, Luna\, Jack\, Suki\, Sayen & Chante during a one hour tour of our facility. You must make an appointment before visiting\, and to schedule an appointment please call 732-534-5745 or 609-901-1387 Monday thru Friday between 11am and 4pm. We usually book up 4 weeks in advance on weekends\, so please call ahead.
URL:https://howlingwoods.org/event/visit-the-farm-370/
LOCATION:New Jersey
END:VEVENT
BEGIN:VEVENT
DTSTART;VALUE=DATE:20220306
DTEND;VALUE=DATE:20220309
DTSTAMP:20260420T155259
CREATED:20220107T091553Z
LAST-MODIFIED:20220107T091553Z
UID:42406-1646524800-1646783999@howlingwoods.org
SUMMARY:Farm Closed
DESCRIPTION:
URL:https://howlingwoods.org/event/farm-closed-391/
LOCATION:New Jersey
END:VEVENT
BEGIN:VEVENT
DTSTART;VALUE=DATE:20220304
DTEND;VALUE=DATE:20220306
DTSTAMP:20260420T155259
CREATED:20220107T084333Z
LAST-MODIFIED:20220107T084333Z
UID:42366-1646352000-1646524799@howlingwoods.org
SUMMARY:Visit the Farm
DESCRIPTION:Come to the farm and meet our animals Naiche\, Kotori\, Orion\, Sirius\, Raven\, Luna\, Jack\, Suki\, Sayen & Chante during a one hour tour of our facility. You must make an appointment before visiting\, and to schedule an appointment please call 732-534-5745 or 609-901-1387 Monday thru Friday between 11am and 4pm. We usually book up 4 weeks in advance on weekends\, so please call ahead.
URL:https://howlingwoods.org/event/visit-the-farm-363/
LOCATION:New Jersey
END:VEVENT
END:VCALENDAR