BEGIN:VCALENDAR
VERSION:2.0
PRODID:-//Howling Woods Farm - ECPv6.15.20//NONSGML v1.0//EN
CALSCALE:GREGORIAN
METHOD:PUBLISH
X-WR-CALNAME:Howling Woods Farm
X-ORIGINAL-URL:https://howlingwoods.org
X-WR-CALDESC:Events for Howling Woods Farm
REFRESH-INTERVAL;VALUE=DURATION:PT1H
X-Robots-Tag:noindex
X-PUBLISHED-TTL:PT1H
BEGIN:VTIMEZONE
TZID:UTC
BEGIN:STANDARD
TZOFFSETFROM:+0000
TZOFFSETTO:+0000
TZNAME:UTC
DTSTART:20240101T000000
END:STANDARD
END:VTIMEZONE
BEGIN:VEVENT
DTSTART;VALUE=DATE:20250427
DTEND;VALUE=DATE:20250428
DTSTAMP:20260422T223024
CREATED:20250101T053736Z
LAST-MODIFIED:20250101T053736Z
UID:53979-1745712000-1745798399@howlingwoods.org
SUMMARY:Visit the Farm
DESCRIPTION:Come to the farm and meet Lyra\, Orion\, Sirius\, Raven\, Luna\, Jack\, Oberon\, Sayen\, Aristos\, Chante and our two new pups Buddy and Holly during a one hour tour of our facility. Visit our gift shop to find cool gifts for animal lovers. You must make an appointment before visiting\, and to schedule please call 609-901-1387.
URL:https://howlingwoods.org/event/visit-the-farm-759/
LOCATION:Howling Woods Farm\, 1371 W Veterans Hwy\, Jackson\, New Jersey\, 08527
ORGANIZER;CN="Howling Woods Farm":MAILTO:luv2howl@optonline.net
END:VEVENT
BEGIN:VEVENT
DTSTART;VALUE=DATE:20250428
DTEND;VALUE=DATE:20250430
DTSTAMP:20260422T223024
CREATED:20250127T021804Z
LAST-MODIFIED:20250127T021804Z
UID:54155-1745798400-1745971199@howlingwoods.org
SUMMARY:Farm Closed
DESCRIPTION:
URL:https://howlingwoods.org/event/farm-closed-551/
END:VEVENT
BEGIN:VEVENT
DTSTART;VALUE=DATE:20250430
DTEND;VALUE=DATE:20250503
DTSTAMP:20260422T223024
CREATED:20250101T053931Z
LAST-MODIFIED:20250101T053931Z
UID:53981-1745971200-1746230399@howlingwoods.org
SUMMARY:Visit the Farm
DESCRIPTION:Come to the farm and meet Lyra\, Orion\, Sirius\, Raven\, Luna\, Jack\, Oberon\, Sayen\, Aristos\, Chante and our two new pups Buddy and Holly during a one hour tour of our facility. Visit our gift shop to find cool gifts for animal lovers. You must make an appointment before visiting\, and to schedule please call 609-901-1387.
URL:https://howlingwoods.org/event/visit-the-farm-760/
LOCATION:Howling Woods Farm\, 1371 W Veterans Hwy\, Jackson\, New Jersey\, 08527
ORGANIZER;CN="Howling Woods Farm":MAILTO:luv2howl@optonline.net
END:VEVENT
BEGIN:VEVENT
DTSTART;VALUE=DATE:20250503
DTEND;VALUE=DATE:20250504
DTSTAMP:20260422T223024
CREATED:20250101T054108Z
LAST-MODIFIED:20250101T054108Z
UID:53983-1746230400-1746316799@howlingwoods.org
SUMMARY:Visit the Farm
DESCRIPTION:Come to the farm and meet Lyra\, Orion\, Sirius\, Raven\, Luna\, Jack\, Oberon\, Sayen\, Aristos\, Chante and our two new pups Buddy and Holly during a one hour tour of our facility. Visit our gift shop to find cool gifts for animal lovers. You must make an appointment before visiting\, and to schedule please call 609-901-1387.
URL:https://howlingwoods.org/event/visit-the-farm-761/
LOCATION:Howling Woods Farm\, 1371 W Veterans Hwy\, Jackson\, New Jersey\, 08527
ORGANIZER;CN="Howling Woods Farm":MAILTO:luv2howl@optonline.net
END:VEVENT
BEGIN:VEVENT
DTSTART;VALUE=DATE:20250504
DTEND;VALUE=DATE:20250507
DTSTAMP:20260422T223024
CREATED:20250127T021935Z
LAST-MODIFIED:20250127T021935Z
UID:54157-1746316800-1746575999@howlingwoods.org
SUMMARY:Farm Closed
DESCRIPTION:
URL:https://howlingwoods.org/event/farm-closed-552/
END:VEVENT
BEGIN:VEVENT
DTSTART;VALUE=DATE:20250507
DTEND;VALUE=DATE:20250510
DTSTAMP:20260422T223024
CREATED:20250127T024945Z
LAST-MODIFIED:20250127T024945Z
UID:54159-1746576000-1746835199@howlingwoods.org
SUMMARY:Visit the Farm
DESCRIPTION:Come to the farm and meet Lyra\, Orion\, Sirius\, Raven\, Luna\, Jack\, Oberon\, Sayen\, Aristos\, Chante and our two new pups Buddy and Holly during a one hour tour of our facility. Visit our gift shop to find cool gifts for animal lovers. You must make an appointment before visiting\, and to schedule please call 609-901-1387.
URL:https://howlingwoods.org/event/visit-the-farm-762/
LOCATION:Howling Woods Farm\, 1371 W Veterans Hwy\, Jackson\, New Jersey\, 08527
ORGANIZER;CN="Howling Woods Farm":MAILTO:luv2howl@optonline.net
END:VEVENT
BEGIN:VEVENT
DTSTART;VALUE=DATE:20250510
DTEND;VALUE=DATE:20250511
DTSTAMP:20260422T223024
CREATED:20250318T022734Z
LAST-MODIFIED:20250318T022734Z
UID:54446-1746835200-1746921599@howlingwoods.org
SUMMARY:Farm Closed
DESCRIPTION:
URL:https://howlingwoods.org/event/farm-closed-553/
END:VEVENT
BEGIN:VEVENT
DTSTART;VALUE=DATE:20250511
DTEND;VALUE=DATE:20250512
DTSTAMP:20260422T223024
CREATED:20250127T025113Z
LAST-MODIFIED:20250127T025113Z
UID:54161-1746921600-1747007999@howlingwoods.org
SUMMARY:Visit the Farm
DESCRIPTION:Come to the farm and meet Lyra\, Orion\, Sirius\, Raven\, Luna\, Jack\, Oberon\, Sayen\, Aristos\, Chante and our two new pups Buddy and Holly during a one hour tour of our facility. Visit our gift shop to find cool gifts for animal lovers. You must make an appointment before visiting\, and to schedule please call 609-901-1387.
URL:https://howlingwoods.org/event/visit-the-farm-763/
LOCATION:Howling Woods Farm\, 1371 W Veterans Hwy\, Jackson\, New Jersey\, 08527
ORGANIZER;CN="Howling Woods Farm":MAILTO:luv2howl@optonline.net
END:VEVENT
BEGIN:VEVENT
DTSTART;VALUE=DATE:20250512
DTEND;VALUE=DATE:20250514
DTSTAMP:20260422T223024
CREATED:20250318T022814Z
LAST-MODIFIED:20250318T022814Z
UID:54448-1747008000-1747180799@howlingwoods.org
SUMMARY:Farm Closed
DESCRIPTION:
URL:https://howlingwoods.org/event/farm-closed-554/
END:VEVENT
BEGIN:VEVENT
DTSTART;VALUE=DATE:20250514
DTEND;VALUE=DATE:20250517
DTSTAMP:20260422T223024
CREATED:20250318T014314Z
LAST-MODIFIED:20250318T014314Z
UID:54431-1747180800-1747439999@howlingwoods.org
SUMMARY:Visit the Farm
DESCRIPTION:Come to the farm and meet Lyra\, Orion\, Sirius\, Raven\, Luna\, Jack\, Oberon\, Sayen\, Aristos and our two new pups Buddy and Holly during a one hour tour of our facility. Visit our gift shop to find cool gifts for animal lovers. You must make an appointment before visiting\, and to schedule please call 609-901-1387.
URL:https://howlingwoods.org/event/visit-the-farm-764/
LOCATION:Howling Woods Farm\, 1371 W Veterans Hwy\, Jackson\, New Jersey\, 08527
ORGANIZER;CN="Howling Woods Farm":MAILTO:luv2howl@optonline.net
END:VEVENT
BEGIN:VEVENT
DTSTART;VALUE=DATE:20250516
DTEND;VALUE=DATE:20250517
DTSTAMP:20260422T223024
CREATED:20250318T014446Z
LAST-MODIFIED:20250318T014446Z
UID:54433-1747353600-1747439999@howlingwoods.org
SUMMARY:Presentation - Sea Girt Public Library
DESCRIPTION:
URL:https://howlingwoods.org/event/presentation-sea-girt-public-library-2/
END:VEVENT
BEGIN:VEVENT
DTSTART;VALUE=DATE:20250517
DTEND;VALUE=DATE:20250518
DTSTAMP:20260422T223024
CREATED:20250318T014546Z
LAST-MODIFIED:20250318T014546Z
UID:54435-1747440000-1747526399@howlingwoods.org
SUMMARY:Visit the Farm
DESCRIPTION:Come to the farm and meet Lyra\, Orion\, Sirius\, Raven\, Luna\, Jack\, Oberon\, Sayen\, Aristos and our two new pups Buddy and Holly during a one hour tour of our facility. Visit our gift shop to find cool gifts for animal lovers. You must make an appointment before visiting\, and to schedule please call 609-901-1387.
URL:https://howlingwoods.org/event/visit-the-farm-765/
LOCATION:Howling Woods Farm\, 1371 W Veterans Hwy\, Jackson\, New Jersey\, 08527
ORGANIZER;CN="Howling Woods Farm":MAILTO:luv2howl@optonline.net
END:VEVENT
BEGIN:VEVENT
DTSTART;VALUE=DATE:20250518
DTEND;VALUE=DATE:20250521
DTSTAMP:20260422T223024
CREATED:20250318T022907Z
LAST-MODIFIED:20250318T022907Z
UID:54450-1747526400-1747785599@howlingwoods.org
SUMMARY:Farm Closed
DESCRIPTION:
URL:https://howlingwoods.org/event/farm-closed-555/
END:VEVENT
BEGIN:VEVENT
DTSTART;VALUE=DATE:20250521
DTEND;VALUE=DATE:20250524
DTSTAMP:20260422T223024
CREATED:20250318T014649Z
LAST-MODIFIED:20250318T014649Z
UID:54437-1747785600-1748044799@howlingwoods.org
SUMMARY:Visit the Farm
DESCRIPTION:Come to the farm and meet Lyra\, Orion\, Sirius\, Raven\, Luna\, Jack\, Oberon\, Sayen\, Aristos and our two new pups Buddy and Holly during a one hour tour of our facility. Visit our gift shop to find cool gifts for animal lovers. You must make an appointment before visiting\, and to schedule please call 609-901-1387.
URL:https://howlingwoods.org/event/visit-the-farm-766/
LOCATION:Howling Woods Farm\, 1371 W Veterans Hwy\, Jackson\, New Jersey\, 08527
ORGANIZER;CN="Howling Woods Farm":MAILTO:luv2howl@optonline.net
END:VEVENT
BEGIN:VEVENT
DTSTART;VALUE=DATE:20250524
DTEND;VALUE=DATE:20250525
DTSTAMP:20260422T223024
CREATED:20250318T023658Z
LAST-MODIFIED:20250318T023838Z
UID:54455-1748044800-1748131199@howlingwoods.org
SUMMARY:Farm Closed
DESCRIPTION:
URL:https://howlingwoods.org/event/farm-closed-557/
END:VEVENT
BEGIN:VEVENT
DTSTART;VALUE=DATE:20250525
DTEND;VALUE=DATE:20250526
DTSTAMP:20260422T223024
CREATED:20250318T022256Z
LAST-MODIFIED:20250318T022256Z
UID:54440-1748131200-1748217599@howlingwoods.org
SUMMARY:Visit the Farm
DESCRIPTION:Come to the farm and meet Lyra\, Orion\, Sirius\, Raven\, Luna\, Jack\, Oberon\, Sayen\, Aristos and our two new pups Buddy and Holly during a one hour tour of our facility. Visit our gift shop to find cool gifts for animal lovers. You must make an appointment before visiting\, and to schedule please call 609-901-1387.
URL:https://howlingwoods.org/event/visit-the-farm-767/
LOCATION:Howling Woods Farm\, 1371 W Veterans Hwy\, Jackson\, New Jersey\, 08527
ORGANIZER;CN="Howling Woods Farm":MAILTO:luv2howl@optonline.net
END:VEVENT
BEGIN:VEVENT
DTSTART;VALUE=DATE:20250526
DTEND;VALUE=DATE:20250528
DTSTAMP:20260422T223024
CREATED:20250318T023950Z
LAST-MODIFIED:20250318T023950Z
UID:54457-1748217600-1748390399@howlingwoods.org
SUMMARY:Farm Closed
DESCRIPTION:
URL:https://howlingwoods.org/event/farm-closed-558/
END:VEVENT
BEGIN:VEVENT
DTSTART;VALUE=DATE:20250528
DTEND;VALUE=DATE:20250531
DTSTAMP:20260422T223024
CREATED:20250318T022410Z
LAST-MODIFIED:20250318T022410Z
UID:54442-1748390400-1748649599@howlingwoods.org
SUMMARY:Visit the Farm
DESCRIPTION:Come to the farm and meet Lyra\, Orion\, Sirius\, Raven\, Luna\, Jack\, Oberon\, Sayen\, Aristos and our two new pups Buddy and Holly during a one hour tour of our facility. Visit our gift shop to find cool gifts for animal lovers. You must make an appointment before visiting\, and to schedule please call 609-901-1387.
URL:https://howlingwoods.org/event/visit-the-farm-768/
LOCATION:Howling Woods Farm\, 1371 W Veterans Hwy\, Jackson\, New Jersey\, 08527
ORGANIZER;CN="Howling Woods Farm":MAILTO:luv2howl@optonline.net
END:VEVENT
BEGIN:VEVENT
DTSTART;VALUE=DATE:20250531
DTEND;VALUE=DATE:20250601
DTSTAMP:20260422T223024
CREATED:20250318T022652Z
LAST-MODIFIED:20250318T022652Z
UID:54444-1748649600-1748735999@howlingwoods.org
SUMMARY:Visit the Farm
DESCRIPTION:Come to the farm and meet Lyra\, Orion\, Sirius\, Raven\, Luna\, Jack\, Oberon\, Sayen\, Aristos and our two new pups Buddy and Holly during a one hour tour of our facility. Visit our gift shop to find cool gifts for animal lovers. You must make an appointment before visiting\, and to schedule please call 609-901-1387.
URL:https://howlingwoods.org/event/visit-the-farm-769/
LOCATION:Howling Woods Farm\, 1371 W Veterans Hwy\, Jackson\, New Jersey\, 08527
ORGANIZER;CN="Howling Woods Farm":MAILTO:luv2howl@optonline.net
END:VEVENT
BEGIN:VEVENT
DTSTART;VALUE=DATE:20250601
DTEND;VALUE=DATE:20250602
DTSTAMP:20260422T223024
CREATED:20250319T032139Z
LAST-MODIFIED:20250530T215640Z
UID:54467-1748736000-1748822399@howlingwoods.org
SUMMARY:Farm Closed
DESCRIPTION:
URL:https://howlingwoods.org/event/visit-the-farm-770/
ORGANIZER;CN="Howling Woods Farm":MAILTO:luv2howl@optonline.net
END:VEVENT
BEGIN:VEVENT
DTSTART;VALUE=DATE:20250602
DTEND;VALUE=DATE:20250603
DTSTAMP:20260422T223024
CREATED:20250319T033352Z
LAST-MODIFIED:20250319T033352Z
UID:54477-1748822400-1748908799@howlingwoods.org
SUMMARY:Farm Closed
DESCRIPTION:
URL:https://howlingwoods.org/event/farm-closed-561/
END:VEVENT
BEGIN:VEVENT
DTSTART;VALUE=DATE:20250603
DTEND;VALUE=DATE:20250604
DTSTAMP:20260422T223024
CREATED:20250319T032238Z
LAST-MODIFIED:20250319T032238Z
UID:54469-1748908800-1748995199@howlingwoods.org
SUMMARY:Farm Closed
DESCRIPTION:
URL:https://howlingwoods.org/event/farm-closed-559/
END:VEVENT
BEGIN:VEVENT
DTSTART;VALUE=DATE:20250604
DTEND;VALUE=DATE:20250607
DTSTAMP:20260422T223024
CREATED:20250319T032426Z
LAST-MODIFIED:20250319T043055Z
UID:54471-1748995200-1749254399@howlingwoods.org
SUMMARY:Visit the Farm
DESCRIPTION:Come to the farm and meet Lyra\, Orion\, Sirius\, Raven\, Luna\, Jack\, Oberon\, Sayen\, Aristos and our two new pups Buddy and Holly during a one hour tour of our facility. Visit our gift shop to find cool gifts for animal lovers. You must make an appointment before visiting\, and to schedule please call 609-901-1387.
URL:https://howlingwoods.org/event/visit-the-farm-771/
LOCATION:Howling Woods Farm\, 1371 W Veterans Hwy\, Jackson\, New Jersey\, 08527
ORGANIZER;CN="Howling Woods Farm":MAILTO:luv2howl@optonline.net
END:VEVENT
BEGIN:VEVENT
DTSTART;VALUE=DATE:20250607
DTEND;VALUE=DATE:20250608
DTSTAMP:20260422T223024
CREATED:20250319T032606Z
LAST-MODIFIED:20250319T032606Z
UID:54473-1749254400-1749340799@howlingwoods.org
SUMMARY:Farm Closed
DESCRIPTION:
URL:https://howlingwoods.org/event/farm-closed-560/
END:VEVENT
BEGIN:VEVENT
DTSTART;VALUE=DATE:20250607
DTEND;VALUE=DATE:20250608
DTSTAMP:20260422T223024
CREATED:20250319T032716Z
LAST-MODIFIED:20250319T032716Z
UID:54475-1749254400-1749340799@howlingwoods.org
SUMMARY:Hollywoof
DESCRIPTION:Come see our animals at Lakewood Blueclaw Stadium
URL:https://howlingwoods.org/event/hollywoof-5/
END:VEVENT
BEGIN:VEVENT
DTSTART;VALUE=DATE:20250608
DTEND;VALUE=DATE:20250609
DTSTAMP:20260422T223024
CREATED:20250319T033620Z
LAST-MODIFIED:20250319T033620Z
UID:54479-1749340800-1749427199@howlingwoods.org
SUMMARY:Visit the Farm
DESCRIPTION:Come to the farm and meet Lyra\, Orion\, Sirius\, Raven\, Luna\, Jack\, Oberon\, Sayen\, Aristos and our two new pups Buddy and Holly during a one hour tour of our facility. Visit our gift shop to find cool gifts for animal lovers. You must make an appointment before visiting\, and to schedule please call 609-901-1387.
URL:https://howlingwoods.org/event/visit-the-farm-772/
END:VEVENT
BEGIN:VEVENT
DTSTART;VALUE=DATE:20250609
DTEND;VALUE=DATE:20250611
DTSTAMP:20260422T223024
CREATED:20250319T033723Z
LAST-MODIFIED:20250319T033723Z
UID:54481-1749427200-1749599999@howlingwoods.org
SUMMARY:Farm Closed
DESCRIPTION:
URL:https://howlingwoods.org/event/farm-closed-562/
END:VEVENT
BEGIN:VEVENT
DTSTART;VALUE=DATE:20250611
DTEND;VALUE=DATE:20250614
DTSTAMP:20260422T223024
CREATED:20250319T033939Z
LAST-MODIFIED:20250319T033939Z
UID:54483-1749600000-1749859199@howlingwoods.org
SUMMARY:Visit the Farm
DESCRIPTION:Come to the farm and meet Lyra\, Orion\, Sirius\, Raven\, Luna\, Jack\, Oberon\, Sayen\, Aristos and our two new pups Buddy and Holly during a one hour tour of our facility. Visit our gift shop to find cool gifts for animal lovers. You must make an appointment before visiting\, and to schedule please call 609-901-1387.
URL:https://howlingwoods.org/event/visit-the-farm-773/
LOCATION:Howling Woods Farm\, 1371 W Veterans Hwy\, Jackson\, New Jersey\, 08527
ORGANIZER;CN="Howling Woods Farm":MAILTO:luv2howl@optonline.net
END:VEVENT
BEGIN:VEVENT
DTSTART;VALUE=DATE:20250614
DTEND;VALUE=DATE:20250615
DTSTAMP:20260422T223024
CREATED:20250319T034521Z
LAST-MODIFIED:20250319T034521Z
UID:54485-1749859200-1749945599@howlingwoods.org
SUMMARY:Visit the Farm
DESCRIPTION:Come to the farm and meet Lyra\, Orion\, Sirius\, Raven\, Luna\, Jack\, Oberon\, Sayen\, Aristos and our two new pups Buddy and Holly during a one hour tour of our facility. Visit our gift shop to find cool gifts for animal lovers. You must make an appointment before visiting\, and to schedule please call 609-901-1387.
URL:https://howlingwoods.org/event/visit-the-farm-774/
LOCATION:Howling Woods Farm\, 1371 W Veterans Hwy\, Jackson\, New Jersey\, 08527
ORGANIZER;CN="Howling Woods Farm":MAILTO:luv2howl@optonline.net
END:VEVENT
BEGIN:VEVENT
DTSTART;VALUE=DATE:20250615
DTEND;VALUE=DATE:20250618
DTSTAMP:20260422T223024
CREATED:20250319T034610Z
LAST-MODIFIED:20250319T034646Z
UID:54487-1749945600-1750204799@howlingwoods.org
SUMMARY:Farm Closed
DESCRIPTION:
URL:https://howlingwoods.org/event/farm-closed-563/
END:VEVENT
END:VCALENDAR