BEGIN:VCALENDAR
VERSION:2.0
PRODID:-//Howling Woods Farm - ECPv6.15.20//NONSGML v1.0//EN
CALSCALE:GREGORIAN
METHOD:PUBLISH
X-WR-CALNAME:Howling Woods Farm
X-ORIGINAL-URL:https://howlingwoods.org
X-WR-CALDESC:Events for Howling Woods Farm
REFRESH-INTERVAL;VALUE=DURATION:PT1H
X-Robots-Tag:noindex
X-PUBLISHED-TTL:PT1H
BEGIN:VTIMEZONE
TZID:UTC
BEGIN:STANDARD
TZOFFSETFROM:+0000
TZOFFSETTO:+0000
TZNAME:UTC
DTSTART:20240101T000000
END:STANDARD
END:VTIMEZONE
BEGIN:VEVENT
DTSTART;VALUE=DATE:20250222
DTEND;VALUE=DATE:20250223
DTSTAMP:20260422T223106
CREATED:20241228T042828Z
LAST-MODIFIED:20241228T042828Z
UID:53911-1740182400-1740268799@howlingwoods.org
SUMMARY:Visit the Farm
DESCRIPTION:Come to the farm and meet Lyra\, Orion\, Sirius\, Raven\, Luna\, Jack\, Oberon\, Sayen\, Aristos\, Chante and our two new pups Buddy and Holly during a one hour tour of our facility. Visit our gift shop to find cool gifts for animal lovers. You must make an appointment before visiting\, and to schedule please call 609-901-1387.
URL:https://howlingwoods.org/event/visit-the-farm-740/
LOCATION:Howling Woods Farm\, 1371 W Veterans Hwy\, Jackson\, New Jersey\, 08527
ORGANIZER;CN="Howling Woods Farm":MAILTO:luv2howl@optonline.net
END:VEVENT
BEGIN:VEVENT
DTSTART;VALUE=DATE:20250223
DTEND;VALUE=DATE:20250226
DTSTAMP:20260422T223106
CREATED:20250127T015713Z
LAST-MODIFIED:20250127T015713Z
UID:54129-1740268800-1740527999@howlingwoods.org
SUMMARY:Farm Closed
DESCRIPTION:
URL:https://howlingwoods.org/event/farm-closed-538/
LOCATION:New Jersey
END:VEVENT
BEGIN:VEVENT
DTSTART;VALUE=DATE:20250226
DTEND;VALUE=DATE:20250301
DTSTAMP:20260422T223106
CREATED:20241228T042930Z
LAST-MODIFIED:20241228T042930Z
UID:53913-1740528000-1740787199@howlingwoods.org
SUMMARY:Visit the Farm
DESCRIPTION:Come to the farm and meet Lyra\, Orion\, Sirius\, Raven\, Luna\, Jack\, Oberon\, Sayen\, Aristos\, Chante and our two new pups Buddy and Holly during a one hour tour of our facility. Visit our gift shop to find cool gifts for animal lovers. You must make an appointment before visiting\, and to schedule please call 609-901-1387.
URL:https://howlingwoods.org/event/visit-the-farm-741/
LOCATION:Howling Woods Farm\, 1371 W Veterans Hwy\, Jackson\, New Jersey\, 08527
ORGANIZER;CN="Howling Woods Farm":MAILTO:luv2howl@optonline.net
END:VEVENT
BEGIN:VEVENT
DTSTART;VALUE=DATE:20250301
DTEND;VALUE=DATE:20250302
DTSTAMP:20260422T223106
CREATED:20250127T015857Z
LAST-MODIFIED:20250127T015857Z
UID:54131-1740787200-1740873599@howlingwoods.org
SUMMARY:Farm Closed
DESCRIPTION:
URL:https://howlingwoods.org/event/farm-closed-539/
LOCATION:New Jersey
END:VEVENT
BEGIN:VEVENT
DTSTART;VALUE=DATE:20250302
DTEND;VALUE=DATE:20250303
DTSTAMP:20260422T223106
CREATED:20241229T005429Z
LAST-MODIFIED:20241229T005429Z
UID:53920-1740873600-1740959999@howlingwoods.org
SUMMARY:Visit the Farm
DESCRIPTION:Come to the farm and meet Lyra\, Orion\, Sirius\, Raven\, Luna\, Jack\, Oberon\, Sayen\, Aristos\, Chante and our two new pups Buddy and Holly during a one hour tour of our facility. Visit our gift shop to find cool gifts for animal lovers. You must make an appointment before visiting\, and to schedule please call 609-901-1387.
URL:https://howlingwoods.org/event/visit-the-farm-742/
LOCATION:Howling Woods Farm\, 1371 W Veterans Hwy\, Jackson\, New Jersey\, 08527
ORGANIZER;CN="Howling Woods Farm":MAILTO:luv2howl@optonline.net
END:VEVENT
BEGIN:VEVENT
DTSTART;VALUE=DATE:20250303
DTEND;VALUE=DATE:20250305
DTSTAMP:20260422T223106
CREATED:20250127T020014Z
LAST-MODIFIED:20250127T020014Z
UID:54133-1740960000-1741132799@howlingwoods.org
SUMMARY:Farm Closed
DESCRIPTION:
URL:https://howlingwoods.org/event/farm-closed-540/
LOCATION:New Jersey
END:VEVENT
BEGIN:VEVENT
DTSTART;VALUE=DATE:20250305
DTEND;VALUE=DATE:20250308
DTSTAMP:20260422T223106
CREATED:20241229T005646Z
LAST-MODIFIED:20241229T005646Z
UID:53922-1741132800-1741391999@howlingwoods.org
SUMMARY:Visit the Farm
DESCRIPTION:Come to the farm and meet Lyra\, Orion\, Sirius\, Raven\, Luna\, Jack\, Oberon\, Sayen\, Aristos\, Chante and our two new pups Buddy and Holly during a one hour tour of our facility. Visit our gift shop to find cool gifts for animal lovers. You must make an appointment before visiting\, and to schedule please call 609-901-1387.
URL:https://howlingwoods.org/event/visit-the-farm-743/
LOCATION:Howling Woods Farm\, 1371 W Veterans Hwy\, Jackson\, New Jersey\, 08527
ORGANIZER;CN="Howling Woods Farm":MAILTO:luv2howl@optonline.net
END:VEVENT
BEGIN:VEVENT
DTSTART;VALUE=DATE:20250308
DTEND;VALUE=DATE:20250309
DTSTAMP:20260422T223106
CREATED:20241229T005739Z
LAST-MODIFIED:20241229T005739Z
UID:53924-1741392000-1741478399@howlingwoods.org
SUMMARY:Visit the Farm
DESCRIPTION:Come to the farm and meet Lyra\, Orion\, Sirius\, Raven\, Luna\, Jack\, Oberon\, Sayen\, Aristos\, Chante and our two new pups Buddy and Holly during a one hour tour of our facility. Visit our gift shop to find cool gifts for animal lovers. You must make an appointment before visiting\, and to schedule please call 609-901-1387.
URL:https://howlingwoods.org/event/visit-the-farm-744/
LOCATION:Howling Woods Farm\, 1371 W Veterans Hwy\, Jackson\, New Jersey\, 08527
ORGANIZER;CN="Howling Woods Farm":MAILTO:luv2howl@optonline.net
END:VEVENT
BEGIN:VEVENT
DTSTART;VALUE=DATE:20250309
DTEND;VALUE=DATE:20250312
DTSTAMP:20260422T223106
CREATED:20250127T020348Z
LAST-MODIFIED:20250127T020348Z
UID:54135-1741478400-1741737599@howlingwoods.org
SUMMARY:Farm Closed
DESCRIPTION:
URL:https://howlingwoods.org/event/farm-closed-541/
LOCATION:New Jersey
END:VEVENT
BEGIN:VEVENT
DTSTART;VALUE=DATE:20250312
DTEND;VALUE=DATE:20250315
DTSTAMP:20260422T223106
CREATED:20241229T005849Z
LAST-MODIFIED:20241229T005849Z
UID:53926-1741737600-1741996799@howlingwoods.org
SUMMARY:Visit the Farm
DESCRIPTION:Come to the farm and meet Lyra\, Orion\, Sirius\, Raven\, Luna\, Jack\, Oberon\, Sayen\, Aristos\, Chante and our two new pups Buddy and Holly during a one hour tour of our facility. Visit our gift shop to find cool gifts for animal lovers. You must make an appointment before visiting\, and to schedule please call 609-901-1387.
URL:https://howlingwoods.org/event/visit-the-farm-745/
LOCATION:Howling Woods Farm\, 1371 W Veterans Hwy\, Jackson\, New Jersey\, 08527
ORGANIZER;CN="Howling Woods Farm":MAILTO:luv2howl@optonline.net
END:VEVENT
BEGIN:VEVENT
DTSTART;VALUE=DATE:20250315
DTEND;VALUE=DATE:20250316
DTSTAMP:20260422T223106
CREATED:20241229T010218Z
LAST-MODIFIED:20241229T010218Z
UID:53932-1741996800-1742083199@howlingwoods.org
SUMMARY:Visit the Farm
DESCRIPTION:Come to the farm and meet Lyra\, Orion\, Sirius\, Raven\, Luna\, Jack\, Oberon\, Sayen\, Aristos\, Chante and our two new pups Buddy and Holly during a one hour tour of our facility. Visit our gift shop to find cool gifts for animal lovers. You must make an appointment before visiting\, and to schedule please call 609-901-1387.
URL:https://howlingwoods.org/event/visit-the-farm-748/
LOCATION:Howling Woods Farm\, 1371 W Veterans Hwy\, Jackson\, New Jersey\, 08527
ORGANIZER;CN="Howling Woods Farm":MAILTO:luv2howl@optonline.net
END:VEVENT
BEGIN:VEVENT
DTSTART;VALUE=DATE:20250316
DTEND;VALUE=DATE:20250319
DTSTAMP:20260422T223106
CREATED:20250127T020445Z
LAST-MODIFIED:20250127T020445Z
UID:54137-1742083200-1742342399@howlingwoods.org
SUMMARY:Farm Closed
DESCRIPTION:
URL:https://howlingwoods.org/event/farm-closed-542/
LOCATION:New Jersey
END:VEVENT
BEGIN:VEVENT
DTSTART;VALUE=DATE:20250319
DTEND;VALUE=DATE:20250322
DTSTAMP:20260422T223106
CREATED:20241229T005954Z
LAST-MODIFIED:20241229T005954Z
UID:53928-1742342400-1742601599@howlingwoods.org
SUMMARY:Visit the Farm
DESCRIPTION:Come to the farm and meet Lyra\, Orion\, Sirius\, Raven\, Luna\, Jack\, Oberon\, Sayen\, Aristos\, Chante and our two new pups Buddy and Holly during a one hour tour of our facility. Visit our gift shop to find cool gifts for animal lovers. You must make an appointment before visiting\, and to schedule please call 609-901-1387.
URL:https://howlingwoods.org/event/visit-the-farm-746/
LOCATION:Howling Woods Farm\, 1371 W Veterans Hwy\, Jackson\, New Jersey\, 08527
ORGANIZER;CN="Howling Woods Farm":MAILTO:luv2howl@optonline.net
END:VEVENT
BEGIN:VEVENT
DTSTART;VALUE=DATE:20250322
DTEND;VALUE=DATE:20250323
DTSTAMP:20260422T223106
CREATED:20250127T020522Z
LAST-MODIFIED:20250127T020522Z
UID:54139-1742601600-1742687999@howlingwoods.org
SUMMARY:Farm Closed
DESCRIPTION:
URL:https://howlingwoods.org/event/farm-closed-543/
LOCATION:New Jersey
END:VEVENT
BEGIN:VEVENT
DTSTART;VALUE=DATE:20250323
DTEND;VALUE=DATE:20250324
DTSTAMP:20260422T223106
CREATED:20241229T010327Z
LAST-MODIFIED:20241229T010327Z
UID:53934-1742688000-1742774399@howlingwoods.org
SUMMARY:Visit the Farm
DESCRIPTION:Come to the farm and meet Lyra\, Orion\, Sirius\, Raven\, Luna\, Jack\, Oberon\, Sayen\, Aristos\, Chante and our two new pups Buddy and Holly during a one hour tour of our facility. Visit our gift shop to find cool gifts for animal lovers. You must make an appointment before visiting\, and to schedule please call 609-901-1387.
URL:https://howlingwoods.org/event/visit-the-farm-749/
LOCATION:Howling Woods Farm\, 1371 W Veterans Hwy\, Jackson\, New Jersey\, 08527
ORGANIZER;CN="Howling Woods Farm":MAILTO:luv2howl@optonline.net
END:VEVENT
BEGIN:VEVENT
DTSTART;VALUE=DATE:20250324
DTEND;VALUE=DATE:20250325
DTSTAMP:20260422T223106
CREATED:20250318T023616Z
LAST-MODIFIED:20250318T023616Z
UID:54453-1742774400-1742860799@howlingwoods.org
SUMMARY:Farm Closed
DESCRIPTION:
URL:https://howlingwoods.org/event/farm-closed-556/
LOCATION:New Jersey
END:VEVENT
BEGIN:VEVENT
DTSTART;VALUE=DATE:20250324
DTEND;VALUE=DATE:20250326
DTSTAMP:20260422T223106
CREATED:20250127T020802Z
LAST-MODIFIED:20250127T020802Z
UID:54141-1742774400-1742947199@howlingwoods.org
SUMMARY:Farm Closed
DESCRIPTION:
URL:https://howlingwoods.org/event/farm-closed-544/
LOCATION:New Jersey
END:VEVENT
BEGIN:VEVENT
DTSTART;VALUE=DATE:20250326
DTEND;VALUE=DATE:20250329
DTSTAMP:20260422T223106
CREATED:20241229T010124Z
LAST-MODIFIED:20241229T010124Z
UID:53930-1742947200-1743206399@howlingwoods.org
SUMMARY:Visit the Farm
DESCRIPTION:Come to the farm and meet Lyra\, Orion\, Sirius\, Raven\, Luna\, Jack\, Oberon\, Sayen\, Aristos\, Chante and our two new pups Buddy and Holly during a one hour tour of our facility. Visit our gift shop to find cool gifts for animal lovers. You must make an appointment before visiting\, and to schedule please call 609-901-1387.
URL:https://howlingwoods.org/event/visit-the-farm-747/
LOCATION:Howling Woods Farm\, 1371 W Veterans Hwy\, Jackson\, New Jersey\, 08527
ORGANIZER;CN="Howling Woods Farm":MAILTO:luv2howl@optonline.net
END:VEVENT
BEGIN:VEVENT
DTSTART;VALUE=DATE:20250329
DTEND;VALUE=DATE:20250330
DTSTAMP:20260422T223106
CREATED:20240804T033241Z
LAST-MODIFIED:20240804T033241Z
UID:52819-1743206400-1743292799@howlingwoods.org
SUMMARY:Visit the Farm
DESCRIPTION:Come to the farm and meet Lyra\, Orion\, Sirius\, Raven\, Luna\, Jack\, Oberon\, Sayen\, Aristos\, Chante and our two new pups Buddy and Holly during a one hour tour of our facility. You must make an appointment before visiting\, and to schedule please call 609-901-1387.
URL:https://howlingwoods.org/event/visit-the-farm-715/
LOCATION:Howling Woods Farm\, 1371 W Veterans Hwy\, Jackson\, New Jersey\, 08527
ORGANIZER;CN="Howling Woods Farm":MAILTO:luv2howl@optonline.net
END:VEVENT
BEGIN:VEVENT
DTSTART;VALUE=DATE:20250330
DTEND;VALUE=DATE:20250331
DTSTAMP:20260422T223106
CREATED:20240804T032735Z
LAST-MODIFIED:20240804T032735Z
UID:52817-1743292800-1743379199@howlingwoods.org
SUMMARY:Wedding\, Elkins Park\, PA (private)
DESCRIPTION:
URL:https://howlingwoods.org/event/wedding-elkins-park-pa-private/
LOCATION:New Jersey
END:VEVENT
BEGIN:VEVENT
DTSTART;VALUE=DATE:20250331
DTEND;VALUE=DATE:20250402
DTSTAMP:20260422T223106
CREATED:20250127T021036Z
LAST-MODIFIED:20250127T021036Z
UID:54143-1743379200-1743551999@howlingwoods.org
SUMMARY:Farm Closed
DESCRIPTION:
URL:https://howlingwoods.org/event/farm-closed-545/
LOCATION:New Jersey
END:VEVENT
BEGIN:VEVENT
DTSTART;VALUE=DATE:20250402
DTEND;VALUE=DATE:20250405
DTSTAMP:20260422T223106
CREATED:20250101T051733Z
LAST-MODIFIED:20250101T051733Z
UID:53965-1743552000-1743811199@howlingwoods.org
SUMMARY:Visit the Farm
DESCRIPTION:Come to the farm and meet Lyra\, Orion\, Sirius\, Raven\, Luna\, Jack\, Oberon\, Sayen\, Aristos\, Chante and our two new pups Buddy and Holly during a one hour tour of our facility. Visit our gift shop to find cool gifts for animal lovers. You must make an appointment before visiting\, and to schedule please call 609-901-1387.
URL:https://howlingwoods.org/event/visit-the-farm-752/
LOCATION:Howling Woods Farm\, 1371 W Veterans Hwy\, Jackson\, New Jersey\, 08527
ORGANIZER;CN="Howling Woods Farm":MAILTO:luv2howl@optonline.net
END:VEVENT
BEGIN:VEVENT
DTSTART;VALUE=DATE:20250405
DTEND;VALUE=DATE:20250406
DTSTAMP:20260422T223106
CREATED:20250127T021119Z
LAST-MODIFIED:20250127T021119Z
UID:54145-1743811200-1743897599@howlingwoods.org
SUMMARY:Farm Closed
DESCRIPTION:
URL:https://howlingwoods.org/event/farm-closed-546/
LOCATION:New Jersey
END:VEVENT
BEGIN:VEVENT
DTSTART;VALUE=DATE:20250406
DTEND;VALUE=DATE:20250407
DTSTAMP:20260422T223106
CREATED:20250101T051826Z
LAST-MODIFIED:20250101T051826Z
UID:53967-1743897600-1743983999@howlingwoods.org
SUMMARY:Visit the Farm
DESCRIPTION:Come to the farm and meet Lyra\, Orion\, Sirius\, Raven\, Luna\, Jack\, Oberon\, Sayen\, Aristos\, Chante and our two new pups Buddy and Holly during a one hour tour of our facility. Visit our gift shop to find cool gifts for animal lovers. You must make an appointment before visiting\, and to schedule please call 609-901-1387.
URL:https://howlingwoods.org/event/visit-the-farm-753/
LOCATION:Howling Woods Farm\, 1371 W Veterans Hwy\, Jackson\, New Jersey\, 08527
ORGANIZER;CN="Howling Woods Farm":MAILTO:luv2howl@optonline.net
END:VEVENT
BEGIN:VEVENT
DTSTART;VALUE=DATE:20250407
DTEND;VALUE=DATE:20250409
DTSTAMP:20260422T223106
CREATED:20250127T021155Z
LAST-MODIFIED:20250127T021155Z
UID:54147-1743984000-1744156799@howlingwoods.org
SUMMARY:Farm Closed
DESCRIPTION:
URL:https://howlingwoods.org/event/farm-closed-547/
LOCATION:New Jersey
END:VEVENT
BEGIN:VEVENT
DTSTART;VALUE=DATE:20250409
DTEND;VALUE=DATE:20250412
DTSTAMP:20260422T223106
CREATED:20250101T051947Z
LAST-MODIFIED:20250101T051947Z
UID:53969-1744156800-1744415999@howlingwoods.org
SUMMARY:Visit the Farm
DESCRIPTION:Come to the farm and meet Lyra\, Orion\, Sirius\, Raven\, Luna\, Jack\, Oberon\, Sayen\, Aristos\, Chante and our two new pups Buddy and Holly during a one hour tour of our facility. Visit our gift shop to find cool gifts for animal lovers. You must make an appointment before visiting\, and to schedule please call 609-901-1387.
URL:https://howlingwoods.org/event/visit-the-farm-754/
LOCATION:Howling Woods Farm\, 1371 W Veterans Hwy\, Jackson\, New Jersey\, 08527
ORGANIZER;CN="Howling Woods Farm":MAILTO:luv2howl@optonline.net
END:VEVENT
BEGIN:VEVENT
DTSTART;VALUE=DATE:20250412
DTEND;VALUE=DATE:20250413
DTSTAMP:20260422T223106
CREATED:20250101T052054Z
LAST-MODIFIED:20250101T052054Z
UID:53971-1744416000-1744502399@howlingwoods.org
SUMMARY:Visit the Farm
DESCRIPTION:Come to the farm and meet Lyra\, Orion\, Sirius\, Raven\, Luna\, Jack\, Oberon\, Sayen\, Aristos\, Chante and our two new pups Buddy and Holly during a one hour tour of our facility. Visit our gift shop to find cool gifts for animal lovers. You must make an appointment before visiting\, and to schedule please call 609-901-1387.
URL:https://howlingwoods.org/event/visit-the-farm-755/
LOCATION:Howling Woods Farm\, 1371 W Veterans Hwy\, Jackson\, New Jersey\, 08527
ORGANIZER;CN="Howling Woods Farm":MAILTO:luv2howl@optonline.net
END:VEVENT
BEGIN:VEVENT
DTSTART;VALUE=DATE:20250413
DTEND;VALUE=DATE:20250416
DTSTAMP:20260422T223106
CREATED:20250127T021342Z
LAST-MODIFIED:20250127T021342Z
UID:54149-1744502400-1744761599@howlingwoods.org
SUMMARY:Farm Closed
DESCRIPTION:
URL:https://howlingwoods.org/event/farm-closed-548/
LOCATION:New Jersey
END:VEVENT
BEGIN:VEVENT
DTSTART;VALUE=DATE:20250416
DTEND;VALUE=DATE:20250419
DTSTAMP:20260422T223106
CREATED:20250101T052215Z
LAST-MODIFIED:20250101T052215Z
UID:53973-1744761600-1745020799@howlingwoods.org
SUMMARY:Visit the Farm
DESCRIPTION:Come to the farm and meet Lyra\, Orion\, Sirius\, Raven\, Luna\, Jack\, Oberon\, Sayen\, Aristos\, Chante and our two new pups Buddy and Holly during a one hour tour of our facility. Visit our gift shop to find cool gifts for animal lovers. You must make an appointment before visiting\, and to schedule please call 609-901-1387.
URL:https://howlingwoods.org/event/visit-the-farm-756/
LOCATION:Howling Woods Farm\, 1371 W Veterans Hwy\, Jackson\, New Jersey\, 08527
ORGANIZER;CN="Howling Woods Farm":MAILTO:luv2howl@optonline.net
END:VEVENT
BEGIN:VEVENT
DTSTART;VALUE=DATE:20250419
DTEND;VALUE=DATE:20250420
DTSTAMP:20260422T223106
CREATED:20250101T052320Z
LAST-MODIFIED:20250101T052320Z
UID:53975-1745020800-1745107199@howlingwoods.org
SUMMARY:Visit the Farm
DESCRIPTION:Come to the farm and meet Lyra\, Orion\, Sirius\, Raven\, Luna\, Jack\, Oberon\, Sayen\, Aristos\, Chante and our two new pups Buddy and Holly during a one hour tour of our facility. Visit our gift shop to find cool gifts for animal lovers. You must make an appointment before visiting\, and to schedule please call 609-901-1387.
URL:https://howlingwoods.org/event/visit-the-farm-757/
LOCATION:Howling Woods Farm\, 1371 W Veterans Hwy\, Jackson\, New Jersey\, 08527
ORGANIZER;CN="Howling Woods Farm":MAILTO:luv2howl@optonline.net
END:VEVENT
END:VCALENDAR