BEGIN:VCALENDAR
VERSION:2.0
PRODID:-//Howling Woods Farm - ECPv6.15.20//NONSGML v1.0//EN
CALSCALE:GREGORIAN
METHOD:PUBLISH
X-WR-CALNAME:Howling Woods Farm
X-ORIGINAL-URL:https://howlingwoods.org
X-WR-CALDESC:Events for Howling Woods Farm
REFRESH-INTERVAL;VALUE=DURATION:PT1H
X-Robots-Tag:noindex
X-PUBLISHED-TTL:PT1H
BEGIN:VTIMEZONE
TZID:UTC
BEGIN:STANDARD
TZOFFSETFROM:+0000
TZOFFSETTO:+0000
TZNAME:UTC
DTSTART:20190101T000000
END:STANDARD
END:VTIMEZONE
BEGIN:VEVENT
DTSTART;TZID=UTC:20200312T190000
DTEND;TZID=UTC:20200312T220000
DTSTAMP:20260422T123043
CREATED:20191229T074031Z
LAST-MODIFIED:20191229T074031Z
UID:35352-1584039600-1584050400@howlingwoods.org
SUMMARY:Presentation (Private) Girl Scouts Farmingdale
DESCRIPTION:
URL:https://howlingwoods.org/event/presentation-private-girl-scouts-farmingdale/
LOCATION:New Jersey
END:VEVENT
BEGIN:VEVENT
DTSTART;VALUE=DATE:20200310
DTEND;VALUE=DATE:20200314
DTSTAMP:20260422T123043
CREATED:20191229T072311Z
LAST-MODIFIED:20191229T072311Z
UID:35330-1583798400-1584143999@howlingwoods.org
SUMMARY:Visit the Farm
DESCRIPTION:Come and meet Samson\, Kotori\, Naiche\, Chante\, Sirius\, Orion\, Raven and Luna. Learn about wolves during a tour of the farm. For appointment call 732-534-5745. Please be sure to call at least six weeks in advance if you wish to visit on a weekend.
URL:https://howlingwoods.org/event/visit-the-farm-217/
LOCATION:Howling Woods Farm\, 1371 W Veterans Hwy\, Jackson\, New Jersey\, 08527
ORGANIZER;CN="Howling Woods Farm":MAILTO:luv2howl@optonline.net
END:VEVENT
BEGIN:VEVENT
DTSTART;VALUE=DATE:20200308
DTEND;VALUE=DATE:20200310
DTSTAMP:20260422T123043
CREATED:20191229T072059Z
LAST-MODIFIED:20191229T072059Z
UID:35328-1583625600-1583798399@howlingwoods.org
SUMMARY:Farm Closed
DESCRIPTION:
URL:https://howlingwoods.org/event/farm-closed-237/
LOCATION:New Jersey
END:VEVENT
BEGIN:VEVENT
DTSTART;TZID=UTC:20200305T190000
DTEND;TZID=UTC:20200305T210000
DTSTAMP:20260422T123043
CREATED:20191229T073908Z
LAST-MODIFIED:20191229T073908Z
UID:35350-1583434800-1583442000@howlingwoods.org
SUMMARY:Presentation (Private) Girl Scouts Toms River
DESCRIPTION:
URL:https://howlingwoods.org/event/presentation-private-girl-scouts-toms-river/
LOCATION:New Jersey
END:VEVENT
BEGIN:VEVENT
DTSTART;VALUE=DATE:20200303
DTEND;VALUE=DATE:20200308
DTSTAMP:20260422T123043
CREATED:20191229T071947Z
LAST-MODIFIED:20191229T071947Z
UID:35326-1583193600-1583625599@howlingwoods.org
SUMMARY:Visit the Farm
DESCRIPTION:Come and meet Samson\, Kotori\, Naiche\, Chante\, Sirius\, Orion\, Raven and Luna. Learn about wolves during a tour of the farm. For appointment call 732-534-5745. Please be sure to call at least six weeks in advance if you wish to visit on a weekend.
URL:https://howlingwoods.org/event/visit-the-farm-216/
LOCATION:Howling Woods Farm\, 1371 W Veterans Hwy\, Jackson\, New Jersey\, 08527
ORGANIZER;CN="Howling Woods Farm":MAILTO:luv2howl@optonline.net
END:VEVENT
BEGIN:VEVENT
DTSTART;VALUE=DATE:20200302
DTEND;VALUE=DATE:20200303
DTSTAMP:20260422T123043
CREATED:20191229T071803Z
LAST-MODIFIED:20191229T071803Z
UID:35324-1583107200-1583193599@howlingwoods.org
SUMMARY:Farm Closed
DESCRIPTION:
URL:https://howlingwoods.org/event/farm-closed-236/
LOCATION:New Jersey
END:VEVENT
BEGIN:VEVENT
DTSTART;VALUE=DATE:20200301
DTEND;VALUE=DATE:20200302
DTSTAMP:20260422T123043
CREATED:20191229T071703Z
LAST-MODIFIED:20191229T071704Z
UID:35322-1583020800-1583107199@howlingwoods.org
SUMMARY:Visit The Farm
DESCRIPTION:Come and meet Samson\, Kotori\, Naiche\, Chante\, Sirius\, Orion\, Raven and Luna. Learn about wolves during a tour of the farm. For appointment call 732-534-5745. Please be sure to call at least six weeks in advance if you wish to visit on a weekend.
URL:https://howlingwoods.org/event/visit-the-farm-215/
LOCATION:New Jersey
END:VEVENT
BEGIN:VEVENT
DTSTART;VALUE=DATE:20200229
DTEND;VALUE=DATE:20200301
DTSTAMP:20260422T123043
CREATED:20191108T105720Z
LAST-MODIFIED:20191108T105720Z
UID:34531-1582934400-1583020799@howlingwoods.org
SUMMARY:Farm Closed
DESCRIPTION:
URL:https://howlingwoods.org/event/farm-closed-234/
LOCATION:New Jersey
END:VEVENT
BEGIN:VEVENT
DTSTART;VALUE=DATE:20200225
DTEND;VALUE=DATE:20200229
DTSTAMP:20260422T123043
CREATED:20191108T110325Z
LAST-MODIFIED:20191108T110325Z
UID:34541-1582588800-1582934399@howlingwoods.org
SUMMARY:Visit the Farm
DESCRIPTION:Come and meet Samson\, Kotori\, Naiche\, Chante\, Sirius\, Orion and Raven. Learn about wolves during a tour of the farm. For appointment call 732-534-5745. Please be sure to call at least one month in advance if you wish to visit on a weekend.
URL:https://howlingwoods.org/event/visit-the-farm-214/
LOCATION:Howling Woods Farm\, 1371 W Veterans Hwy\, Jackson\, New Jersey\, 08527
ORGANIZER;CN="Howling Woods Farm":MAILTO:luv2howl@optonline.net
END:VEVENT
BEGIN:VEVENT
DTSTART;VALUE=DATE:20200223
DTEND;VALUE=DATE:20200225
DTSTAMP:20260422T123043
CREATED:20191108T105634Z
LAST-MODIFIED:20191108T105634Z
UID:34529-1582416000-1582588799@howlingwoods.org
SUMMARY:Farm Closed
DESCRIPTION:
URL:https://howlingwoods.org/event/farm-closed-233/
LOCATION:New Jersey
END:VEVENT
BEGIN:VEVENT
DTSTART;VALUE=DATE:20200218
DTEND;VALUE=DATE:20200223
DTSTAMP:20260422T123043
CREATED:20191108T110142Z
LAST-MODIFIED:20191108T110142Z
UID:34539-1581984000-1582415999@howlingwoods.org
SUMMARY:Visit the Farm
DESCRIPTION:Come and meet Samson\, Kotori\, Naiche\, Chante\, Sirius\, Orion and Raven. Learn about wolves during a tour of the farm. For appointment call 732-534-5745. Please be sure to call at least one month in advance if you wish to visit on a weekend.
URL:https://howlingwoods.org/event/visit-the-farm-213/
LOCATION:Howling Woods Farm\, 1371 W Veterans Hwy\, Jackson\, New Jersey\, 08527
ORGANIZER;CN="Howling Woods Farm":MAILTO:luv2howl@optonline.net
END:VEVENT
BEGIN:VEVENT
DTSTART;VALUE=DATE:20200217
DTEND;VALUE=DATE:20200218
DTSTAMP:20260422T123043
CREATED:20191108T105548Z
LAST-MODIFIED:20191108T105548Z
UID:34527-1581897600-1581983999@howlingwoods.org
SUMMARY:Farm Closed
DESCRIPTION:
URL:https://howlingwoods.org/event/farm-closed-232/
LOCATION:New Jersey
END:VEVENT
BEGIN:VEVENT
DTSTART;VALUE=DATE:20200216
DTEND;VALUE=DATE:20200217
DTSTAMP:20260422T123043
CREATED:20191108T110027Z
LAST-MODIFIED:20191108T110027Z
UID:34537-1581811200-1581897599@howlingwoods.org
SUMMARY:Visit the Farm
DESCRIPTION:Come and meet Samson\, Kotori\, Naiche\, Chante\, Sirius\, Orion and Raven. Learn about wolves during a tour of the farm. For appointment call 732-534-5745. Please be sure to call at least one month in advance if you wish to visit on a weekend.
URL:https://howlingwoods.org/event/visit-the-farm-212/
LOCATION:Howling Woods Farm\, 1371 W Veterans Hwy\, Jackson\, New Jersey\, 08527
ORGANIZER;CN="Howling Woods Farm":MAILTO:luv2howl@optonline.net
END:VEVENT
BEGIN:VEVENT
DTSTART;VALUE=DATE:20200215
DTEND;VALUE=DATE:20200216
DTSTAMP:20260422T123043
CREATED:20191108T105511Z
LAST-MODIFIED:20191108T105511Z
UID:34525-1581724800-1581811199@howlingwoods.org
SUMMARY:Farm Closed
DESCRIPTION:
URL:https://howlingwoods.org/event/farm-closed-231/
LOCATION:New Jersey
END:VEVENT
BEGIN:VEVENT
DTSTART;VALUE=DATE:20200211
DTEND;VALUE=DATE:20200215
DTSTAMP:20260422T123043
CREATED:20191108T105922Z
LAST-MODIFIED:20191108T105922Z
UID:34535-1581379200-1581724799@howlingwoods.org
SUMMARY:Visit the Farm
DESCRIPTION:Come and meet Samson\, Kotori\, Naiche\, Chante\, Sirius\, Orion and Raven. Learn about wolves during a tour of the farm. For appointment call 732-534-5745. Please be sure to call at least one month in advance if you wish to visit on a weekend.
URL:https://howlingwoods.org/event/visit-the-farm-211/
LOCATION:New Jersey
END:VEVENT
BEGIN:VEVENT
DTSTART;VALUE=DATE:20200209
DTEND;VALUE=DATE:20200211
DTSTAMP:20260422T123043
CREATED:20191108T105430Z
LAST-MODIFIED:20191108T105430Z
UID:34523-1581206400-1581379199@howlingwoods.org
SUMMARY:Farm Closed
DESCRIPTION:
URL:https://howlingwoods.org/event/farm-closed-230/
LOCATION:New Jersey
END:VEVENT
BEGIN:VEVENT
DTSTART;VALUE=DATE:20200204
DTEND;VALUE=DATE:20200209
DTSTAMP:20260422T123043
CREATED:20191108T105834Z
LAST-MODIFIED:20191108T105834Z
UID:34533-1580774400-1581206399@howlingwoods.org
SUMMARY:Visit the Farm
DESCRIPTION:Come and meet Samson\, Kotori\, Naiche\, Chante\, Sirius\, Orion and Raven. Learn about wolves during a tour of the farm. For appointment call 732-534-5745. Please be sure to call at least one month in advance if you wish to visit on a weekend.
URL:https://howlingwoods.org/event/visit-the-farm-210/
LOCATION:Howling Woods Farm\, 1371 W Veterans Hwy\, Jackson\, New Jersey\, 08527
ORGANIZER;CN="Howling Woods Farm":MAILTO:luv2howl@optonline.net
END:VEVENT
BEGIN:VEVENT
DTSTART;VALUE=DATE:20200203
DTEND;VALUE=DATE:20200204
DTSTAMP:20260422T123043
CREATED:20191108T105346Z
LAST-MODIFIED:20191108T105346Z
UID:34521-1580688000-1580774399@howlingwoods.org
SUMMARY:Farm Closed
DESCRIPTION:
URL:https://howlingwoods.org/event/farm-closed-229/
LOCATION:New Jersey
END:VEVENT
BEGIN:VEVENT
DTSTART;VALUE=DATE:20200202
DTEND;VALUE=DATE:20200203
DTSTAMP:20260422T123043
CREATED:20191108T105308Z
LAST-MODIFIED:20191108T105308Z
UID:34519-1580601600-1580687999@howlingwoods.org
SUMMARY:Visit the Farm
DESCRIPTION:Come and meet Samson\, Kotori\, Naiche\, Chante\, Sirius\, Orion and Raven. Learn about wolves during a tour of the farm. For appointment call 732-534-5745. Please be sure to call at least one month in advance if you wish to visit on a weekend.
URL:https://howlingwoods.org/event/visit-the-farm-209/
LOCATION:Howling Woods Farm\, 1371 W Veterans Hwy\, Jackson\, New Jersey\, 08527
ORGANIZER;CN="Howling Woods Farm":MAILTO:luv2howl@optonline.net
END:VEVENT
BEGIN:VEVENT
DTSTART;VALUE=DATE:20200201
DTEND;VALUE=DATE:20200202
DTSTAMP:20260422T123043
CREATED:20191108T104606Z
LAST-MODIFIED:20191108T104606Z
UID:34517-1580515200-1580601599@howlingwoods.org
SUMMARY:Farm Closed
DESCRIPTION:
URL:https://howlingwoods.org/event/farm-closed-228/
LOCATION:New Jersey
END:VEVENT
BEGIN:VEVENT
DTSTART;VALUE=DATE:20200128
DTEND;VALUE=DATE:20200201
DTSTAMP:20260422T123043
CREATED:20191108T104520Z
LAST-MODIFIED:20191108T105054Z
UID:34515-1580169600-1580515199@howlingwoods.org
SUMMARY:Visit the Farm
DESCRIPTION:Come and meet Samson\, Kotori\, Naiche\, Chante\, Sirius\, Orion and Raven. Learn about wolves during a tour of the farm. For appointment call 732-534-5745. Please be sure to call at least one month in advance if you wish to visit on a weekend.
URL:https://howlingwoods.org/event/visit-the-farm-208/
LOCATION:Howling Woods Farm\, 1371 W Veterans Hwy\, Jackson\, New Jersey\, 08527
END:VEVENT
BEGIN:VEVENT
DTSTART;VALUE=DATE:20200126
DTEND;VALUE=DATE:20200128
DTSTAMP:20260422T123043
CREATED:20191108T104305Z
LAST-MODIFIED:20191108T104305Z
UID:34513-1579996800-1580169599@howlingwoods.org
SUMMARY:Farm Closed
DESCRIPTION:
URL:https://howlingwoods.org/event/farm-closed-227/
LOCATION:New Jersey
END:VEVENT
BEGIN:VEVENT
DTSTART;VALUE=DATE:20200121
DTEND;VALUE=DATE:20200126
DTSTAMP:20260422T123043
CREATED:20191108T104158Z
LAST-MODIFIED:20191108T104158Z
UID:34511-1579564800-1579996799@howlingwoods.org
SUMMARY:Visit the Farm
DESCRIPTION:Come and meet Samson\, Kotori\, Naiche\, Chante\, Sirius\, Orion and Raven. Learn about wolves during a tour of the farm. For appointment call 732-534-5745. Please be sure to call at least one month in advance if you wish to visit on a weekend.
URL:https://howlingwoods.org/event/visit-the-farm-207/
LOCATION:Howling Woods Farm\, 1371 W Veterans Hwy\, Jackson\, New Jersey\, 08527
END:VEVENT
BEGIN:VEVENT
DTSTART;VALUE=DATE:20200120
DTEND;VALUE=DATE:20200121
DTSTAMP:20260422T123043
CREATED:20191108T104100Z
LAST-MODIFIED:20191108T104100Z
UID:34509-1579478400-1579564799@howlingwoods.org
SUMMARY:Farm Closed
DESCRIPTION:
URL:https://howlingwoods.org/event/farm-closed-226/
LOCATION:New Jersey
END:VEVENT
BEGIN:VEVENT
DTSTART;VALUE=DATE:20200119
DTEND;VALUE=DATE:20200120
DTSTAMP:20260422T123043
CREATED:20191108T103954Z
LAST-MODIFIED:20191108T103954Z
UID:34507-1579392000-1579478399@howlingwoods.org
SUMMARY:Visit the Farm
DESCRIPTION:Come and meet Samson\, Kotori\, Naiche\, Chante\, Sirius\, Orion and Raven. Learn about wolves during a tour of the farm. For appointment call 732-534-5745. Please be sure to call at least one month in advance if you wish to visit on a weekend.
URL:https://howlingwoods.org/event/visit-the-farm-206/
LOCATION:Howling Woods Farm\, 1371 W Veterans Hwy\, Jackson\, New Jersey\, 08527
END:VEVENT
BEGIN:VEVENT
DTSTART;VALUE=DATE:20200118
DTEND;VALUE=DATE:20200119
DTSTAMP:20260422T123043
CREATED:20191108T103631Z
LAST-MODIFIED:20191108T103631Z
UID:34505-1579305600-1579391999@howlingwoods.org
SUMMARY:Farm Closed
DESCRIPTION:
URL:https://howlingwoods.org/event/farm-closed-225/
LOCATION:New Jersey
END:VEVENT
BEGIN:VEVENT
DTSTART;TZID=UTC:20200116T190000
DTEND;TZID=UTC:20200116T200000
DTSTAMP:20260422T123043
CREATED:20200104T090247Z
LAST-MODIFIED:20200104T090247Z
UID:35530-1579201200-1579204800@howlingwoods.org
SUMMARY:Presentation - Lincoln Park Public Library
DESCRIPTION:Come to the Lincoln Park library to enjoy a presentation about wolves and meet two of the animals from Howling Woods Farm
URL:https://howlingwoods.org/event/presentation-lincoln-park-public-library/
LOCATION:Lincoln Park Public Library
ORGANIZER;CN="Howling Woods Farm":MAILTO:luv2howl@optonline.net
END:VEVENT
BEGIN:VEVENT
DTSTART;VALUE=DATE:20200114
DTEND;VALUE=DATE:20200118
DTSTAMP:20260422T123043
CREATED:20191108T103555Z
LAST-MODIFIED:20191108T103555Z
UID:34503-1578960000-1579305599@howlingwoods.org
SUMMARY:Visit the Farm
DESCRIPTION:Come and meet Samson\, Kotori\, Naiche\, Chante\, Sirius\, Orion and Raven. Learn about wolves during a tour of the farm. You must make an appointment before visiting by calling 732-534-5745.  Please be sure to call at least one month in advance if you wish to visit on a weekend.
URL:https://howlingwoods.org/event/visit-the-farm-205/
LOCATION:Howling Woods Farm\, 1371 W Veterans Hwy\, Jackson\, New Jersey\, 08527
END:VEVENT
BEGIN:VEVENT
DTSTART;VALUE=DATE:20200112
DTEND;VALUE=DATE:20200114
DTSTAMP:20260422T123043
CREATED:20191108T103349Z
LAST-MODIFIED:20191108T103349Z
UID:34501-1578787200-1578959999@howlingwoods.org
SUMMARY:Farm Closed
DESCRIPTION:
URL:https://howlingwoods.org/event/farm-closed-224/
LOCATION:New Jersey
END:VEVENT
BEGIN:VEVENT
DTSTART;VALUE=DATE:20200107
DTEND;VALUE=DATE:20200112
DTSTAMP:20260422T123043
CREATED:20191108T103303Z
LAST-MODIFIED:20191108T103303Z
UID:34499-1578355200-1578787199@howlingwoods.org
SUMMARY:Visit the Farm
DESCRIPTION:Come and meet Samson\, Kotori\, Naiche\, Chante\, Sirius\, Orion and Raven. Learn about wolves during a tour of the farm. You must make an appointment before visiting by calling 732-534-5745.  Please be sure to call at least one month in advance if you wish to visit on a weekend.
URL:https://howlingwoods.org/event/visit-the-farm-204/
LOCATION:Howling Woods Farm\, 1371 W Veterans Hwy\, Jackson\, New Jersey\, 08527
END:VEVENT
END:VCALENDAR