BEGIN:VCALENDAR
VERSION:2.0
PRODID:-//Howling Woods Farm - ECPv6.15.20//NONSGML v1.0//EN
CALSCALE:GREGORIAN
METHOD:PUBLISH
X-WR-CALNAME:Howling Woods Farm
X-ORIGINAL-URL:https://howlingwoods.org
X-WR-CALDESC:Events for Howling Woods Farm
REFRESH-INTERVAL;VALUE=DURATION:PT1H
X-Robots-Tag:noindex
X-PUBLISHED-TTL:PT1H
BEGIN:VTIMEZONE
TZID:UTC
BEGIN:STANDARD
TZOFFSETFROM:+0000
TZOFFSETTO:+0000
TZNAME:UTC
DTSTART:20190101T000000
END:STANDARD
END:VTIMEZONE
BEGIN:VEVENT
DTSTART;VALUE=DATE:20200426
DTEND;VALUE=DATE:20200427
DTSTAMP:20260422T093926
CREATED:20191229T075444Z
LAST-MODIFIED:20200227T080537Z
UID:35366-1587859200-1587945599@howlingwoods.org
SUMMARY:Farm Closed
DESCRIPTION:Come and meet Samson\, Kotori\, Naiche\, Chante\, Sirius\, Orion\, Raven and Luna. Learn about wolves during a tour of the farm. For appointment call 732-534-5745. Please be sure to call at least six weeks in advance if you wish to visit on a weekend.
URL:https://howlingwoods.org/event/visit-the-farm-227/
LOCATION:Howling Woods Farm\, 1371 W Veterans Hwy\, Jackson\, New Jersey\, 08527
ORGANIZER;CN="Howling Woods Farm":MAILTO:luv2howl@optonline.net
END:VEVENT
BEGIN:VEVENT
DTSTART;VALUE=DATE:20200421
DTEND;VALUE=DATE:20200426
DTSTAMP:20260422T093926
CREATED:20191229T075336Z
LAST-MODIFIED:20200227T080213Z
UID:35364-1587427200-1587859199@howlingwoods.org
SUMMARY:Visit the Farm
DESCRIPTION:Come and meet Samson\, Kotori\, Naiche\, Chante\, Sirius\, Orion\, Raven and Luna. Learn about wolves during a tour of the farm. For appointment call 732-534-5745. Please be sure to call at least six weeks in advance if you wish to visit on a weekend.
URL:https://howlingwoods.org/event/visit-the-farm-226/
LOCATION:Howling Woods Farm\, 1371 W Veterans Hwy\, Jackson\, New Jersey\, 08527
ORGANIZER;CN="Howling Woods Farm":MAILTO:luv2howl@optonline.net
END:VEVENT
BEGIN:VEVENT
DTSTART;VALUE=DATE:20200420
DTEND;VALUE=DATE:20200421
DTSTAMP:20260422T093926
CREATED:20191229T080214Z
LAST-MODIFIED:20191229T080214Z
UID:35376-1587340800-1587427199@howlingwoods.org
SUMMARY:Farm Closed
DESCRIPTION:
URL:https://howlingwoods.org/event/farm-closed-246/
END:VEVENT
BEGIN:VEVENT
DTSTART;VALUE=DATE:20200419
DTEND;VALUE=DATE:20200420
DTSTAMP:20260422T093926
CREATED:20191229T075140Z
LAST-MODIFIED:20191229T075140Z
UID:35361-1587254400-1587340799@howlingwoods.org
SUMMARY:Visit the Farm
DESCRIPTION:Come and meet Samson\, Kotori\, Naiche\, Chante\, Sirius\, Orion\, Raven and Luna. Learn about wolves during a tour of the farm. For appointment call 732-534-5745. Please be sure to call at least six weeks in advance if you wish to visit on a weekend.
URL:https://howlingwoods.org/event/visit-the-farm-225/
LOCATION:Howling Woods Farm\, 1371 W Veterans Hwy\, Jackson\, New Jersey\, 08527
ORGANIZER;CN="Howling Woods Farm":MAILTO:luv2howl@optonline.net
END:VEVENT
BEGIN:VEVENT
DTSTART;TZID=UTC:20200418T110000
DTEND;TZID=UTC:20200418T150000
DTSTAMP:20260422T093926
CREATED:20200228T062844Z
LAST-MODIFIED:20200324T094423Z
UID:36304-1587207600-1587222000@howlingwoods.org
SUMMARY:Cancelled - Liberty Science Center Animal Awareness Week
DESCRIPTION:Come and meet our animals at the Liberty Science Center
URL:https://howlingwoods.org/event/liberty-science-center-animal-awareness-week-2/
LOCATION:Liberty Science Center\, 222 Jersey City Blvd\, Jersey City\, NJ\, United States
END:VEVENT
BEGIN:VEVENT
DTSTART;VALUE=DATE:20200418
DTEND;VALUE=DATE:20200419
DTSTAMP:20260422T093926
CREATED:20191229T080137Z
LAST-MODIFIED:20191229T080137Z
UID:35374-1587168000-1587254399@howlingwoods.org
SUMMARY:Farm Closed
DESCRIPTION:
URL:https://howlingwoods.org/event/farm-closed-245/
END:VEVENT
BEGIN:VEVENT
DTSTART;TZID=UTC:20200416T190000
DTEND;TZID=UTC:20200416T203000
DTSTAMP:20260422T093926
CREATED:20191229T081217Z
LAST-MODIFIED:20191229T081217Z
UID:35384-1587063600-1587069000@howlingwoods.org
SUMMARY:Presentation (Private) Wyckoff Cub Scouts
DESCRIPTION:
URL:https://howlingwoods.org/event/presentation-private-wyckoff-cub-scouts/
ORGANIZER;CN="Howling Woods Farm":MAILTO:luv2howl@optonline.net
END:VEVENT
BEGIN:VEVENT
DTSTART;VALUE=DATE:20200414
DTEND;VALUE=DATE:20200418
DTSTAMP:20260422T093926
CREATED:20191229T075025Z
LAST-MODIFIED:20200324T094547Z
UID:35359-1586822400-1587167999@howlingwoods.org
SUMMARY:Farm Closed
DESCRIPTION:Come and meet Samson\, Kotori\, Naiche\, Chante\, Sirius\, Orion\, Raven and Luna. Learn about wolves during a tour of the farm. For appointment call 732-534-5745. Please be sure to call at least six weeks in advance if you wish to visit on a weekend.
URL:https://howlingwoods.org/event/visit-the-farm-224/
LOCATION:Howling Woods Farm\, 1371 W Veterans Hwy\, Jackson\, New Jersey\, 08527
ORGANIZER;CN="Howling Woods Farm":MAILTO:luv2howl@optonline.net
END:VEVENT
BEGIN:VEVENT
DTSTART;TZID=UTC:20200413T160000
DTEND;TZID=UTC:20200413T173000
DTSTAMP:20260422T093926
CREATED:20200227T085415Z
LAST-MODIFIED:20200324T094638Z
UID:36214-1586793600-1586799000@howlingwoods.org
SUMMARY:Cancelled - Presentation - Brookdale Community College
DESCRIPTION:
URL:https://howlingwoods.org/event/presentation-brookdale-community-college-2/
END:VEVENT
BEGIN:VEVENT
DTSTART;VALUE=DATE:20200412
DTEND;VALUE=DATE:20200414
DTSTAMP:20260422T093926
CREATED:20191229T080036Z
LAST-MODIFIED:20191229T080036Z
UID:35372-1586649600-1586822399@howlingwoods.org
SUMMARY:Farm Closed
DESCRIPTION:
URL:https://howlingwoods.org/event/farm-closed-244/
END:VEVENT
BEGIN:VEVENT
DTSTART;TZID=UTC:20200409T180000
DTEND;TZID=UTC:20200409T193000
DTSTAMP:20260422T093926
CREATED:20191229T081006Z
LAST-MODIFIED:20200324T095040Z
UID:35382-1586455200-1586460600@howlingwoods.org
SUMMARY:Cancelled - Presentation - Point Pleasant Boro Public Library
DESCRIPTION:Come and listen to a presentation about wolves\, and meet two of our animals after the presentation is over.
URL:https://howlingwoods.org/event/presentation-point-pleasant-boro/
ORGANIZER;CN="Howling Woods Farm":MAILTO:luv2howl@optonline.net
END:VEVENT
BEGIN:VEVENT
DTSTART;VALUE=DATE:20200407
DTEND;VALUE=DATE:20200412
DTSTAMP:20260422T093926
CREATED:20191229T074730Z
LAST-MODIFIED:20200324T094220Z
UID:35356-1586217600-1586649599@howlingwoods.org
SUMMARY:Farm Closed
DESCRIPTION:Come and meet Samson\, Kotori\, Naiche\, Chante\, Sirius\, Orion\, Raven and Luna. Learn about wolves during a tour of the farm. For appointment call 732-534-5745. Please be sure to call at least six weeks in advance if you wish to visit on a weekend.
URL:https://howlingwoods.org/event/visit-the-farm-223/
END:VEVENT
BEGIN:VEVENT
DTSTART;TZID=UTC:20200405T110000
DTEND;TZID=UTC:20200405T150000
DTSTAMP:20260422T093926
CREATED:20200227T082238Z
LAST-MODIFIED:20200324T094327Z
UID:36211-1586084400-1586098800@howlingwoods.org
SUMMARY:Cancelled - Liberty Science Center Animal Awareness Week
DESCRIPTION:Come and see our animals during Liberty Science Center Animal Awareness Week 11am and 3pm Sunday April 5\, 2020
URL:https://howlingwoods.org/event/liberty-science-center-animal-awareness-week/
LOCATION:Liberty Science Center\, 222 Jersey City Blvd\, Jersey City\, NJ\, United States
ORGANIZER;CN="Howling Woods Farm":MAILTO:luv2howl@optonline.net
END:VEVENT
BEGIN:VEVENT
DTSTART;VALUE=DATE:20200405
DTEND;VALUE=DATE:20200407
DTSTAMP:20260422T093926
CREATED:20191229T075913Z
LAST-MODIFIED:20191229T075913Z
UID:35370-1586044800-1586217599@howlingwoods.org
SUMMARY:Farm Closed
DESCRIPTION:
URL:https://howlingwoods.org/event/farm-closed-243/
END:VEVENT
BEGIN:VEVENT
DTSTART;VALUE=DATE:20200331
DTEND;VALUE=DATE:20200405
DTSTAMP:20260422T093926
CREATED:20191229T074622Z
LAST-MODIFIED:20200324T094034Z
UID:35354-1585612800-1586044799@howlingwoods.org
SUMMARY:Farm Closed
DESCRIPTION:Come and meet Samson\, Kotori\, Naiche\, Chante\, Sirius\, Orion\, Raven and Luna. Learn about wolves during a tour of the farm. For appointment call 732-534-5745. Please be sure to call at least six weeks in advance if you wish to visit on a weekend.
URL:https://howlingwoods.org/event/visit-the-farm-222/
LOCATION:Howling Woods Farm\, 1371 W Veterans Hwy\, Jackson\, New Jersey\, 08527
ORGANIZER;CN="Howling Woods Farm":MAILTO:luv2howl@optonline.net
END:VEVENT
BEGIN:VEVENT
DTSTART;VALUE=DATE:20200330
DTEND;VALUE=DATE:20200331
DTSTAMP:20260422T093926
CREATED:20191229T072723Z
LAST-MODIFIED:20191229T072723Z
UID:35340-1585526400-1585612799@howlingwoods.org
SUMMARY:Farm Closed
DESCRIPTION:
URL:https://howlingwoods.org/event/farm-closed-242/
END:VEVENT
BEGIN:VEVENT
DTSTART;VALUE=DATE:20200329
DTEND;VALUE=DATE:20200330
DTSTAMP:20260422T093926
CREATED:20191229T073221Z
LAST-MODIFIED:20200324T094120Z
UID:35346-1585440000-1585526399@howlingwoods.org
SUMMARY:Farm Closed
DESCRIPTION:Come and meet Samson\, Kotori\, Naiche\, Chante\, Sirius\, Orion\, Raven and Luna. Learn about wolves during a tour of the farm. For appointment call 732-534-5745. Please be sure to call at least six weeks in advance if you wish to visit on a weekend.
URL:https://howlingwoods.org/event/visit-the-farm-220/
LOCATION:Howling Woods Farm\, 1371 W Veterans Hwy\, Jackson\, New Jersey\, 08527
ORGANIZER;CN="Howling Woods Farm":MAILTO:luv2howl@optonline.net
END:VEVENT
BEGIN:VEVENT
DTSTART;VALUE=DATE:20200328
DTEND;VALUE=DATE:20200329
DTSTAMP:20260422T093926
CREATED:20191229T072639Z
LAST-MODIFIED:20200324T093825Z
UID:35338-1585353600-1585439999@howlingwoods.org
SUMMARY:Farm Closed
DESCRIPTION:
URL:https://howlingwoods.org/event/farm-closed-241/
END:VEVENT
BEGIN:VEVENT
DTSTART;VALUE=DATE:20200324
DTEND;VALUE=DATE:20200328
DTSTAMP:20260422T093926
CREATED:20191229T073045Z
LAST-MODIFIED:20200324T093207Z
UID:35344-1585008000-1585353599@howlingwoods.org
SUMMARY:Farm Closed
DESCRIPTION:Come and meet Samson\, Kotori\, Naiche\, Chante\, Sirius\, Orion\, Raven and Luna. Learn about wolves during a tour of the farm. For appointment call 732-534-5745. Please be sure to call at least six weeks in advance if you wish to visit on a weekend.
URL:https://howlingwoods.org/event/visit-the-farm-219/
LOCATION:Howling Woods Farm\, 1371 W Veterans Hwy\, Jackson\, New Jersey\, 08527
ORGANIZER;CN="Howling Woods Farm":MAILTO:luv2howl@optonline.net
END:VEVENT
BEGIN:VEVENT
DTSTART;VALUE=DATE:20200322
DTEND;VALUE=DATE:20200324
DTSTAMP:20260422T093926
CREATED:20191229T072543Z
LAST-MODIFIED:20191229T072543Z
UID:35336-1584835200-1585007999@howlingwoods.org
SUMMARY:Farm Closed
DESCRIPTION:
URL:https://howlingwoods.org/event/farm-closed-240/
END:VEVENT
BEGIN:VEVENT
DTSTART;VALUE=DATE:20200317
DTEND;VALUE=DATE:20200322
DTSTAMP:20260422T093926
CREATED:20191229T072836Z
LAST-MODIFIED:20200324T093628Z
UID:35342-1584403200-1584835199@howlingwoods.org
SUMMARY:Farm Closed
DESCRIPTION:Come and meet Samson\, Kotori\, Naiche\, Chante\, Sirius\, Orion\, Raven and Luna. Learn about wolves during a tour of the farm. For appointment call 732-534-5745. Please be sure to call at least six weeks in advance if you wish to visit on a weekend.
URL:https://howlingwoods.org/event/visit-the-farm-218/
END:VEVENT
BEGIN:VEVENT
DTSTART;VALUE=DATE:20200316
DTEND;VALUE=DATE:20200317
DTSTAMP:20260422T093926
CREATED:20191229T072452Z
LAST-MODIFIED:20191229T072452Z
UID:35334-1584316800-1584403199@howlingwoods.org
SUMMARY:Farm Closed
DESCRIPTION:
URL:https://howlingwoods.org/event/farm-closed-239/
END:VEVENT
BEGIN:VEVENT
DTSTART;VALUE=DATE:20200315
DTEND;VALUE=DATE:20200316
DTSTAMP:20260422T093926
CREATED:20191229T073631Z
LAST-MODIFIED:20200324T093434Z
UID:35348-1584230400-1584316799@howlingwoods.org
SUMMARY:Farm Closed
DESCRIPTION:Come and meet Samson\, Kotori\, Naiche\, Chante\, Sirius\, Orion\, Raven and Luna. Learn about wolves during a tour of the farm. For appointment call 732-534-5745. Please be sure to call at least six weeks in advance if you wish to visit on a weekend.
URL:https://howlingwoods.org/event/visit-the-farm-221/
LOCATION:Howling Woods Farm\, 1371 W Veterans Hwy\, Jackson\, New Jersey\, 08527
ORGANIZER;CN="Howling Woods Farm":MAILTO:luv2howl@optonline.net
END:VEVENT
BEGIN:VEVENT
DTSTART;VALUE=DATE:20200314
DTEND;VALUE=DATE:20200315
DTSTAMP:20260422T093926
CREATED:20191229T072400Z
LAST-MODIFIED:20191229T072400Z
UID:35332-1584144000-1584230399@howlingwoods.org
SUMMARY:Farm Closed
DESCRIPTION:
URL:https://howlingwoods.org/event/farm-closed-238/
END:VEVENT
BEGIN:VEVENT
DTSTART;TZID=UTC:20200312T190000
DTEND;TZID=UTC:20200312T220000
DTSTAMP:20260422T093926
CREATED:20191229T074031Z
LAST-MODIFIED:20191229T074031Z
UID:35352-1584039600-1584050400@howlingwoods.org
SUMMARY:Presentation (Private) Girl Scouts Farmingdale
DESCRIPTION:
URL:https://howlingwoods.org/event/presentation-private-girl-scouts-farmingdale/
END:VEVENT
BEGIN:VEVENT
DTSTART;VALUE=DATE:20200310
DTEND;VALUE=DATE:20200314
DTSTAMP:20260422T093926
CREATED:20191229T072311Z
LAST-MODIFIED:20191229T072311Z
UID:35330-1583798400-1584143999@howlingwoods.org
SUMMARY:Visit the Farm
DESCRIPTION:Come and meet Samson\, Kotori\, Naiche\, Chante\, Sirius\, Orion\, Raven and Luna. Learn about wolves during a tour of the farm. For appointment call 732-534-5745. Please be sure to call at least six weeks in advance if you wish to visit on a weekend.
URL:https://howlingwoods.org/event/visit-the-farm-217/
LOCATION:Howling Woods Farm\, 1371 W Veterans Hwy\, Jackson\, New Jersey\, 08527
ORGANIZER;CN="Howling Woods Farm":MAILTO:luv2howl@optonline.net
END:VEVENT
BEGIN:VEVENT
DTSTART;VALUE=DATE:20200308
DTEND;VALUE=DATE:20200310
DTSTAMP:20260422T093926
CREATED:20191229T072059Z
LAST-MODIFIED:20191229T072059Z
UID:35328-1583625600-1583798399@howlingwoods.org
SUMMARY:Farm Closed
DESCRIPTION:
URL:https://howlingwoods.org/event/farm-closed-237/
END:VEVENT
BEGIN:VEVENT
DTSTART;TZID=UTC:20200305T190000
DTEND;TZID=UTC:20200305T210000
DTSTAMP:20260422T093926
CREATED:20191229T073908Z
LAST-MODIFIED:20191229T073908Z
UID:35350-1583434800-1583442000@howlingwoods.org
SUMMARY:Presentation (Private) Girl Scouts Toms River
DESCRIPTION:
URL:https://howlingwoods.org/event/presentation-private-girl-scouts-toms-river/
END:VEVENT
BEGIN:VEVENT
DTSTART;VALUE=DATE:20200303
DTEND;VALUE=DATE:20200308
DTSTAMP:20260422T093926
CREATED:20191229T071947Z
LAST-MODIFIED:20191229T071947Z
UID:35326-1583193600-1583625599@howlingwoods.org
SUMMARY:Visit the Farm
DESCRIPTION:Come and meet Samson\, Kotori\, Naiche\, Chante\, Sirius\, Orion\, Raven and Luna. Learn about wolves during a tour of the farm. For appointment call 732-534-5745. Please be sure to call at least six weeks in advance if you wish to visit on a weekend.
URL:https://howlingwoods.org/event/visit-the-farm-216/
LOCATION:Howling Woods Farm\, 1371 W Veterans Hwy\, Jackson\, New Jersey\, 08527
ORGANIZER;CN="Howling Woods Farm":MAILTO:luv2howl@optonline.net
END:VEVENT
BEGIN:VEVENT
DTSTART;VALUE=DATE:20200302
DTEND;VALUE=DATE:20200303
DTSTAMP:20260422T093926
CREATED:20191229T071803Z
LAST-MODIFIED:20191229T071803Z
UID:35324-1583107200-1583193599@howlingwoods.org
SUMMARY:Farm Closed
DESCRIPTION:
URL:https://howlingwoods.org/event/farm-closed-236/
END:VEVENT
END:VCALENDAR