BEGIN:VCALENDAR
VERSION:2.0
PRODID:-//Howling Woods Farm - ECPv6.15.20//NONSGML v1.0//EN
CALSCALE:GREGORIAN
METHOD:PUBLISH
X-WR-CALNAME:Howling Woods Farm
X-ORIGINAL-URL:https://howlingwoods.org
X-WR-CALDESC:Events for Howling Woods Farm
REFRESH-INTERVAL;VALUE=DURATION:PT1H
X-Robots-Tag:noindex
X-PUBLISHED-TTL:PT1H
BEGIN:VTIMEZONE
TZID:UTC
BEGIN:STANDARD
TZOFFSETFROM:+0000
TZOFFSETTO:+0000
TZNAME:UTC
DTSTART:20190101T000000
END:STANDARD
END:VTIMEZONE
BEGIN:VEVENT
DTSTART;VALUE=DATE:20200628
DTEND;VALUE=DATE:20200629
DTSTAMP:20260422T045913
CREATED:20200228T060245Z
LAST-MODIFIED:20200228T060245Z
UID:36277-1593302400-1593388799@howlingwoods.org
SUMMARY:Visit the Farm
DESCRIPTION:Come and meet Samson\, Kotori\, Naiche\, Chante\, Sirius\, Orion\, Raven and Luna. Learn about wolves during a one-hour tour of the farm. For appointment call 732-534-5745. Please be sure to call at least six weeks in advance if you wish to visit on a weekend.
URL:https://howlingwoods.org/event/visit-the-farm-242/
LOCATION:New Jersey
END:VEVENT
BEGIN:VEVENT
DTSTART;VALUE=DATE:20200627
DTEND;VALUE=DATE:20200628
DTSTAMP:20260422T045913
CREATED:20200228T062231Z
LAST-MODIFIED:20200228T062231Z
UID:36302-1593216000-1593302399@howlingwoods.org
SUMMARY:Hollywoof
DESCRIPTION:Meet our animals during the 2020 Hollywoof at Lakewood Blue Claws stadium.  Times to be determined.
URL:https://howlingwoods.org/event/hollywoof/
LOCATION:New Jersey
END:VEVENT
BEGIN:VEVENT
DTSTART;VALUE=DATE:20200627
DTEND;VALUE=DATE:20200628
DTSTAMP:20260422T045913
CREATED:20200228T061621Z
LAST-MODIFIED:20200228T061621Z
UID:36299-1593216000-1593302399@howlingwoods.org
SUMMARY:A Common Thread (private)
DESCRIPTION:Special needs kids meet the animals at private event.
URL:https://howlingwoods.org/event/common-thread-private/
LOCATION:Jackson\, NJ
END:VEVENT
BEGIN:VEVENT
DTSTART;VALUE=DATE:20200627
DTEND;VALUE=DATE:20200628
DTSTAMP:20260422T045913
CREATED:20200228T060943Z
LAST-MODIFIED:20200228T060943Z
UID:36291-1593216000-1593302399@howlingwoods.org
SUMMARY:Farm Closed
DESCRIPTION:
URL:https://howlingwoods.org/event/farm-closed-260/
LOCATION:New Jersey
END:VEVENT
BEGIN:VEVENT
DTSTART;VALUE=DATE:20200623
DTEND;VALUE=DATE:20200627
DTSTAMP:20260422T045913
CREATED:20200228T060202Z
LAST-MODIFIED:20200228T060202Z
UID:36275-1592870400-1593215999@howlingwoods.org
SUMMARY:Visit the Farm
DESCRIPTION:Come and meet Samson\, Kotori\, Naiche\, Chante\, Sirius\, Orion\, Raven and Luna. Learn about wolves during a one-hour tour of the farm. For appointment call 732-534-5745. Please be sure to call at least six weeks in advance if you wish to visit on a weekend.
URL:https://howlingwoods.org/event/visit-the-farm-241/
LOCATION:New Jersey
END:VEVENT
BEGIN:VEVENT
DTSTART;VALUE=DATE:20200621
DTEND;VALUE=DATE:20200623
DTSTAMP:20260422T045913
CREATED:20200228T060826Z
LAST-MODIFIED:20200228T060826Z
UID:36289-1592697600-1592870399@howlingwoods.org
SUMMARY:Farm Closed
DESCRIPTION:
URL:https://howlingwoods.org/event/farm-closed-259/
LOCATION:New Jersey
END:VEVENT
BEGIN:VEVENT
DTSTART;VALUE=DATE:20200616
DTEND;VALUE=DATE:20200621
DTSTAMP:20260422T045913
CREATED:20200228T060037Z
LAST-MODIFIED:20200228T060037Z
UID:36273-1592265600-1592697599@howlingwoods.org
SUMMARY:Visit the Farm
DESCRIPTION:Come and meet Samson\, Kotori\, Naiche\, Chante\, Sirius\, Orion\, Raven and Luna. Learn about wolves during a one-hour tour of the farm. For appointment call 732-534-5745. Please be sure to call at least six weeks in advance if you wish to visit on a weekend.
URL:https://howlingwoods.org/event/visit-the-farm-240/
LOCATION:New Jersey
END:VEVENT
BEGIN:VEVENT
DTSTART;VALUE=DATE:20200615
DTEND;VALUE=DATE:20200616
DTSTAMP:20260422T045913
CREATED:20200228T060741Z
LAST-MODIFIED:20200228T060741Z
UID:36287-1592179200-1592265599@howlingwoods.org
SUMMARY:Farm Closed
DESCRIPTION:
URL:https://howlingwoods.org/event/farm-closed-258/
LOCATION:New Jersey
END:VEVENT
BEGIN:VEVENT
DTSTART;VALUE=DATE:20200614
DTEND;VALUE=DATE:20200615
DTSTAMP:20260422T045913
CREATED:20200228T055937Z
LAST-MODIFIED:20200228T055937Z
UID:36271-1592092800-1592179199@howlingwoods.org
SUMMARY:Visit the Farm
DESCRIPTION:Come and meet Samson\, Kotori\, Naiche\, Chante\, Sirius\, Orion\, Raven and Luna. Learn about wolves during a one-hour tour of the farm. For appointment call 732-534-5745. Please be sure to call at least six weeks in advance if you wish to visit on a weekend.
URL:https://howlingwoods.org/event/visit-the-farm-239/
LOCATION:New Jersey
END:VEVENT
BEGIN:VEVENT
DTSTART;VALUE=DATE:20200613
DTEND;VALUE=DATE:20200614
DTSTAMP:20260422T045913
CREATED:20200228T060654Z
LAST-MODIFIED:20200228T060654Z
UID:36285-1592006400-1592092799@howlingwoods.org
SUMMARY:Farm Closed
DESCRIPTION:
URL:https://howlingwoods.org/event/farm-closed-257/
LOCATION:New Jersey
END:VEVENT
BEGIN:VEVENT
DTSTART;VALUE=DATE:20200609
DTEND;VALUE=DATE:20200613
DTSTAMP:20260422T045913
CREATED:20200228T054626Z
LAST-MODIFIED:20200228T054626Z
UID:36269-1591660800-1592006399@howlingwoods.org
SUMMARY:Visit the Farm
DESCRIPTION:Come and meet Samson\, Kotori\, Naiche\, Chante\, Sirius\, Orion\, Raven and Luna. Learn about wolves during a one-hour tour of the farm. For appointment call 732-534-5745. Please be sure to call at least six weeks in advance if you wish to visit on a weekend.
URL:https://howlingwoods.org/event/visit-the-farm-238/
LOCATION:New Jersey
END:VEVENT
BEGIN:VEVENT
DTSTART;VALUE=DATE:20200608
DTEND;VALUE=DATE:20200609
DTSTAMP:20260422T045913
CREATED:20200228T060619Z
LAST-MODIFIED:20200228T060619Z
UID:36283-1591574400-1591660799@howlingwoods.org
SUMMARY:Farm Closed
DESCRIPTION:
URL:https://howlingwoods.org/event/farm-closed-256/
LOCATION:New Jersey
END:VEVENT
BEGIN:VEVENT
DTSTART;VALUE=DATE:20200607
DTEND;VALUE=DATE:20200608
DTSTAMP:20260422T045913
CREATED:20200228T054520Z
LAST-MODIFIED:20200228T054520Z
UID:36267-1591488000-1591574399@howlingwoods.org
SUMMARY:Visit the Farm
DESCRIPTION:Come and meet Samson\, Kotori\, Naiche\, Chante\, Sirius\, Orion\, Raven and Luna. Learn about wolves during a one-hour tour of the farm. For appointment call 732-534-5745. Please be sure to call at least six weeks in advance if you wish to visit on a weekend.
URL:https://howlingwoods.org/event/visit-the-farm-237/
LOCATION:New Jersey
END:VEVENT
BEGIN:VEVENT
DTSTART;VALUE=DATE:20200606
DTEND;VALUE=DATE:20200607
DTSTAMP:20260422T045913
CREATED:20200228T060547Z
LAST-MODIFIED:20200228T060547Z
UID:36281-1591401600-1591487999@howlingwoods.org
SUMMARY:Farm Closed
DESCRIPTION:
URL:https://howlingwoods.org/event/farm-closed-255/
LOCATION:New Jersey
END:VEVENT
BEGIN:VEVENT
DTSTART;VALUE=DATE:20200605
DTEND;VALUE=DATE:20200606
DTSTAMP:20260422T045913
CREATED:20200605T134600Z
LAST-MODIFIED:20200605T134600Z
UID:36891-1591315200-1591401599@howlingwoods.org
SUMMARY:Visit the Farm
DESCRIPTION:Come and meet Samson\, Kotori\, Naiche\, Chante\, Sirius\, Orion\, Raven and Luna. Learn about wolves during a one-hour tour of the farm. For appointment call 609-901-1387. Please be sure to call at least three weeks in advance if you wish to visit on a weekend.
URL:https://howlingwoods.org/event/visit-the-farm-244/
LOCATION:New Jersey
END:VEVENT
BEGIN:VEVENT
DTSTART;VALUE=DATE:20200602
DTEND;VALUE=DATE:20200606
DTSTAMP:20260422T045913
CREATED:20200228T054212Z
LAST-MODIFIED:20200228T054212Z
UID:36265-1591056000-1591401599@howlingwoods.org
SUMMARY:Visit the Farm
DESCRIPTION:Come and meet Samson\, Kotori\, Naiche\, Chante\, Sirius\, Orion\, Raven and Luna. Learn about wolves during a one-hour tour of the farm. For appointment call 732-534-5745. Please be sure to call at least six weeks in advance if you wish to visit on a weekend.
URL:https://howlingwoods.org/event/visit-the-farm-236/
LOCATION:New Jersey
END:VEVENT
BEGIN:VEVENT
DTSTART;VALUE=DATE:20200601
DTEND;VALUE=DATE:20200602
DTSTAMP:20260422T045913
CREATED:20200228T061203Z
LAST-MODIFIED:20200228T061203Z
UID:36297-1590969600-1591055999@howlingwoods.org
SUMMARY:Farm Closed
DESCRIPTION:
URL:https://howlingwoods.org/event/farm-closed-263/
LOCATION:New Jersey
END:VEVENT
BEGIN:VEVENT
DTSTART;VALUE=DATE:20200531
DTEND;VALUE=DATE:20200601
DTSTAMP:20260422T045913
CREATED:20200228T051132Z
LAST-MODIFIED:20200228T051132Z
UID:36237-1590883200-1590969599@howlingwoods.org
SUMMARY:Farm Closed
DESCRIPTION:
URL:https://howlingwoods.org/event/farm-closed-254/
LOCATION:New Jersey
END:VEVENT
BEGIN:VEVENT
DTSTART;VALUE=DATE:20200530
DTEND;VALUE=DATE:20200531
DTSTAMP:20260422T045913
CREATED:20200228T052349Z
LAST-MODIFIED:20200228T052349Z
UID:36251-1590796800-1590883199@howlingwoods.org
SUMMARY:Visit the Farm
DESCRIPTION:Come to the Farm and meet Samson\, Kotori\, Naiche\, Chante\, Sirius\, Orion\, Raven and Luna. Learn about wolves during a tour of the farm. For appointment call 732-534-5745. Please be sure to call at least six weeks in advance if you wish to visit on a weekend.
URL:https://howlingwoods.org/event/visit-the-farm-235/
LOCATION:New Jersey
END:VEVENT
BEGIN:VEVENT
DTSTART;VALUE=DATE:20200526
DTEND;VALUE=DATE:20200530
DTSTAMP:20260422T045913
CREATED:20200228T051926Z
LAST-MODIFIED:20200228T051926Z
UID:36247-1590451200-1590796799@howlingwoods.org
SUMMARY:Visit the Farm
DESCRIPTION:Come to the Farm and meet Samson\, Kotori\, Naiche\, Chante\, Sirius\, Orion\, Raven and Luna. Learn about wolves during a tour of the farm. For appointment call 732-534-5745. Please be sure to call at least six weeks in advance if you wish to visit on a weekend.
URL:https://howlingwoods.org/event/visit-the-farm-233/
LOCATION:New Jersey
END:VEVENT
BEGIN:VEVENT
DTSTART;VALUE=DATE:20200525
DTEND;VALUE=DATE:20200526
DTSTAMP:20260422T045913
CREATED:20200228T051051Z
LAST-MODIFIED:20200228T051051Z
UID:36235-1590364800-1590451199@howlingwoods.org
SUMMARY:Farm Closed
DESCRIPTION:
URL:https://howlingwoods.org/event/farm-closed-253/
LOCATION:New Jersey
END:VEVENT
BEGIN:VEVENT
DTSTART;VALUE=DATE:20200524
DTEND;VALUE=DATE:20200525
DTSTAMP:20260422T045913
CREATED:20200228T052303Z
LAST-MODIFIED:20200228T052303Z
UID:36249-1590278400-1590364799@howlingwoods.org
SUMMARY:Visit the Farm
DESCRIPTION:Come to the Farm and meet Samson\, Kotori\, Naiche\, Chante\, Sirius\, Orion\, Raven and Luna. Learn about wolves during a tour of the farm. For appointment call 732-534-5745. Please be sure to call at least six weeks in advance if you wish to visit on a weekend.
URL:https://howlingwoods.org/event/visit-the-farm-234/
LOCATION:New Jersey
END:VEVENT
BEGIN:VEVENT
DTSTART;VALUE=DATE:20200523
DTEND;VALUE=DATE:20200524
DTSTAMP:20260422T045913
CREATED:20200228T051015Z
LAST-MODIFIED:20200228T051015Z
UID:36233-1590192000-1590278399@howlingwoods.org
SUMMARY:Farm Closed
DESCRIPTION:
URL:https://howlingwoods.org/event/farm-closed-252/
LOCATION:New Jersey
END:VEVENT
BEGIN:VEVENT
DTSTART;VALUE=DATE:20200519
DTEND;VALUE=DATE:20200523
DTSTAMP:20260422T045913
CREATED:20200228T051746Z
LAST-MODIFIED:20200228T051746Z
UID:36245-1589846400-1590191999@howlingwoods.org
SUMMARY:Visit the Farm
DESCRIPTION:Come to the Farm and meet Samson\, Kotori\, Naiche\, Chante\, Sirius\, Orion\, Raven and Luna. Learn about wolves during a tour of the farm. For appointment call 732-534-5745. Please be sure to call at least six weeks in advance if you wish to visit on a weekend.
URL:https://howlingwoods.org/event/visit-the-farm-232/
LOCATION:New Jersey
END:VEVENT
BEGIN:VEVENT
DTSTART;TZID=UTC:20200518T160000
DTEND;TZID=UTC:20200518T170000
DTSTAMP:20260422T045913
CREATED:20200228T053656Z
LAST-MODIFIED:20200228T053833Z
UID:36259-1589817600-1589821200@howlingwoods.org
SUMMARY:Presentation - Sea Bright Public Library (public)
DESCRIPTION:Come to Sea Bright Public Library to learn about wolves and meet two of our animals.
URL:https://howlingwoods.org/event/presentation-sea-bright-public-library-public/
LOCATION:New Jersey
END:VEVENT
BEGIN:VEVENT
DTSTART;VALUE=DATE:20200518
DTEND;VALUE=DATE:20200519
DTSTAMP:20260422T045913
CREATED:20200228T050937Z
LAST-MODIFIED:20200228T050937Z
UID:36231-1589760000-1589846399@howlingwoods.org
SUMMARY:Farm Closed
DESCRIPTION:
URL:https://howlingwoods.org/event/farm-closed-251/
LOCATION:New Jersey
END:VEVENT
BEGIN:VEVENT
DTSTART;VALUE=DATE:20200517
DTEND;VALUE=DATE:20200518
DTSTAMP:20260422T045913
CREATED:20200228T051654Z
LAST-MODIFIED:20200228T051654Z
UID:36243-1589673600-1589759999@howlingwoods.org
SUMMARY:Visit the Farm
DESCRIPTION:Come to the Farm and meet Samson\, Kotori\, Naiche\, Chante\, Sirius\, Orion\, Raven and Luna. Learn about wolves during a tour of the farm. For appointment call 732-534-5745. Please be sure to call at least six weeks in advance if you wish to visit on a weekend.
URL:https://howlingwoods.org/event/visit-the-farm-231/
LOCATION:New Jersey
END:VEVENT
BEGIN:VEVENT
DTSTART;VALUE=DATE:20200516
DTEND;VALUE=DATE:20200517
DTSTAMP:20260422T045913
CREATED:20200228T050800Z
LAST-MODIFIED:20200228T050800Z
UID:36229-1589587200-1589673599@howlingwoods.org
SUMMARY:Farm Closed
DESCRIPTION:
URL:https://howlingwoods.org/event/farm-closed-250/
LOCATION:New Jersey
END:VEVENT
BEGIN:VEVENT
DTSTART;VALUE=DATE:20200512
DTEND;VALUE=DATE:20200516
DTSTAMP:20260422T045913
CREATED:20200228T051608Z
LAST-MODIFIED:20200228T051608Z
UID:36241-1589241600-1589587199@howlingwoods.org
SUMMARY:Visit the Farm
DESCRIPTION:Come to the Farm and meet Samson\, Kotori\, Naiche\, Chante\, Sirius\, Orion\, Raven and Luna. Learn about wolves during a tour of the farm. For appointment call 732-534-5745. Please be sure to call at least six weeks in advance if you wish to visit on a weekend.
URL:https://howlingwoods.org/event/visit-the-farm-230/
LOCATION:New Jersey
END:VEVENT
BEGIN:VEVENT
DTSTART;VALUE=DATE:20200511
DTEND;VALUE=DATE:20200512
DTSTAMP:20260422T045913
CREATED:20200228T053157Z
LAST-MODIFIED:20200228T053157Z
UID:36257-1589155200-1589241599@howlingwoods.org
SUMMARY:Presentation - Monroe Senior Center (private)
DESCRIPTION:
URL:https://howlingwoods.org/event/presentation-monroe-senior-center-private/
LOCATION:New Jersey
END:VEVENT
END:VCALENDAR