BEGIN:VCALENDAR
VERSION:2.0
PRODID:-//Howling Woods Farm - ECPv6.15.20//NONSGML v1.0//EN
CALSCALE:GREGORIAN
METHOD:PUBLISH
X-WR-CALNAME:Howling Woods Farm
X-ORIGINAL-URL:https://howlingwoods.org
X-WR-CALDESC:Events for Howling Woods Farm
REFRESH-INTERVAL;VALUE=DURATION:PT1H
X-Robots-Tag:noindex
X-PUBLISHED-TTL:PT1H
BEGIN:VTIMEZONE
TZID:UTC
BEGIN:STANDARD
TZOFFSETFROM:+0000
TZOFFSETTO:+0000
TZNAME:UTC
DTSTART:20190101T000000
END:STANDARD
END:VTIMEZONE
BEGIN:VEVENT
DTSTART;VALUE=DATE:20200817
DTEND;VALUE=DATE:20200818
DTSTAMP:20260422T015019
CREATED:20200730T110236Z
LAST-MODIFIED:20200730T110236Z
UID:37535-1597622400-1597708799@howlingwoods.org
SUMMARY:Farm Closed
DESCRIPTION:
URL:https://howlingwoods.org/event/farm-closed-285/
END:VEVENT
BEGIN:VEVENT
DTSTART;VALUE=DATE:20200817
DTEND;VALUE=DATE:20200818
DTSTAMP:20260422T015019
CREATED:20200625T120418Z
LAST-MODIFIED:20200625T120418Z
UID:37149-1597622400-1597708799@howlingwoods.org
SUMMARY:Farm Closed
DESCRIPTION:
URL:https://howlingwoods.org/event/farm-closed-273/
END:VEVENT
BEGIN:VEVENT
DTSTART;VALUE=DATE:20200816
DTEND;VALUE=DATE:20200817
DTSTAMP:20260422T015019
CREATED:20200625T115108Z
LAST-MODIFIED:20200730T102902Z
UID:37132-1597536000-1597622399@howlingwoods.org
SUMMARY:Visit the Farm
DESCRIPTION:Come and meet Kotori\, Naiche\, Chante\, Sirius\, Orion\, Raven and Luna. Learn about wolves during a one-hour tour of the farm. For appointment call 609-901-1387. Please be sure to call at least one week in advance if you wish to visit on a weekend.
URL:https://howlingwoods.org/event/visit-the-farm-254/
LOCATION:Howling Woods Farm\, 1371 W Veterans Hwy\, Jackson\, New Jersey\, 08527
ORGANIZER;CN="Howling Woods Farm":MAILTO:luv2howl@optonline.net
END:VEVENT
BEGIN:VEVENT
DTSTART;VALUE=DATE:20200815
DTEND;VALUE=DATE:20200816
DTSTAMP:20260422T015019
CREATED:20200625T120304Z
LAST-MODIFIED:20200625T120304Z
UID:37147-1597449600-1597535999@howlingwoods.org
SUMMARY:Farm Closed
DESCRIPTION:
URL:https://howlingwoods.org/event/farm-closed-272/
END:VEVENT
BEGIN:VEVENT
DTSTART;VALUE=DATE:20200811
DTEND;VALUE=DATE:20200815
DTSTAMP:20260422T015019
CREATED:20200625T114935Z
LAST-MODIFIED:20200730T102803Z
UID:37130-1597104000-1597449599@howlingwoods.org
SUMMARY:Visit the Farm
DESCRIPTION:Come and meet Kotori\, Naiche\, Chante\, Sirius\, Orion\, Raven and Luna. Learn about wolves during a one-hour tour of the farm. For appointment call 609-901-1387. Please be sure to call at least one week in advance if you wish to visit on a weekend.
URL:https://howlingwoods.org/event/visit-the-farm-253/
LOCATION:Howling Woods Farm\, 1371 W Veterans Hwy\, Jackson\, New Jersey\, 08527
ORGANIZER;CN="Howling Woods Farm":MAILTO:luv2howl@optonline.net
END:VEVENT
BEGIN:VEVENT
DTSTART;VALUE=DATE:20200809
DTEND;VALUE=DATE:20200811
DTSTAMP:20260422T015019
CREATED:20200625T120209Z
LAST-MODIFIED:20200625T120209Z
UID:37145-1596931200-1597103999@howlingwoods.org
SUMMARY:Farm Closed
DESCRIPTION:
URL:https://howlingwoods.org/event/farm-closed-271/
END:VEVENT
BEGIN:VEVENT
DTSTART;VALUE=DATE:20200804
DTEND;VALUE=DATE:20200809
DTSTAMP:20260422T015019
CREATED:20200625T114755Z
LAST-MODIFIED:20200730T102641Z
UID:37128-1596499200-1596931199@howlingwoods.org
SUMMARY:Visit the Farm
DESCRIPTION:Come and meet Kotori\, Naiche\, Chante\, Sirius\, Orion\, Raven and Luna. Learn about wolves during a one-hour tour of the farm. For appointment call 609-901-1387. Please be sure to call at least one week in advance if you wish to visit on a weekend.
URL:https://howlingwoods.org/event/visit-the-farm-252/
LOCATION:Howling Woods Farm\, 1371 W Veterans Hwy\, Jackson\, New Jersey\, 08527
ORGANIZER;CN="Howling Woods Farm":MAILTO:luv2howl@optonline.net
END:VEVENT
BEGIN:VEVENT
DTSTART;VALUE=DATE:20200803
DTEND;VALUE=DATE:20200804
DTSTAMP:20260422T015019
CREATED:20200625T120103Z
LAST-MODIFIED:20200625T120103Z
UID:37143-1596412800-1596499199@howlingwoods.org
SUMMARY:Farm Closed
DESCRIPTION:
URL:https://howlingwoods.org/event/farm-closed-270/
END:VEVENT
BEGIN:VEVENT
DTSTART;VALUE=DATE:20200802
DTEND;VALUE=DATE:20200803
DTSTAMP:20260422T015019
CREATED:20200625T114613Z
LAST-MODIFIED:20200730T102535Z
UID:37126-1596326400-1596412799@howlingwoods.org
SUMMARY:Visit the Farm
DESCRIPTION:Come and meet Kotori\, Naiche\, Chante\, Sirius\, Orion\, Raven and Luna. Learn about wolves during a one-hour tour of the farm. For appointment call 609-901-1387. Please be sure to call at least one week in advance if you wish to visit on a weekend.
URL:https://howlingwoods.org/event/visit-the-farm-251/
END:VEVENT
BEGIN:VEVENT
DTSTART;VALUE=DATE:20200801
DTEND;VALUE=DATE:20200802
DTSTAMP:20260422T015019
CREATED:20200625T120018Z
LAST-MODIFIED:20200625T120018Z
UID:37141-1596240000-1596326399@howlingwoods.org
SUMMARY:Farm Closed
DESCRIPTION:
URL:https://howlingwoods.org/event/farm-closed-269/
END:VEVENT
BEGIN:VEVENT
DTSTART;VALUE=DATE:20200728
DTEND;VALUE=DATE:20200801
DTSTAMP:20260422T015019
CREATED:20200605T135246Z
LAST-MODIFIED:20200730T102157Z
UID:36899-1595894400-1596239999@howlingwoods.org
SUMMARY:Visit the Farm
DESCRIPTION:Come and meet Kotori\, Naiche\, Chante\, Sirius\, Orion\, Raven and Luna. Learn about wolves during a one-hour tour of the farm. For appointment call 609-901-1387. Please be sure to call at least three weeks in advance if you wish to visit on a weekend.
URL:https://howlingwoods.org/event/visit-the-farm-248/
END:VEVENT
BEGIN:VEVENT
DTSTART;VALUE=DATE:20200726
DTEND;VALUE=DATE:20200728
DTSTAMP:20260422T015019
CREATED:20200605T140342Z
LAST-MODIFIED:20200605T140342Z
UID:36913-1595721600-1595894399@howlingwoods.org
SUMMARY:Farm Closed
DESCRIPTION:
URL:https://howlingwoods.org/event/farm-closed-268/
END:VEVENT
BEGIN:VEVENT
DTSTART;VALUE=DATE:20200721
DTEND;VALUE=DATE:20200726
DTSTAMP:20260422T015019
CREATED:20200605T135208Z
LAST-MODIFIED:20200605T135208Z
UID:36897-1595289600-1595721599@howlingwoods.org
SUMMARY:Visit the Farm
DESCRIPTION:Come and meet Samson\, Kotori\, Naiche\, Chante\, Sirius\, Orion\, Raven and Luna. Learn about wolves during a one-hour tour of the farm. For appointment call 609-901-1387. Please be sure to call at least three weeks in advance if you wish to visit on a weekend.
URL:https://howlingwoods.org/event/visit-the-farm-247/
END:VEVENT
BEGIN:VEVENT
DTSTART;VALUE=DATE:20200720
DTEND;VALUE=DATE:20200721
DTSTAMP:20260422T015019
CREATED:20200605T140252Z
LAST-MODIFIED:20200605T140252Z
UID:36911-1595203200-1595289599@howlingwoods.org
SUMMARY:Farm Closed
DESCRIPTION:
URL:https://howlingwoods.org/event/farm-closed-267/
END:VEVENT
BEGIN:VEVENT
DTSTART;VALUE=DATE:20200719
DTEND;VALUE=DATE:20200720
DTSTAMP:20260422T015019
CREATED:20200605T135120Z
LAST-MODIFIED:20200605T135120Z
UID:36895-1595116800-1595203199@howlingwoods.org
SUMMARY:Visit the Farm
DESCRIPTION:Come and meet Samson\, Kotori\, Naiche\, Chante\, Sirius\, Orion\, Raven and Luna. Learn about wolves during a one-hour tour of the farm. For appointment call 609-901-1387. Please be sure to call at least three weeks in advance if you wish to visit on a weekend.
URL:https://howlingwoods.org/event/visit-the-farm-246/
END:VEVENT
BEGIN:VEVENT
DTSTART;VALUE=DATE:20200718
DTEND;VALUE=DATE:20200719
DTSTAMP:20260422T015019
CREATED:20200605T140221Z
LAST-MODIFIED:20200605T140221Z
UID:36909-1595030400-1595116799@howlingwoods.org
SUMMARY:Farm Closed
DESCRIPTION:
URL:https://howlingwoods.org/event/farm-closed-266/
END:VEVENT
BEGIN:VEVENT
DTSTART;VALUE=DATE:20200714
DTEND;VALUE=DATE:20200718
DTSTAMP:20260422T015019
CREATED:20200605T134845Z
LAST-MODIFIED:20200605T134939Z
UID:36893-1594684800-1595030399@howlingwoods.org
SUMMARY:Visit the Farm
DESCRIPTION:Come and meet Samson\, Kotori\, Naiche\, Chante\, Sirius\, Orion\, Raven and Luna. Learn about wolves during a one-hour tour of the farm. For appointment call 609-901-1387. Please be sure to call at least three weeks in advance if you wish to visit on a weekend.
URL:https://howlingwoods.org/event/visit-the-farm-245/
END:VEVENT
BEGIN:VEVENT
DTSTART;VALUE=DATE:20200712
DTEND;VALUE=DATE:20200714
DTSTAMP:20260422T015019
CREATED:20200605T140151Z
LAST-MODIFIED:20200605T140151Z
UID:36907-1594512000-1594684799@howlingwoods.org
SUMMARY:Farm Closed
DESCRIPTION:
URL:https://howlingwoods.org/event/farm-closed-265/
END:VEVENT
BEGIN:VEVENT
DTSTART;VALUE=DATE:20200707
DTEND;VALUE=DATE:20200712
DTSTAMP:20260422T015019
CREATED:20200605T135627Z
LAST-MODIFIED:20200605T135627Z
UID:36903-1594080000-1594511999@howlingwoods.org
SUMMARY:Visit the Farm
DESCRIPTION:Come and meet Samson\, Kotori\, Naiche\, Chante\, Sirius\, Orion\, Raven and Luna. Learn about wolves during a one-hour tour of the farm. For appointment call 609-901-1387. Please be sure to call at least three weeks in advance if you wish to visit on a weekend.
URL:https://howlingwoods.org/event/visit-the-farm-250/
END:VEVENT
BEGIN:VEVENT
DTSTART;VALUE=DATE:20200706
DTEND;VALUE=DATE:20200707
DTSTAMP:20260422T015019
CREATED:20200605T135821Z
LAST-MODIFIED:20200605T135821Z
UID:36905-1593993600-1594079999@howlingwoods.org
SUMMARY:Farm Closed
DESCRIPTION:
URL:https://howlingwoods.org/event/farm-closed-264/
END:VEVENT
BEGIN:VEVENT
DTSTART;VALUE=DATE:20200705
DTEND;VALUE=DATE:20200706
DTSTAMP:20260422T015019
CREATED:20200605T135522Z
LAST-MODIFIED:20200605T135522Z
UID:36901-1593907200-1593993599@howlingwoods.org
SUMMARY:Visit the Farm
DESCRIPTION:Come and meet Samson\, Kotori\, Naiche\, Chante\, Sirius\, Orion\, Raven and Luna. Learn about wolves during a one-hour tour of the farm. For appointment call 609-901-1387. Please be sure to call at least three weeks in advance if you wish to visit on a weekend.
URL:https://howlingwoods.org/event/visit-the-farm-249/
END:VEVENT
BEGIN:VEVENT
DTSTART;VALUE=DATE:20200704
DTEND;VALUE=DATE:20200705
DTSTAMP:20260422T015019
CREATED:20200228T061056Z
LAST-MODIFIED:20200228T061056Z
UID:36295-1593820800-1593907199@howlingwoods.org
SUMMARY:Farm Closed
DESCRIPTION:
URL:https://howlingwoods.org/event/farm-closed-262/
END:VEVENT
BEGIN:VEVENT
DTSTART;VALUE=DATE:20200630
DTEND;VALUE=DATE:20200704
DTSTAMP:20260422T015019
CREATED:20200228T060427Z
LAST-MODIFIED:20200228T060427Z
UID:36279-1593475200-1593820799@howlingwoods.org
SUMMARY:Visit the Farm
DESCRIPTION:Come and meet Samson\, Kotori\, Naiche\, Chante\, Sirius\, Orion\, Raven and Luna. Learn about wolves during a one-hour tour of the farm. For appointment call 732-534-5745. Please be sure to call at least six weeks in advance if you wish to visit on a weekend.
URL:https://howlingwoods.org/event/visit-the-farm-243/
END:VEVENT
BEGIN:VEVENT
DTSTART;VALUE=DATE:20200629
DTEND;VALUE=DATE:20200630
DTSTAMP:20260422T015019
CREATED:20200228T061021Z
LAST-MODIFIED:20200228T061021Z
UID:36293-1593388800-1593475199@howlingwoods.org
SUMMARY:Farm Closed
DESCRIPTION:
URL:https://howlingwoods.org/event/farm-closed-261/
END:VEVENT
BEGIN:VEVENT
DTSTART;VALUE=DATE:20200628
DTEND;VALUE=DATE:20200629
DTSTAMP:20260422T015019
CREATED:20200228T060245Z
LAST-MODIFIED:20200228T060245Z
UID:36277-1593302400-1593388799@howlingwoods.org
SUMMARY:Visit the Farm
DESCRIPTION:Come and meet Samson\, Kotori\, Naiche\, Chante\, Sirius\, Orion\, Raven and Luna. Learn about wolves during a one-hour tour of the farm. For appointment call 732-534-5745. Please be sure to call at least six weeks in advance if you wish to visit on a weekend.
URL:https://howlingwoods.org/event/visit-the-farm-242/
END:VEVENT
BEGIN:VEVENT
DTSTART;VALUE=DATE:20200627
DTEND;VALUE=DATE:20200628
DTSTAMP:20260422T015019
CREATED:20200228T062231Z
LAST-MODIFIED:20200228T062231Z
UID:36302-1593216000-1593302399@howlingwoods.org
SUMMARY:Hollywoof
DESCRIPTION:Meet our animals during the 2020 Hollywoof at Lakewood Blue Claws stadium.  Times to be determined.
URL:https://howlingwoods.org/event/hollywoof/
END:VEVENT
BEGIN:VEVENT
DTSTART;VALUE=DATE:20200627
DTEND;VALUE=DATE:20200628
DTSTAMP:20260422T015019
CREATED:20200228T061621Z
LAST-MODIFIED:20200228T061621Z
UID:36299-1593216000-1593302399@howlingwoods.org
SUMMARY:A Common Thread (private)
DESCRIPTION:Special needs kids meet the animals at private event.
URL:https://howlingwoods.org/event/common-thread-private/
LOCATION:Jackson\, NJ
END:VEVENT
BEGIN:VEVENT
DTSTART;VALUE=DATE:20200627
DTEND;VALUE=DATE:20200628
DTSTAMP:20260422T015019
CREATED:20200228T060943Z
LAST-MODIFIED:20200228T060943Z
UID:36291-1593216000-1593302399@howlingwoods.org
SUMMARY:Farm Closed
DESCRIPTION:
URL:https://howlingwoods.org/event/farm-closed-260/
END:VEVENT
BEGIN:VEVENT
DTSTART;VALUE=DATE:20200623
DTEND;VALUE=DATE:20200627
DTSTAMP:20260422T015019
CREATED:20200228T060202Z
LAST-MODIFIED:20200228T060202Z
UID:36275-1592870400-1593215999@howlingwoods.org
SUMMARY:Visit the Farm
DESCRIPTION:Come and meet Samson\, Kotori\, Naiche\, Chante\, Sirius\, Orion\, Raven and Luna. Learn about wolves during a one-hour tour of the farm. For appointment call 732-534-5745. Please be sure to call at least six weeks in advance if you wish to visit on a weekend.
URL:https://howlingwoods.org/event/visit-the-farm-241/
END:VEVENT
BEGIN:VEVENT
DTSTART;VALUE=DATE:20200621
DTEND;VALUE=DATE:20200623
DTSTAMP:20260422T015019
CREATED:20200228T060826Z
LAST-MODIFIED:20200228T060826Z
UID:36289-1592697600-1592870399@howlingwoods.org
SUMMARY:Farm Closed
DESCRIPTION:
URL:https://howlingwoods.org/event/farm-closed-259/
END:VEVENT
END:VCALENDAR