BEGIN:VCALENDAR
VERSION:2.0
PRODID:-//Howling Woods Farm - ECPv6.15.20//NONSGML v1.0//EN
CALSCALE:GREGORIAN
METHOD:PUBLISH
X-ORIGINAL-URL:https://howlingwoods.org
X-WR-CALDESC:Events for Howling Woods Farm
REFRESH-INTERVAL;VALUE=DURATION:PT1H
X-Robots-Tag:noindex
X-PUBLISHED-TTL:PT1H
BEGIN:VTIMEZONE
TZID:UTC
BEGIN:STANDARD
TZOFFSETFROM:+0000
TZOFFSETTO:+0000
TZNAME:UTC
DTSTART:20230101T000000
END:STANDARD
END:VTIMEZONE
BEGIN:VEVENT
DTSTART;VALUE=DATE:20240723
DTEND;VALUE=DATE:20240724
DTSTAMP:20260422T004141
CREATED:20240624T051554Z
LAST-MODIFIED:20240719T004141Z
UID:52372-1721692800-1721779199@howlingwoods.org
SUMMARY:Presentation - Washington Township Public Library
DESCRIPTION:5:00PM – 6:00PM –\nCome to hear a presentation about wolves and meet two of our animals on July 23 at the Washington Public Library.
URL:https://howlingwoods.org/event/presentation-washington-township-public-library/
LOCATION:Washington Township Public Library\, 37 E. Springtown Rd.\, Long Valley\, NJ\, 07853\, United States
ORGANIZER;CN="Washington Township Public Library":MAILTO:info@wtpl.org
END:VEVENT
BEGIN:VEVENT
DTSTART;VALUE=DATE:20240724
DTEND;VALUE=DATE:20240725
DTSTAMP:20260422T004141
CREATED:20240624T054123Z
LAST-MODIFIED:20240719T004605Z
UID:52380-1721779200-1721865599@howlingwoods.org
SUMMARY:Presentation - Kinnelon Public Library
DESCRIPTION:6:30PM – 7:30PM –\nCome to hear a presentation about wolves and meet two of our animals on July 24 at the Kinnelon Public Library.
URL:https://howlingwoods.org/event/presentation-kinnelon-public-library-2/
LOCATION:Kinnelon Public Library\, 07405132 Kinnelon Rd.\, Kinnelon\, NJ\, 07405\, United States
END:VEVENT
BEGIN:VEVENT
DTSTART;VALUE=DATE:20240724
DTEND;VALUE=DATE:20240725
DTSTAMP:20260422T004141
CREATED:20240624T054403Z
LAST-MODIFIED:20240624T054403Z
UID:52383-1721779200-1721865599@howlingwoods.org
SUMMARY:Visit the Farm
DESCRIPTION:Come to the farm and meet Lyra\, Orion\, Sirius\, Raven\, Luna\, Jack\, Oberon\, Sayen\, Aristos\, Chante and our two new pups Buddy and Holly during a one hour tour of our facility. You must make an appointment before visiting\, and to schedule please call 609-901-1387.
URL:https://howlingwoods.org/event/visit-the-farm-648/
LOCATION:Howling Woods Farm\, 1371 W Veterans Hwy\, Jackson\, New Jersey\, 08527
ORGANIZER;CN="Howling Woods Farm":MAILTO:luv2howl@optonline.net
END:VEVENT
BEGIN:VEVENT
DTSTART;VALUE=DATE:20240726
DTEND;VALUE=DATE:20240727
DTSTAMP:20260422T004141
CREATED:20240715T015353Z
LAST-MODIFIED:20240715T015353Z
UID:52493-1721952000-1722038399@howlingwoods.org
SUMMARY:Visit the Farm
DESCRIPTION:Come to the farm and meet Lyra\, Orion\, Sirius\, Raven\, Luna\, Jack\, Oberon\, Sayen\, Aristos\, Chante and our two new pups Buddy and Holly during a one hour tour of our facility. You must make an appointment before visiting\, and to schedule please call 609-901-1387.
URL:https://howlingwoods.org/event/visit-the-farm-650/
LOCATION:Howling Woods Farm\, 1371 W Veterans Hwy\, Jackson\, New Jersey\, 08527
ORGANIZER;CN="Howling Woods Farm":MAILTO:luv2howl@optonline.net
END:VEVENT
BEGIN:VEVENT
DTSTART;VALUE=DATE:20240728
DTEND;VALUE=DATE:20240729
DTSTAMP:20260422T004141
CREATED:20240715T015459Z
LAST-MODIFIED:20240715T015459Z
UID:52495-1722124800-1722211199@howlingwoods.org
SUMMARY:Visit the Farm
DESCRIPTION:Come to the farm and meet Lyra\, Orion\, Sirius\, Raven\, Luna\, Jack\, Oberon\, Sayen\, Aristos\, Chante and our two new pups Buddy and Holly during a one hour tour of our facility. You must make an appointment before visiting\, and to schedule please call 609-901-1387.
URL:https://howlingwoods.org/event/visit-the-farm-651/
LOCATION:Howling Woods Farm\, 1371 W Veterans Hwy\, Jackson\, New Jersey\, 08527
ORGANIZER;CN="Howling Woods Farm":MAILTO:luv2howl@optonline.net
END:VEVENT
BEGIN:VEVENT
DTSTART;VALUE=DATE:20240729
DTEND;VALUE=DATE:20240730
DTSTAMP:20260422T004141
CREATED:20240715T020215Z
LAST-MODIFIED:20240719T004736Z
UID:52497-1722211200-1722297599@howlingwoods.org
SUMMARY:Presentation – South Plainfield Public Library
DESCRIPTION:6:30PM – 7:30PM –\nCome to hear a presentation about wolves and meet two of our animals on July 30 at the South Plainfield Public Library.
URL:https://howlingwoods.org/event/presentation-south-plainfield-public-library/
LOCATION:Plainfield Public Library\, South Plainfield Senior Center\, 90 Maple Avenue;\, South Plainfield\, NJ\, United States
END:VEVENT
BEGIN:VEVENT
DTSTART;VALUE=DATE:20240731
DTEND;VALUE=DATE:20240801
DTSTAMP:20260422T004141
CREATED:20240715T020419Z
LAST-MODIFIED:20240715T020419Z
UID:52500-1722384000-1722470399@howlingwoods.org
SUMMARY:Visit the Farm
DESCRIPTION:Come to the farm and meet Lyra\, Orion\, Sirius\, Raven\, Luna\, Jack\, Oberon\, Sayen\, Aristos\, Chante and our two new pups Buddy and Holly during a one hour tour of our facility. You must make an appointment before visiting\, and to schedule please call 609-901-1387.
URL:https://howlingwoods.org/event/visit-the-farm-652/
LOCATION:Howling Woods Farm\, 1371 W Veterans Hwy\, Jackson\, New Jersey\, 08527
ORGANIZER;CN="Howling Woods Farm":MAILTO:luv2howl@optonline.net
END:VEVENT
BEGIN:VEVENT
DTSTART;VALUE=DATE:20240802
DTEND;VALUE=DATE:20240803
DTSTAMP:20260422T004141
CREATED:20240715T020601Z
LAST-MODIFIED:20240715T020601Z
UID:52502-1722556800-1722643199@howlingwoods.org
SUMMARY:Visit the Farm
DESCRIPTION:Come to the farm and meet Lyra\, Orion\, Sirius\, Raven\, Luna\, Jack\, Oberon\, Sayen\, Aristos\, Chante and our two new pups Buddy and Holly during a one hour tour of our facility. You must make an appointment before visiting\, and to schedule please call 609-901-1387.
URL:https://howlingwoods.org/event/visit-the-farm-653/
LOCATION:Howling Woods Farm\, 1371 W Veterans Hwy\, Jackson\, New Jersey\, 08527
ORGANIZER;CN="Howling Woods Farm":MAILTO:luv2howl@optonline.net
END:VEVENT
BEGIN:VEVENT
DTSTART;VALUE=DATE:20240803
DTEND;VALUE=DATE:20240804
DTSTAMP:20260422T004141
CREATED:20240715T020704Z
LAST-MODIFIED:20240715T020704Z
UID:52504-1722643200-1722729599@howlingwoods.org
SUMMARY:Visit the Farm
DESCRIPTION:Come to the farm and meet Lyra\, Orion\, Sirius\, Raven\, Luna\, Jack\, Oberon\, Sayen\, Aristos\, Chante and our two new pups Buddy and Holly during a one hour tour of our facility. You must make an appointment before visiting\, and to schedule please call 609-901-1387.
URL:https://howlingwoods.org/event/visit-the-farm-654/
LOCATION:Howling Woods Farm\, 1371 W Veterans Hwy\, Jackson\, New Jersey\, 08527
ORGANIZER;CN="Howling Woods Farm":MAILTO:luv2howl@optonline.net
END:VEVENT
BEGIN:VEVENT
DTSTART;VALUE=DATE:20240805
DTEND;VALUE=DATE:20240806
DTSTAMP:20260422T004141
CREATED:20240715T020810Z
LAST-MODIFIED:20240715T020810Z
UID:52506-1722816000-1722902399@howlingwoods.org
SUMMARY:Presentation Animal Welfare Association (private)
DESCRIPTION:
URL:https://howlingwoods.org/event/presentation-animal-welfare-association-private-3/
END:VEVENT
BEGIN:VEVENT
DTSTART;TZID=UTC:20240806T170000
DTEND;TZID=UTC:20240806T200000
DTSTAMP:20260422T004141
CREATED:20240723T002456Z
LAST-MODIFIED:20240806T183948Z
UID:52732-1722963600-1722974400@howlingwoods.org
SUMMARY:National Night Out - Postponed to August 20 due to weather
DESCRIPTION:Come to National Night Out in New Egypt on August 6 and meet three of our animals.  Lots to do for both kids and adults (click title to see flyer). \n \n 
URL:https://howlingwoods.org/event/national-night-out-3/
LOCATION:New Egypt High School\, 117 Evergreen Road\, New Egypt\, NJ\, 08533\, United States
ORGANIZER;CN="Plumsted Township Municipal Building":MAILTO:mgoldfluss@plumstedpolice.org
END:VEVENT
BEGIN:VEVENT
DTSTART;VALUE=DATE:20240807
DTEND;VALUE=DATE:20240808
DTSTAMP:20260422T004141
CREATED:20240715T021104Z
LAST-MODIFIED:20240715T021104Z
UID:52508-1722988800-1723075199@howlingwoods.org
SUMMARY:Visit the Farm
DESCRIPTION:Come to the farm and meet Lyra\, Orion\, Sirius\, Raven\, Luna\, Jack\, Oberon\, Sayen\, Aristos\, Chante and our two new pups Buddy and Holly during a one hour tour of our facility. You must make an appointment before visiting\, and to schedule please call 609-901-1387.
URL:https://howlingwoods.org/event/visit-the-farm-655/
LOCATION:Howling Woods Farm\, 1371 W Veterans Hwy\, Jackson\, New Jersey\, 08527
ORGANIZER;CN="Howling Woods Farm":MAILTO:luv2howl@optonline.net
END:VEVENT
BEGIN:VEVENT
DTSTART;VALUE=DATE:20240809
DTEND;VALUE=DATE:20240810
DTSTAMP:20260422T004141
CREATED:20240715T021253Z
LAST-MODIFIED:20240715T021253Z
UID:52510-1723161600-1723247999@howlingwoods.org
SUMMARY:Visit the Farm
DESCRIPTION:Come to the farm and meet Lyra\, Orion\, Sirius\, Raven\, Luna\, Jack\, Oberon\, Sayen\, Aristos\, Chante and our two new pups Buddy and Holly during a one hour tour of our facility. You must make an appointment before visiting\, and to schedule please call 609-901-1387.
URL:https://howlingwoods.org/event/visit-the-farm-656/
LOCATION:Howling Woods Farm\, 1371 W Veterans Hwy\, Jackson\, New Jersey\, 08527
ORGANIZER;CN="Howling Woods Farm":MAILTO:luv2howl@optonline.net
END:VEVENT
BEGIN:VEVENT
DTSTART;TZID=UTC:20240810T100000
DTEND;TZID=UTC:20240810T150000
DTSTAMP:20260422T004141
CREATED:20240703T010619Z
LAST-MODIFIED:20240801T211938Z
UID:52435-1723284000-1723302000@howlingwoods.org
SUMMARY:Wolf Run - Rugged Cross Motorcycle Club
DESCRIPTION:Come to the Wolf Run in Jackson to meet two of our animals and support Veterans.  The event includes games\, food\, music\, and more. \nThe event will benefit MA22.  MA22 is dedicated to providing information and education regarding the network of services available for military veterans classified with special needs including Post-Traumatic Disorder\, Traumatic Brain Injury\, and other disabilities and providing the opportunity to experience treatment outside of the Veteran Affairs Administration facilities and programs at no cost to the veteran.  See ma22.org for more information about this wonderful organization. \nFor those with bikes\, the ride starts at the RCMC Clubhouse\, 1385 West Veterans Highway in Jackson beginning at 12:00 pm.  All motorcycles are welcome.
URL:https://howlingwoods.org/event/wolf-run-rugged-cross/
LOCATION:RCMC Clubhouse\, 1385 W Veterans HWY\, Jackson\, NJ\, 08527\, United States
END:VEVENT
BEGIN:VEVENT
DTSTART;VALUE=DATE:20240811
DTEND;VALUE=DATE:20240812
DTSTAMP:20260422T004141
CREATED:20240715T021603Z
LAST-MODIFIED:20240715T021603Z
UID:52512-1723334400-1723420799@howlingwoods.org
SUMMARY:Visit the Farm
DESCRIPTION:Come to the farm and meet Lyra\, Orion\, Sirius\, Raven\, Luna\, Jack\, Oberon\, Sayen\, Aristos\, Chante and our two new pups Buddy and Holly during a one hour tour of our facility. You must make an appointment before visiting\, and to schedule please call 609-901-1387.
URL:https://howlingwoods.org/event/visit-the-farm-657/
LOCATION:Howling Woods Farm\, 1371 W Veterans Hwy\, Jackson\, New Jersey\, 08527
ORGANIZER;CN="Howling Woods Farm":MAILTO:luv2howl@optonline.net
END:VEVENT
BEGIN:VEVENT
DTSTART;VALUE=DATE:20240814
DTEND;VALUE=DATE:20240815
DTSTAMP:20260422T004141
CREATED:20240715T021704Z
LAST-MODIFIED:20240715T021704Z
UID:52514-1723593600-1723679999@howlingwoods.org
SUMMARY:Visit the Farm
DESCRIPTION:Come to the farm and meet Lyra\, Orion\, Sirius\, Raven\, Luna\, Jack\, Oberon\, Sayen\, Aristos\, Chante and our two new pups Buddy and Holly during a one hour tour of our facility. You must make an appointment before visiting\, and to schedule please call 609-901-1387.
URL:https://howlingwoods.org/event/visit-the-farm-658/
LOCATION:Howling Woods Farm\, 1371 W Veterans Hwy\, Jackson\, New Jersey\, 08527
ORGANIZER;CN="Howling Woods Farm":MAILTO:luv2howl@optonline.net
END:VEVENT
BEGIN:VEVENT
DTSTART;VALUE=DATE:20240816
DTEND;VALUE=DATE:20240817
DTSTAMP:20260422T004141
CREATED:20240715T021913Z
LAST-MODIFIED:20240715T021913Z
UID:52516-1723766400-1723852799@howlingwoods.org
SUMMARY:Visit the Farm
DESCRIPTION:Come to the farm and meet Lyra\, Orion\, Sirius\, Raven\, Luna\, Jack\, Oberon\, Sayen\, Aristos\, Chante and our two new pups Buddy and Holly during a one hour tour of our facility. You must make an appointment before visiting\, and to schedule please call 609-901-1387.
URL:https://howlingwoods.org/event/visit-the-farm-659/
LOCATION:Howling Woods Farm\, 1371 W Veterans Hwy\, Jackson\, New Jersey\, 08527
ORGANIZER;CN="Howling Woods Farm":MAILTO:luv2howl@optonline.net
END:VEVENT
BEGIN:VEVENT
DTSTART;VALUE=DATE:20240817
DTEND;VALUE=DATE:20240818
DTSTAMP:20260422T004141
CREATED:20240715T022011Z
LAST-MODIFIED:20240715T022011Z
UID:52518-1723852800-1723939199@howlingwoods.org
SUMMARY:Visit the Farm
DESCRIPTION:Come to the farm and meet Lyra\, Orion\, Sirius\, Raven\, Luna\, Jack\, Oberon\, Sayen\, Aristos\, Chante and our two new pups Buddy and Holly during a one hour tour of our facility. You must make an appointment before visiting\, and to schedule please call 609-901-1387.
URL:https://howlingwoods.org/event/visit-the-farm-660/
LOCATION:Howling Woods Farm\, 1371 W Veterans Hwy\, Jackson\, New Jersey\, 08527
ORGANIZER;CN="Howling Woods Farm":MAILTO:luv2howl@optonline.net
END:VEVENT
BEGIN:VEVENT
DTSTART;VALUE=DATE:20240819
DTEND;VALUE=DATE:20240820
DTSTAMP:20260422T004141
CREATED:20240715T022202Z
LAST-MODIFIED:20240715T022202Z
UID:52520-1724025600-1724111999@howlingwoods.org
SUMMARY:Presentation Animal Welfare Association (private)
DESCRIPTION:
URL:https://howlingwoods.org/event/presentation-animal-welfare-association-private-4/
END:VEVENT
BEGIN:VEVENT
DTSTART;VALUE=DATE:20240821
DTEND;VALUE=DATE:20240822
DTSTAMP:20260422T004141
CREATED:20240715T022343Z
LAST-MODIFIED:20240715T022343Z
UID:52522-1724198400-1724284799@howlingwoods.org
SUMMARY:Visit the Farm
DESCRIPTION:Come to the farm and meet Lyra\, Orion\, Sirius\, Raven\, Luna\, Jack\, Oberon\, Sayen\, Aristos\, Chante and our two new pups Buddy and Holly during a one hour tour of our facility. You must make an appointment before visiting\, and to schedule please call 609-901-1387.
URL:https://howlingwoods.org/event/visit-the-farm-661/
LOCATION:Howling Woods Farm\, 1371 W Veterans Hwy\, Jackson\, New Jersey\, 08527
ORGANIZER;CN="Howling Woods Farm":MAILTO:luv2howl@optonline.net
END:VEVENT
BEGIN:VEVENT
DTSTART;VALUE=DATE:20240823
DTEND;VALUE=DATE:20240824
DTSTAMP:20260422T004141
CREATED:20240715T022442Z
LAST-MODIFIED:20240715T022442Z
UID:52524-1724371200-1724457599@howlingwoods.org
SUMMARY:Visit the Farm
DESCRIPTION:Come to the farm and meet Lyra\, Orion\, Sirius\, Raven\, Luna\, Jack\, Oberon\, Sayen\, Aristos\, Chante and our two new pups Buddy and Holly during a one hour tour of our facility. You must make an appointment before visiting\, and to schedule please call 609-901-1387.
URL:https://howlingwoods.org/event/visit-the-farm-662/
LOCATION:Howling Woods Farm\, 1371 W Veterans Hwy\, Jackson\, New Jersey\, 08527
ORGANIZER;CN="Howling Woods Farm":MAILTO:luv2howl@optonline.net
END:VEVENT
BEGIN:VEVENT
DTSTART;TZID=UTC:20240824T100000
DTEND;TZID=UTC:20240824T140000
DTSTAMP:20260422T004141
CREATED:20240717T010804Z
LAST-MODIFIED:20240717T010804Z
UID:52656-1724493600-1724508000@howlingwoods.org
SUMMARY:Play Hook-e (Vets and Active Duty Only)
DESCRIPTION:Veterans\, Active Duty\, Children with Disabilities and family may register to attend this event fishing event.  We will have a few of our animals there for the day.
URL:https://howlingwoods.org/event/play-hook-e-vets-and-active-duty-only/
LOCATION:Lake Juliana\, Ponderosa Estates Farm\, Millstone Township\, NJ
END:VEVENT
BEGIN:VEVENT
DTSTART;VALUE=DATE:20240825
DTEND;VALUE=DATE:20240826
DTSTAMP:20260422T004141
CREATED:20240715T022603Z
LAST-MODIFIED:20240715T022603Z
UID:52526-1724544000-1724630399@howlingwoods.org
SUMMARY:Visit the Farm
DESCRIPTION:Come to the farm and meet Lyra\, Orion\, Sirius\, Raven\, Luna\, Jack\, Oberon\, Sayen\, Aristos\, Chante and our two new pups Buddy and Holly during a one hour tour of our facility. You must make an appointment before visiting\, and to schedule please call 609-901-1387.
URL:https://howlingwoods.org/event/visit-the-farm-663/
LOCATION:Howling Woods Farm\, 1371 W Veterans Hwy\, Jackson\, New Jersey\, 08527
ORGANIZER;CN="Howling Woods Farm":MAILTO:luv2howl@optonline.net
END:VEVENT
BEGIN:VEVENT
DTSTART;VALUE=DATE:20240828
DTEND;VALUE=DATE:20240829
DTSTAMP:20260422T004141
CREATED:20240715T022708Z
LAST-MODIFIED:20240715T022708Z
UID:52528-1724803200-1724889599@howlingwoods.org
SUMMARY:Visit the Farm
DESCRIPTION:Come to the farm and meet Lyra\, Orion\, Sirius\, Raven\, Luna\, Jack\, Oberon\, Sayen\, Aristos\, Chante and our two new pups Buddy and Holly during a one hour tour of our facility. You must make an appointment before visiting\, and to schedule please call 609-901-1387.
URL:https://howlingwoods.org/event/visit-the-farm-664/
LOCATION:Howling Woods Farm\, 1371 W Veterans Hwy\, Jackson\, New Jersey\, 08527
ORGANIZER;CN="Howling Woods Farm":MAILTO:luv2howl@optonline.net
END:VEVENT
BEGIN:VEVENT
DTSTART;VALUE=DATE:20240830
DTEND;VALUE=DATE:20240831
DTSTAMP:20260422T004141
CREATED:20240715T022811Z
LAST-MODIFIED:20240715T022811Z
UID:52530-1724976000-1725062399@howlingwoods.org
SUMMARY:Visit the Farm
DESCRIPTION:Come to the farm and meet Lyra\, Orion\, Sirius\, Raven\, Luna\, Jack\, Oberon\, Sayen\, Aristos\, Chante and our two new pups Buddy and Holly during a one hour tour of our facility. You must make an appointment before visiting\, and to schedule please call 609-901-1387.
URL:https://howlingwoods.org/event/visit-the-farm-665/
LOCATION:Howling Woods Farm\, 1371 W Veterans Hwy\, Jackson\, New Jersey\, 08527
ORGANIZER;CN="Howling Woods Farm":MAILTO:luv2howl@optonline.net
END:VEVENT
BEGIN:VEVENT
DTSTART;VALUE=DATE:20240831
DTEND;VALUE=DATE:20240901
DTSTAMP:20260422T004141
CREATED:20240715T022906Z
LAST-MODIFIED:20240715T022906Z
UID:52532-1725062400-1725148799@howlingwoods.org
SUMMARY:Visit the Farm
DESCRIPTION:Come to the farm and meet Lyra\, Orion\, Sirius\, Raven\, Luna\, Jack\, Oberon\, Sayen\, Aristos\, Chante and our two new pups Buddy and Holly during a one hour tour of our facility. You must make an appointment before visiting\, and to schedule please call 609-901-1387.
URL:https://howlingwoods.org/event/visit-the-farm-666/
LOCATION:Howling Woods Farm\, 1371 W Veterans Hwy\, Jackson\, New Jersey\, 08527
ORGANIZER;CN="Howling Woods Farm":MAILTO:luv2howl@optonline.net
END:VEVENT
BEGIN:VEVENT
DTSTART;VALUE=DATE:20240904
DTEND;VALUE=DATE:20240905
DTSTAMP:20260422T004141
CREATED:20240715T023100Z
LAST-MODIFIED:20240715T023100Z
UID:52534-1725408000-1725494399@howlingwoods.org
SUMMARY:Visit the Farm
DESCRIPTION:Come to the farm and meet Lyra\, Orion\, Sirius\, Raven\, Luna\, Jack\, Oberon\, Sayen\, Aristos\, Chante and our two new pups Buddy and Holly during a one hour tour of our facility. You must make an appointment before visiting\, and to schedule please call 609-901-1387.
URL:https://howlingwoods.org/event/visit-the-farm-667/
LOCATION:Howling Woods Farm\, 1371 W Veterans Hwy\, Jackson\, New Jersey\, 08527
ORGANIZER;CN="Howling Woods Farm":MAILTO:luv2howl@optonline.net
END:VEVENT
BEGIN:VEVENT
DTSTART;VALUE=DATE:20240906
DTEND;VALUE=DATE:20240907
DTSTAMP:20260422T004141
CREATED:20240715T023207Z
LAST-MODIFIED:20240715T023207Z
UID:52536-1725580800-1725667199@howlingwoods.org
SUMMARY:Visit the Farm
DESCRIPTION:Come to the farm and meet Lyra\, Orion\, Sirius\, Raven\, Luna\, Jack\, Oberon\, Sayen\, Aristos\, Chante and our two new pups Buddy and Holly during a one hour tour of our facility. You must make an appointment before visiting\, and to schedule please call 609-901-1387.
URL:https://howlingwoods.org/event/visit-the-farm-668/
LOCATION:Howling Woods Farm\, 1371 W Veterans Hwy\, Jackson\, New Jersey\, 08527
ORGANIZER;CN="Howling Woods Farm":MAILTO:luv2howl@optonline.net
END:VEVENT
BEGIN:VEVENT
DTSTART;VALUE=DATE:20240908
DTEND;VALUE=DATE:20240909
DTSTAMP:20260422T004141
CREATED:20240715T023408Z
LAST-MODIFIED:20240715T023408Z
UID:52538-1725753600-1725839999@howlingwoods.org
SUMMARY:Visit the Farm
DESCRIPTION:Come to the farm and meet Lyra\, Orion\, Sirius\, Raven\, Luna\, Jack\, Oberon\, Sayen\, Aristos\, Chante and our two new pups Buddy and Holly during a one hour tour of our facility. You must make an appointment before visiting\, and to schedule please call 609-901-1387.
URL:https://howlingwoods.org/event/visit-the-farm-669/
LOCATION:Howling Woods Farm\, 1371 W Veterans Hwy\, Jackson\, New Jersey\, 08527
ORGANIZER;CN="Howling Woods Farm":MAILTO:luv2howl@optonline.net
END:VEVENT
BEGIN:VEVENT
DTSTART;VALUE=DATE:20240911
DTEND;VALUE=DATE:20240912
DTSTAMP:20260422T004141
CREATED:20240715T023513Z
LAST-MODIFIED:20240715T023513Z
UID:52540-1726012800-1726099199@howlingwoods.org
SUMMARY:Visit the Farm
DESCRIPTION:Come to the farm and meet Lyra\, Orion\, Sirius\, Raven\, Luna\, Jack\, Oberon\, Sayen\, Aristos\, Chante and our two new pups Buddy and Holly during a one hour tour of our facility. You must make an appointment before visiting\, and to schedule please call 609-901-1387.
URL:https://howlingwoods.org/event/visit-the-farm-670/
LOCATION:Howling Woods Farm\, 1371 W Veterans Hwy\, Jackson\, New Jersey\, 08527
ORGANIZER;CN="Howling Woods Farm":MAILTO:luv2howl@optonline.net
END:VEVENT
END:VCALENDAR