BEGIN:VCALENDAR
VERSION:2.0
PRODID:-//Howling Woods Farm - ECPv6.15.20//NONSGML v1.0//EN
CALSCALE:GREGORIAN
METHOD:PUBLISH
X-WR-CALNAME:Howling Woods Farm
X-ORIGINAL-URL:https://howlingwoods.org
X-WR-CALDESC:Events for Howling Woods Farm
REFRESH-INTERVAL;VALUE=DURATION:PT1H
X-Robots-Tag:noindex
X-PUBLISHED-TTL:PT1H
BEGIN:VTIMEZONE
TZID:UTC
BEGIN:STANDARD
TZOFFSETFROM:+0000
TZOFFSETTO:+0000
TZNAME:UTC
DTSTART:20230101T000000
END:STANDARD
END:VTIMEZONE
BEGIN:VEVENT
DTSTART;VALUE=DATE:20241128
DTEND;VALUE=DATE:20241129
DTSTAMP:20260421T222347
CREATED:20241120T234720Z
LAST-MODIFIED:20241120T234720Z
UID:53564-1732752000-1732838399@howlingwoods.org
SUMMARY:Farm Closed
DESCRIPTION:
URL:https://howlingwoods.org/event/farm-closed-531/
LOCATION:New Jersey
END:VEVENT
BEGIN:VEVENT
DTSTART;VALUE=DATE:20241129
DTEND;VALUE=DATE:20241130
DTSTAMP:20260421T222347
CREATED:20240717T015114Z
LAST-MODIFIED:20240717T015114Z
UID:52673-1732838400-1732924799@howlingwoods.org
SUMMARY:Visit the Farm
DESCRIPTION:Come to the farm and meet Lyra\, Orion\, Sirius\, Raven\, Luna\, Jack\, Oberon\, Sayen\, Aristos\, Chante and our two new pups Buddy and Holly during a one hour tour of our facility. Visit our store to find great gifts for animal lovers. You must make an appointment before visiting\, and to schedule please call 609-901-1387.
URL:https://howlingwoods.org/event/visit-the-farm-707/
LOCATION:Howling Woods Farm\, 1371 W Veterans Hwy\, Jackson\, New Jersey\, 08527
ORGANIZER;CN="Howling Woods Farm":MAILTO:luv2howl@optonline.net
END:VEVENT
BEGIN:VEVENT
DTSTART;VALUE=DATE:20241201
DTEND;VALUE=DATE:20241202
DTSTAMP:20260421T222347
CREATED:20240716T030117Z
LAST-MODIFIED:20240716T030117Z
UID:52631-1733011200-1733097599@howlingwoods.org
SUMMARY:Visit the Farm
DESCRIPTION:Come to the farm and meet Lyra\, Orion\, Sirius\, Raven\, Luna\, Jack\, Oberon\, Sayen\, Aristos\, Chante and our two new pups Buddy and Holly during a one hour tour of our facility.  Visit our gift shop to find cool gifts for animal lovers.  You must make an appointment before visiting\, and to schedule please call 609-901-1387.
URL:https://howlingwoods.org/event/visit-the-farm-698/
LOCATION:Howling Woods Farm\, 1371 W Veterans Hwy\, Jackson\, New Jersey\, 08527
ORGANIZER;CN="Howling Woods Farm":MAILTO:luv2howl@optonline.net
END:VEVENT
BEGIN:VEVENT
DTSTART;TZID=UTC:20241201T100000
DTEND;TZID=UTC:20241201T160000
DTSTAMP:20260421T222347
CREATED:20240716T024015Z
LAST-MODIFIED:20240716T024015Z
UID:52625-1733047200-1733068800@howlingwoods.org
SUMMARY:Photos with Santa and his Wolf
DESCRIPTION:Come to the farm and have your photo taken with Santa and his wolf.  No reservations required\, no age restrictions.  You can bring your pet(s)\, but his wolf will not be in the photo.  Santa arrives at 10am and will be staying until 4pm. \nFor a tour of the farm you must make a reservation in advance by calling 609-901-1387.
URL:https://howlingwoods.org/event/photos-with-santa-and-his-wolf-4/
LOCATION:Howling Woods Farm\, 1371 W Veterans Hwy\, Jackson\, New Jersey\, 08527
ORGANIZER;CN="Howling Woods Farm":MAILTO:luv2howl@optonline.net
END:VEVENT
BEGIN:VEVENT
DTSTART;VALUE=DATE:20241204
DTEND;VALUE=DATE:20241205
DTSTAMP:20260421T222347
CREATED:20240717T015431Z
LAST-MODIFIED:20240717T015431Z
UID:52675-1733270400-1733356799@howlingwoods.org
SUMMARY:Visit the Farm
DESCRIPTION:Come to the farm and meet Lyra\, Orion\, Sirius\, Raven\, Luna\, Jack\, Oberon\, Sayen\, Aristos\, Chante and our two new pups Buddy and Holly during a one hour tour of our facility. Visit our store to find great gifts for animal lovers. You must make an appointment before visiting\, and to schedule please call 609-901-1387.
URL:https://howlingwoods.org/event/visit-the-farm-708/
LOCATION:Howling Woods Farm\, 1371 W Veterans Hwy\, Jackson\, New Jersey\, 08527
ORGANIZER;CN="Howling Woods Farm":MAILTO:luv2howl@optonline.net
END:VEVENT
BEGIN:VEVENT
DTSTART;VALUE=DATE:20241205
DTEND;VALUE=DATE:20241206
DTSTAMP:20260421T222347
CREATED:20241120T233750Z
LAST-MODIFIED:20241120T233750Z
UID:53552-1733356800-1733443199@howlingwoods.org
SUMMARY:Visit the Farm
DESCRIPTION:Come to the farm and meet Lyra\, Orion\, Sirius\, Raven\, Luna\, Jack\, Oberon\, Sayen\, Aristos\, Chante and our two new pups Buddy and Holly during a one hour tour of our facility.  Visit our gift shop to find cool gifts for animal lovers.  You must make an appointment before visiting\, and to schedule please call 609-901-1387.
URL:https://howlingwoods.org/event/visit-the-farm-716/
LOCATION:Howling Woods Farm\, 1371 W Veterans Hwy\, Jackson\, New Jersey\, 08527
ORGANIZER;CN="Howling Woods Farm":MAILTO:luv2howl@optonline.net
END:VEVENT
BEGIN:VEVENT
DTSTART;VALUE=DATE:20241206
DTEND;VALUE=DATE:20241207
DTSTAMP:20260421T222347
CREATED:20240717T015526Z
LAST-MODIFIED:20240717T015526Z
UID:52677-1733443200-1733529599@howlingwoods.org
SUMMARY:Visit the Farm
DESCRIPTION:Come to the farm and meet Lyra\, Orion\, Sirius\, Raven\, Luna\, Jack\, Oberon\, Sayen\, Aristos\, Chante and our two new pups Buddy and Holly during a one hour tour of our facility. Visit our store to find great gifts for animal lovers. You must make an appointment before visiting\, and to schedule please call 609-901-1387.
URL:https://howlingwoods.org/event/visit-the-farm-709/
LOCATION:Howling Woods Farm\, 1371 W Veterans Hwy\, Jackson\, New Jersey\, 08527
ORGANIZER;CN="Howling Woods Farm":MAILTO:luv2howl@optonline.net
END:VEVENT
BEGIN:VEVENT
DTSTART;VALUE=DATE:20241207
DTEND;VALUE=DATE:20241208
DTSTAMP:20260421T222347
CREATED:20240716T030210Z
LAST-MODIFIED:20240716T030210Z
UID:52633-1733529600-1733615999@howlingwoods.org
SUMMARY:Visit the Farm
DESCRIPTION:Come to the farm and meet Lyra\, Orion\, Sirius\, Raven\, Luna\, Jack\, Oberon\, Sayen\, Aristos\, Chante and our two new pups Buddy and Holly during a one hour tour of our facility.  Visit our gift shop to find cool gifts for animal lovers.  You must make an appointment before visiting\, and to schedule please call 609-901-1387.
URL:https://howlingwoods.org/event/visit-the-farm-699/
LOCATION:Howling Woods Farm\, 1371 W Veterans Hwy\, Jackson\, New Jersey\, 08527
ORGANIZER;CN="Howling Woods Farm":MAILTO:luv2howl@optonline.net
END:VEVENT
BEGIN:VEVENT
DTSTART;TZID=UTC:20241207T100000
DTEND;TZID=UTC:20241207T160000
DTSTAMP:20260421T222347
CREATED:20240716T024148Z
LAST-MODIFIED:20240716T024148Z
UID:52627-1733565600-1733587200@howlingwoods.org
SUMMARY:Photos with Santa and his Wolf
DESCRIPTION:Come to the farm and have your photo taken with Santa and his wolf.  No reservations required\, no age restrictions.  You can bring your pet(s)\, but his wolf will not be in the photo.  Santa arrives at 10am and will be staying until 4pm. \nFor a tour of the farm you must make a reservation in advance by calling 609-901-1387.
URL:https://howlingwoods.org/event/photos-with-santa-and-his-wolf-5/
LOCATION:Howling Woods Farm\, 1371 W Veterans Hwy\, Jackson\, New Jersey\, 08527
ORGANIZER;CN="Howling Woods Farm":MAILTO:luv2howl@optonline.net
END:VEVENT
BEGIN:VEVENT
DTSTART;VALUE=DATE:20241211
DTEND;VALUE=DATE:20241212
DTSTAMP:20260421T222347
CREATED:20240717T015614Z
LAST-MODIFIED:20240717T015614Z
UID:52679-1733875200-1733961599@howlingwoods.org
SUMMARY:Visit the Farm
DESCRIPTION:Come to the farm and meet Lyra\, Orion\, Sirius\, Raven\, Luna\, Jack\, Oberon\, Sayen\, Aristos\, Chante and our two new pups Buddy and Holly during a one hour tour of our facility. Visit our store to find great gifts for animal lovers. You must make an appointment before visiting\, and to schedule please call 609-901-1387.
URL:https://howlingwoods.org/event/visit-the-farm-710/
LOCATION:Howling Woods Farm\, 1371 W Veterans Hwy\, Jackson\, New Jersey\, 08527
ORGANIZER;CN="Howling Woods Farm":MAILTO:luv2howl@optonline.net
END:VEVENT
BEGIN:VEVENT
DTSTART;VALUE=DATE:20241212
DTEND;VALUE=DATE:20241213
DTSTAMP:20260421T222347
CREATED:20241120T234028Z
LAST-MODIFIED:20241120T234028Z
UID:53554-1733961600-1734047999@howlingwoods.org
SUMMARY:Visit the Farm
DESCRIPTION:Come to the farm and meet Lyra\, Orion\, Sirius\, Raven\, Luna\, Jack\, Oberon\, Sayen\, Aristos\, Chante and our two new pups Buddy and Holly during a one hour tour of our facility.  Visit our gift shop to find cool gifts for animal lovers.  You must make an appointment before visiting\, and to schedule please call 609-901-1387.
URL:https://howlingwoods.org/event/visit-the-farm-717/
LOCATION:Howling Woods Farm\, 1371 W Veterans Hwy\, Jackson\, New Jersey\, 08527
ORGANIZER;CN="Howling Woods Farm":MAILTO:luv2howl@optonline.net
END:VEVENT
BEGIN:VEVENT
DTSTART;VALUE=DATE:20241213
DTEND;VALUE=DATE:20241214
DTSTAMP:20260421T222347
CREATED:20240717T015703Z
LAST-MODIFIED:20240717T015703Z
UID:52681-1734048000-1734134399@howlingwoods.org
SUMMARY:Visit the Farm
DESCRIPTION:Come to the farm and meet Lyra\, Orion\, Sirius\, Raven\, Luna\, Jack\, Oberon\, Sayen\, Aristos\, Chante and our two new pups Buddy and Holly during a one hour tour of our facility. Visit our store to find great gifts for animal lovers. You must make an appointment before visiting\, and to schedule please call 609-901-1387.
URL:https://howlingwoods.org/event/visit-the-farm-711/
LOCATION:Howling Woods Farm\, 1371 W Veterans Hwy\, Jackson\, New Jersey\, 08527
ORGANIZER;CN="Howling Woods Farm":MAILTO:luv2howl@optonline.net
END:VEVENT
BEGIN:VEVENT
DTSTART;VALUE=DATE:20241214
DTEND;VALUE=DATE:20241215
DTSTAMP:20260421T222347
CREATED:20240716T031035Z
LAST-MODIFIED:20240716T031035Z
UID:52642-1734134400-1734220799@howlingwoods.org
SUMMARY:Visit the Farm
DESCRIPTION:Come to the farm and meet Lyra\, Orion\, Sirius\, Raven\, Luna\, Jack\, Oberon\, Sayen\, Aristos\, Chante and our two new pups Buddy and Holly during a one hour tour of our facility.  Visit our gift shop to find cool gifts for animal lovers.  You must make an appointment before visiting\, and to schedule please call 609-901-1387.
URL:https://howlingwoods.org/event/visit-the-farm-703/
LOCATION:Howling Woods Farm\, 1371 W Veterans Hwy\, Jackson\, New Jersey\, 08527
ORGANIZER;CN="Howling Woods Farm":MAILTO:luv2howl@optonline.net
END:VEVENT
BEGIN:VEVENT
DTSTART;TZID=UTC:20241214T100000
DTEND;TZID=UTC:20241214T160000
DTSTAMP:20260421T222347
CREATED:20240716T024449Z
LAST-MODIFIED:20240716T024449Z
UID:52629-1734170400-1734192000@howlingwoods.org
SUMMARY:Photos with Santa and his Wolf
DESCRIPTION:Come to the farm and have your photo taken with Santa and his wolf.  No reservations required\, no age restrictions.  You can bring your pet(s)\, but his wolf will not be in the photo.  Santa arrives at 10am and will be staying until 4pm.  Also\, visit the gift shop for great Christmas presents for animal lovers. \nFor a tour of the farm you must make a reservation in advance by calling 609-901-1387.
URL:https://howlingwoods.org/event/photos-with-santa-and-his-wolf-6/
LOCATION:Howling Woods Farm\, 1371 W Veterans Hwy\, Jackson\, New Jersey\, 08527
ORGANIZER;CN="Howling Woods Farm":MAILTO:luv2howl@optonline.net
END:VEVENT
BEGIN:VEVENT
DTSTART;VALUE=DATE:20241218
DTEND;VALUE=DATE:20241219
DTSTAMP:20260421T222347
CREATED:20240717T015802Z
LAST-MODIFIED:20240717T015802Z
UID:52683-1734480000-1734566399@howlingwoods.org
SUMMARY:Visit the Farm
DESCRIPTION:Come to the farm and meet Lyra\, Orion\, Sirius\, Raven\, Luna\, Jack\, Oberon\, Sayen\, Aristos\, Chante and our two new pups Buddy and Holly during a one hour tour of our facility. Visit our store to find great gifts for animal lovers. You must make an appointment before visiting\, and to schedule please call 609-901-1387.
URL:https://howlingwoods.org/event/visit-the-farm-712/
LOCATION:Howling Woods Farm\, 1371 W Veterans Hwy\, Jackson\, New Jersey\, 08527
ORGANIZER;CN="Howling Woods Farm":MAILTO:luv2howl@optonline.net
END:VEVENT
BEGIN:VEVENT
DTSTART;VALUE=DATE:20241219
DTEND;VALUE=DATE:20241220
DTSTAMP:20260421T222347
CREATED:20241120T234129Z
LAST-MODIFIED:20241120T234129Z
UID:53556-1734566400-1734652799@howlingwoods.org
SUMMARY:Visit the Farm
DESCRIPTION:Come to the farm and meet Lyra\, Orion\, Sirius\, Raven\, Luna\, Jack\, Oberon\, Sayen\, Aristos\, Chante and our two new pups Buddy and Holly during a one hour tour of our facility.  Visit our gift shop to find cool gifts for animal lovers.  You must make an appointment before visiting\, and to schedule please call 609-901-1387.
URL:https://howlingwoods.org/event/visit-the-farm-718/
LOCATION:Howling Woods Farm\, 1371 W Veterans Hwy\, Jackson\, New Jersey\, 08527
ORGANIZER;CN="Howling Woods Farm":MAILTO:luv2howl@optonline.net
END:VEVENT
BEGIN:VEVENT
DTSTART;VALUE=DATE:20241220
DTEND;VALUE=DATE:20241221
DTSTAMP:20260421T222347
CREATED:20240717T015844Z
LAST-MODIFIED:20240717T015844Z
UID:52685-1734652800-1734739199@howlingwoods.org
SUMMARY:Visit the Farm
DESCRIPTION:Come to the farm and meet Lyra\, Orion\, Sirius\, Raven\, Luna\, Jack\, Oberon\, Sayen\, Aristos\, Chante and our two new pups Buddy and Holly during a one hour tour of our facility. Visit our store to find great gifts for animal lovers. You must make an appointment before visiting\, and to schedule please call 609-901-1387.
URL:https://howlingwoods.org/event/visit-the-farm-713/
LOCATION:Howling Woods Farm\, 1371 W Veterans Hwy\, Jackson\, New Jersey\, 08527
ORGANIZER;CN="Howling Woods Farm":MAILTO:luv2howl@optonline.net
END:VEVENT
BEGIN:VEVENT
DTSTART;VALUE=DATE:20241222
DTEND;VALUE=DATE:20241223
DTSTAMP:20260421T222347
CREATED:20240716T030634Z
LAST-MODIFIED:20240716T030634Z
UID:52638-1734825600-1734911999@howlingwoods.org
SUMMARY:Visit the Farm
DESCRIPTION:Come to the farm and meet Lyra\, Orion\, Sirius\, Raven\, Luna\, Jack\, Oberon\, Sayen\, Aristos\, Chante and our two new pups Buddy and Holly during a one hour tour of our facility.  Visit our gift shop to find cool gifts for animal lovers.  You must make an appointment before visiting\, and to schedule please call 609-901-1387.
URL:https://howlingwoods.org/event/visit-the-farm-701/
LOCATION:Howling Woods Farm\, 1371 W Veterans Hwy\, Jackson\, New Jersey\, 08527
ORGANIZER;CN="Howling Woods Farm":MAILTO:luv2howl@optonline.net
END:VEVENT
BEGIN:VEVENT
DTSTART;VALUE=DATE:20241223
DTEND;VALUE=DATE:20241224
DTSTAMP:20260421T222347
CREATED:20241123T072030Z
LAST-MODIFIED:20241123T072030Z
UID:53581-1734912000-1734998399@howlingwoods.org
SUMMARY:Visit the Farm
DESCRIPTION:Come to the farm and meet Lyra\, Orion\, Sirius\, Raven\, Luna\, Jack\, Oberon\, Sayen\, Aristos\, Chante and our two new pups Buddy and Holly during a one hour tour of our facility. Visit our gift shop to find cool gifts for animal lovers. You must make an appointment before visiting\, and to schedule please call 609-901-1387.
URL:https://howlingwoods.org/event/visit-the-farm-721/
LOCATION:Howling Woods Farm\, 1371 W Veterans Hwy\, Jackson\, New Jersey\, 08527
ORGANIZER;CN="Howling Woods Farm":MAILTO:luv2howl@optonline.net
END:VEVENT
BEGIN:VEVENT
DTSTART;VALUE=DATE:20241224
DTEND;VALUE=DATE:20241225
DTSTAMP:20260421T222347
CREATED:20241123T072251Z
LAST-MODIFIED:20241123T072251Z
UID:53583-1734998400-1735084799@howlingwoods.org
SUMMARY:Visit the Farm
DESCRIPTION:Come to the farm and meet Lyra\, Orion\, Sirius\, Raven\, Luna\, Jack\, Oberon\, Sayen\, Aristos\, Chante and our two new pups Buddy and Holly during a one hour tour of our facility. Visit our gift shop to find cool gifts for animal lovers. You must make an appointment before visiting\, and to schedule please call 609-901-1387.
URL:https://howlingwoods.org/event/visit-the-farm-722/
LOCATION:Howling Woods Farm\, 1371 W Veterans Hwy\, Jackson\, New Jersey\, 08527
ORGANIZER;CN="Howling Woods Farm":MAILTO:luv2howl@optonline.net
END:VEVENT
BEGIN:VEVENT
DTSTART;VALUE=DATE:20241225
DTEND;VALUE=DATE:20241226
DTSTAMP:20260421T222347
CREATED:20241120T234419Z
LAST-MODIFIED:20241120T234419Z
UID:53560-1735084800-1735171199@howlingwoods.org
SUMMARY:Farm Closed
DESCRIPTION:
URL:https://howlingwoods.org/event/farm-closed-529/
LOCATION:New Jersey
END:VEVENT
BEGIN:VEVENT
DTSTART;VALUE=DATE:20241226
DTEND;VALUE=DATE:20241227
DTSTAMP:20260421T222347
CREATED:20241120T234226Z
LAST-MODIFIED:20241120T234226Z
UID:53558-1735171200-1735257599@howlingwoods.org
SUMMARY:Visit the Farm
DESCRIPTION:Come to the farm and meet Lyra\, Orion\, Sirius\, Raven\, Luna\, Jack\, Oberon\, Sayen\, Aristos\, Chante and our two new pups Buddy and Holly during a one hour tour of our facility.  Visit our gift shop to find cool gifts for animal lovers.  You must make an appointment before visiting\, and to schedule please call 609-901-1387.
URL:https://howlingwoods.org/event/visit-the-farm-719/
LOCATION:Howling Woods Farm\, 1371 W Veterans Hwy\, Jackson\, New Jersey\, 08527
ORGANIZER;CN="Howling Woods Farm":MAILTO:luv2howl@optonline.net
END:VEVENT
BEGIN:VEVENT
DTSTART;VALUE=DATE:20241227
DTEND;VALUE=DATE:20241228
DTSTAMP:20260421T222347
CREATED:20240717T015945Z
LAST-MODIFIED:20240717T015945Z
UID:52687-1735257600-1735343999@howlingwoods.org
SUMMARY:Visit the Farm
DESCRIPTION:Come to the farm and meet Lyra\, Orion\, Sirius\, Raven\, Luna\, Jack\, Oberon\, Sayen\, Aristos\, Chante and our two new pups Buddy and Holly during a one hour tour of our facility. Visit our store to find great gifts for animal lovers. You must make an appointment before visiting\, and to schedule please call 609-901-1387.
URL:https://howlingwoods.org/event/visit-the-farm-714/
LOCATION:Howling Woods Farm\, 1371 W Veterans Hwy\, Jackson\, New Jersey\, 08527
ORGANIZER;CN="Howling Woods Farm":MAILTO:luv2howl@optonline.net
END:VEVENT
BEGIN:VEVENT
DTSTART;VALUE=DATE:20241228
DTEND;VALUE=DATE:20241229
DTSTAMP:20260421T222347
CREATED:20240716T030749Z
LAST-MODIFIED:20240716T030749Z
UID:52640-1735344000-1735430399@howlingwoods.org
SUMMARY:Visit the Farm
DESCRIPTION:Come to the farm and meet Lyra\, Orion\, Sirius\, Raven\, Luna\, Jack\, Oberon\, Sayen\, Aristos\, Chante and our two new pups Buddy and Holly during a one hour tour of our facility.  Visit our gift shop to find cool gifts for animal lovers.  You must make an appointment before visiting\, and to schedule please call 609-901-1387.
URL:https://howlingwoods.org/event/visit-the-farm-702/
LOCATION:Howling Woods Farm\, 1371 W Veterans Hwy\, Jackson\, New Jersey\, 08527
ORGANIZER;CN="Howling Woods Farm":MAILTO:luv2howl@optonline.net
END:VEVENT
BEGIN:VEVENT
DTSTART;VALUE=DATE:20241230
DTEND;VALUE=DATE:20241231
DTSTAMP:20260421T222347
CREATED:20241123T072554Z
LAST-MODIFIED:20241123T072554Z
UID:53585-1735516800-1735603199@howlingwoods.org
SUMMARY:Visit the Farm
DESCRIPTION:Come to the farm and meet Lyra\, Orion\, Sirius\, Raven\, Luna\, Jack\, Oberon\, Sayen\, Aristos\, Chante and our two new pups Buddy and Holly during a one hour tour of our facility. Visit our gift shop to find cool gifts for animal lovers. You must make an appointment before visiting\, and to schedule please call 609-901-1387.
URL:https://howlingwoods.org/event/visit-the-farm-723/
LOCATION:Howling Woods Farm\, 1371 W Veterans Hwy\, Jackson\, New Jersey\, 08527
ORGANIZER;CN="Howling Woods Farm":MAILTO:luv2howl@optonline.net
END:VEVENT
BEGIN:VEVENT
DTSTART;VALUE=DATE:20241231
DTEND;VALUE=DATE:20250101
DTSTAMP:20260421T222347
CREATED:20241123T072700Z
LAST-MODIFIED:20241123T072700Z
UID:53587-1735603200-1735689599@howlingwoods.org
SUMMARY:Visit the Farm
DESCRIPTION:Come to the farm and meet Lyra\, Orion\, Sirius\, Raven\, Luna\, Jack\, Oberon\, Sayen\, Aristos\, Chante and our two new pups Buddy and Holly during a one hour tour of our facility. Visit our gift shop to find cool gifts for animal lovers. You must make an appointment before visiting\, and to schedule please call 609-901-1387.
URL:https://howlingwoods.org/event/visit-the-farm-724/
LOCATION:Howling Woods Farm\, 1371 W Veterans Hwy\, Jackson\, New Jersey\, 08527
ORGANIZER;CN="Howling Woods Farm":MAILTO:luv2howl@optonline.net
END:VEVENT
BEGIN:VEVENT
DTSTART;VALUE=DATE:20250101
DTEND;VALUE=DATE:20250102
DTSTAMP:20260421T222347
CREATED:20241120T234452Z
LAST-MODIFIED:20241120T234452Z
UID:53562-1735689600-1735775999@howlingwoods.org
SUMMARY:Farm Closed
DESCRIPTION:
URL:https://howlingwoods.org/event/farm-closed-530/
LOCATION:New Jersey
END:VEVENT
BEGIN:VEVENT
DTSTART;VALUE=DATE:20250102
DTEND;VALUE=DATE:20250103
DTSTAMP:20260421T222347
CREATED:20241120T234955Z
LAST-MODIFIED:20241120T234955Z
UID:53566-1735776000-1735862399@howlingwoods.org
SUMMARY:Visit the Farm
DESCRIPTION:Come to the farm and meet Lyra\, Orion\, Sirius\, Raven\, Luna\, Jack\, Oberon\, Sayen\, Aristos\, Chante and our two new pups Buddy and Holly during a one hour tour of our facility.  Visit our gift shop to find cool gifts for animal lovers.  You must make an appointment before visiting\, and to schedule please call 609-901-1387.
URL:https://howlingwoods.org/event/visit-the-farm-720/
LOCATION:Howling Woods Farm\, 1371 W Veterans Hwy\, Jackson\, New Jersey\, 08527
ORGANIZER;CN="Howling Woods Farm":MAILTO:luv2howl@optonline.net
END:VEVENT
BEGIN:VEVENT
DTSTART;VALUE=DATE:20250103
DTEND;VALUE=DATE:20250104
DTSTAMP:20260421T222347
CREATED:20241209T063004Z
LAST-MODIFIED:20241209T063004Z
UID:53699-1735862400-1735948799@howlingwoods.org
SUMMARY:Visit the Farm
DESCRIPTION:Come to the farm and meet Lyra\, Orion\, Sirius\, Raven\, Luna\, Jack\, Oberon\, Sayen\, Aristos\, Chante and our two new pups Buddy and Holly (who no longer look like pups) during a one hour tour of our facility. Visit our gift shop to find cool gifts for animal lovers. You must make an appointment before visiting\, and to schedule please call 609-901-1387.
URL:https://howlingwoods.org/event/visit-the-farm-725/
LOCATION:Howling Woods Farm\, 1371 W Veterans Hwy\, Jackson\, New Jersey\, 08527
ORGANIZER;CN="Howling Woods Farm":MAILTO:luv2howl@optonline.net
END:VEVENT
BEGIN:VEVENT
DTSTART;VALUE=DATE:20250105
DTEND;VALUE=DATE:20250106
DTSTAMP:20260421T222347
CREATED:20241228T035734Z
LAST-MODIFIED:20241228T035734Z
UID:53883-1736035200-1736121599@howlingwoods.org
SUMMARY:Visit the Farm
DESCRIPTION:Come to the farm and meet Lyra\, Orion\, Sirius\, Raven\, Luna\, Jack\, Oberon\, Sayen\, Aristos\, Chante and our two new pups Buddy and Holly during a one hour tour of our facility. Visit our gift shop to find cool gifts for animal lovers. You must make an appointment before visiting\, and to schedule please call 609-901-1387.
URL:https://howlingwoods.org/event/visit-the-farm-726/
LOCATION:Howling Woods Farm\, 1371 W Veterans Hwy\, Jackson\, New Jersey\, 08527
ORGANIZER;CN="Howling Woods Farm":MAILTO:luv2howl@optonline.net
END:VEVENT
END:VCALENDAR