BEGIN:VCALENDAR
VERSION:2.0
PRODID:-//Howling Woods Farm - ECPv6.15.20//NONSGML v1.0//EN
CALSCALE:GREGORIAN
METHOD:PUBLISH
X-WR-CALNAME:Howling Woods Farm
X-ORIGINAL-URL:https://howlingwoods.org
X-WR-CALDESC:Events for Howling Woods Farm
REFRESH-INTERVAL;VALUE=DURATION:PT1H
X-Robots-Tag:noindex
X-PUBLISHED-TTL:PT1H
BEGIN:VTIMEZONE
TZID:UTC
BEGIN:STANDARD
TZOFFSETFROM:+0000
TZOFFSETTO:+0000
TZNAME:UTC
DTSTART:20200101T000000
END:STANDARD
END:VTIMEZONE
BEGIN:VEVENT
DTSTART;VALUE=DATE:20210713
DTEND;VALUE=DATE:20210718
DTSTAMP:20260421T224817
CREATED:20210415T093101Z
LAST-MODIFIED:20210415T093101Z
UID:40758-1626134400-1626566399@howlingwoods.org
SUMMARY:Visit the Farm
DESCRIPTION:Come and meet Kotori\, Naiche\, Chante\, Sirius\, Orion\, Raven\, Luna\, Jack and Sayen. Learn about wolves during a one-hour interactive tour of the farm. For appointment call 609-901-1387. Be sure to call at least three weeks in advance to visit on a weekend.
URL:https://howlingwoods.org/event/visit-the-farm-309/
LOCATION:Howling Woods Farm\, 1371 W Veterans Hwy\, Jackson\, New Jersey\, 08527
ORGANIZER;CN="Howling Woods Farm":MAILTO:luv2howl@optonline.net
END:VEVENT
BEGIN:VEVENT
DTSTART;VALUE=DATE:20210712
DTEND;VALUE=DATE:20210713
DTSTAMP:20260421T224817
CREATED:20210415T092225Z
LAST-MODIFIED:20210415T092225Z
UID:40746-1626048000-1626134399@howlingwoods.org
SUMMARY:Farm Closed
DESCRIPTION:
URL:https://howlingwoods.org/event/farm-closed-331/
END:VEVENT
BEGIN:VEVENT
DTSTART;VALUE=DATE:20210711
DTEND;VALUE=DATE:20210712
DTSTAMP:20260421T224817
CREATED:20210415T092931Z
LAST-MODIFIED:20210415T092931Z
UID:40756-1625961600-1626047999@howlingwoods.org
SUMMARY:Visit the Farm
DESCRIPTION:Come and meet Kotori\, Naiche\, Chante\, Sirius\, Orion\, Raven\, Luna\, Jack and Sayen. Learn about wolves during a one-hour interactive tour of the farm. For appointment call 609-901-1387. Be sure to call at least three weeks in advance to visit on a weekend.
URL:https://howlingwoods.org/event/visit-the-farm-308/
LOCATION:Howling Woods Farm\, 1371 W Veterans Hwy\, Jackson\, New Jersey\, 08527
ORGANIZER;CN="Howling Woods Farm":MAILTO:luv2howl@optonline.net
END:VEVENT
BEGIN:VEVENT
DTSTART;VALUE=DATE:20210710
DTEND;VALUE=DATE:20210711
DTSTAMP:20260421T224817
CREATED:20210415T092140Z
LAST-MODIFIED:20210415T092140Z
UID:40744-1625875200-1625961599@howlingwoods.org
SUMMARY:Farm Closed
DESCRIPTION:
URL:https://howlingwoods.org/event/farm-closed-330/
END:VEVENT
BEGIN:VEVENT
DTSTART;VALUE=DATE:20210706
DTEND;VALUE=DATE:20210710
DTSTAMP:20260421T224817
CREATED:20210415T092829Z
LAST-MODIFIED:20210415T092829Z
UID:40754-1625529600-1625875199@howlingwoods.org
SUMMARY:Visit the Farm
DESCRIPTION:Come and meet Kotori\, Naiche\, Chante\, Sirius\, Orion\, Raven\, Luna\, Jack and Sayen. Learn about wolves during a one-hour interactive tour of the farm. For appointment call 609-901-1387. Be sure to call at least three weeks in advance to visit on a weekend.
URL:https://howlingwoods.org/event/visit-the-farm-307/
LOCATION:Howling Woods Farm\, 1371 W Veterans Hwy\, Jackson\, New Jersey\, 08527
ORGANIZER;CN="Howling Woods Farm":MAILTO:luv2howl@optonline.net
END:VEVENT
BEGIN:VEVENT
DTSTART;VALUE=DATE:20210705
DTEND;VALUE=DATE:20210706
DTSTAMP:20260421T224817
CREATED:20210415T092033Z
LAST-MODIFIED:20210415T092033Z
UID:40742-1625443200-1625529599@howlingwoods.org
SUMMARY:Farm Closed
DESCRIPTION:
URL:https://howlingwoods.org/event/farm-closed-329/
END:VEVENT
BEGIN:VEVENT
DTSTART;VALUE=DATE:20210704
DTEND;VALUE=DATE:20210705
DTSTAMP:20260421T224817
CREATED:20210415T091722Z
LAST-MODIFIED:20210415T091722Z
UID:40738-1625356800-1625443199@howlingwoods.org
SUMMARY:Farm Closed
DESCRIPTION:
URL:https://howlingwoods.org/event/farm-closed-328/
END:VEVENT
BEGIN:VEVENT
DTSTART;VALUE=DATE:20210629
DTEND;VALUE=DATE:20210704
DTSTAMP:20260421T224817
CREATED:20210415T091933Z
LAST-MODIFIED:20210415T091933Z
UID:40740-1624924800-1625356799@howlingwoods.org
SUMMARY:Visit the Farm
DESCRIPTION:Come and meet Kotori\, Naiche\, Chante\, Sirius\, Orion\, Raven\, Luna\, Jack and Sayen. Learn about wolves during a one-hour interactive tour of the farm. For appointment call 609-901-1387. Be sure to call at least three weeks in advance to visit on a weekend.
URL:https://howlingwoods.org/event/visit-the-farm-306/
LOCATION:Howling Woods Farm\, 1371 W Veterans Hwy\, Jackson\, New Jersey\, 08527
ORGANIZER;CN="Howling Woods Farm":MAILTO:luv2howl@optonline.net
END:VEVENT
BEGIN:VEVENT
DTSTART;VALUE=DATE:20210628
DTEND;VALUE=DATE:20210629
DTSTAMP:20260421T224817
CREATED:20210415T091601Z
LAST-MODIFIED:20210415T091601Z
UID:40736-1624838400-1624924799@howlingwoods.org
SUMMARY:Farm Closed
DESCRIPTION:
URL:https://howlingwoods.org/event/farm-closed-327/
END:VEVENT
BEGIN:VEVENT
DTSTART;TZID=UTC:20210627T130000
DTEND;TZID=UTC:20210627T143000
DTSTAMP:20260421T224817
CREATED:20210505T053935Z
LAST-MODIFIED:20210505T053935Z
UID:40975-1624798800-1624804200@howlingwoods.org
SUMMARY:Presentation - House Paws (Private)
DESCRIPTION:
URL:https://howlingwoods.org/event/presentation-house-paws-private/
END:VEVENT
BEGIN:VEVENT
DTSTART;VALUE=DATE:20210627
DTEND;VALUE=DATE:20210628
DTSTAMP:20260421T224817
CREATED:20210415T091044Z
LAST-MODIFIED:20210415T091044Z
UID:40728-1624752000-1624838399@howlingwoods.org
SUMMARY:Farm Closed
DESCRIPTION:
URL:https://howlingwoods.org/event/farm-closed-325/
END:VEVENT
BEGIN:VEVENT
DTSTART;TZID=UTC:20210623T190000
DTEND;TZID=UTC:20210623T220000
DTSTAMP:20260421T224817
CREATED:20210508T021704Z
LAST-MODIFIED:20210508T022120Z
UID:40995-1624474800-1624485600@howlingwoods.org
SUMMARY:Bike Night at Texas Roadhouse Holmdel Fundraiser
DESCRIPTION:Come to the Texas Roadhouse Restaurant in Holmdel to meet our animals for Bike Night\, organized by Knights of the Inferno.  Knights of the Inferno works to aid distressed emergency service workers\, military service members\, and their families.  The Farm will be present 7pm to 10pm.
URL:https://howlingwoods.org/event/texas-roadhouse-holmdel-fundraiser/
LOCATION:Texas Roadhouse\, Holmdel\, NJ\, 2105 NJ-35 Suite 103\, Holmdel\, NJ\, 07733\, United States
END:VEVENT
BEGIN:VEVENT
DTSTART;VALUE=DATE:20210622
DTEND;VALUE=DATE:20210627
DTSTAMP:20260421T224817
CREATED:20210415T091220Z
LAST-MODIFIED:20210415T091220Z
UID:40730-1624320000-1624751999@howlingwoods.org
SUMMARY:Visit the Farm
DESCRIPTION:Come and meet Kotori\, Naiche\, Chante\, Sirius\, Orion\, Raven\, Luna\, Jack and Sayen. Learn about wolves during a one-hour interactive tour of the farm. For appointment call 609-901-1387. Be sure to call at least three weeks in advance to visit on a weekend.
URL:https://howlingwoods.org/event/visit-the-farm-305/
LOCATION:Howling Woods Farm\, 1371 W Veterans Hwy\, Jackson\, New Jersey\, 08527
ORGANIZER;CN="Howling Woods Farm":MAILTO:luv2howl@optonline.net
END:VEVENT
BEGIN:VEVENT
DTSTART;VALUE=DATE:20210621
DTEND;VALUE=DATE:20210622
DTSTAMP:20260421T224817
CREATED:20210415T091457Z
LAST-MODIFIED:20210415T091457Z
UID:40734-1624233600-1624319999@howlingwoods.org
SUMMARY:Farm Closed
DESCRIPTION:
URL:https://howlingwoods.org/event/farm-closed-326/
END:VEVENT
BEGIN:VEVENT
DTSTART;VALUE=DATE:20210620
DTEND;VALUE=DATE:20210621
DTSTAMP:20260421T224817
CREATED:20210415T090610Z
LAST-MODIFIED:20210415T090610Z
UID:40724-1624147200-1624233599@howlingwoods.org
SUMMARY:Visit the Farm
DESCRIPTION:Come and meet Kotori\, Naiche\, Chante\, Sirius\, Orion\, Raven\, Luna\, Jack and Sayen. Learn about wolves during a one-hour interactive tour of the farm. For appointment call 609-901-1387. Be sure to call at least three weeks in advance to visit on a weekend.
URL:https://howlingwoods.org/event/visit-the-farm-303/
LOCATION:Howling Woods Farm\, 1371 W Veterans Hwy\, Jackson\, New Jersey\, 08527
ORGANIZER;CN="Howling Woods Farm":MAILTO:luv2howl@optonline.net
END:VEVENT
BEGIN:VEVENT
DTSTART;VALUE=DATE:20210619
DTEND;VALUE=DATE:20210620
DTSTAMP:20260421T224817
CREATED:20210415T085311Z
LAST-MODIFIED:20210415T085311Z
UID:40720-1624060800-1624147199@howlingwoods.org
SUMMARY:Farm Closed
DESCRIPTION:
URL:https://howlingwoods.org/event/farm-closed-324/
END:VEVENT
BEGIN:VEVENT
DTSTART;VALUE=DATE:20210615
DTEND;VALUE=DATE:20210619
DTSTAMP:20260421T224817
CREATED:20210415T090804Z
LAST-MODIFIED:20210415T090804Z
UID:40726-1623715200-1624060799@howlingwoods.org
SUMMARY:Visit the Farm
DESCRIPTION:Come and meet Kotori\, Naiche\, Chante\, Sirius\, Orion\, Raven\, Luna\, Jack and Sayen. Learn about wolves during a one-hour interactive tour of the farm. For appointment call 609-901-1387. Be sure to call at least three weeks in advance to visit on a weekend.
URL:https://howlingwoods.org/event/visit-the-farm-304/
LOCATION:Howling Woods Farm\, 1371 W Veterans Hwy\, Jackson\, New Jersey\, 08527
ORGANIZER;CN="Howling Woods Farm":MAILTO:luv2howl@optonline.net
END:VEVENT
BEGIN:VEVENT
DTSTART;VALUE=DATE:20210613
DTEND;VALUE=DATE:20210615
DTSTAMP:20260421T224817
CREATED:20210415T085153Z
LAST-MODIFIED:20210415T085153Z
UID:40718-1623542400-1623715199@howlingwoods.org
SUMMARY:Farm Closed
DESCRIPTION:
URL:https://howlingwoods.org/event/farm-closed-323/
END:VEVENT
BEGIN:VEVENT
DTSTART;VALUE=DATE:20210608
DTEND;VALUE=DATE:20210613
DTSTAMP:20260421T224817
CREATED:20210415T090249Z
LAST-MODIFIED:20210415T090249Z
UID:40722-1623110400-1623542399@howlingwoods.org
SUMMARY:Visit the Farm
DESCRIPTION:
URL:https://howlingwoods.org/event/visit-the-farm-302/
LOCATION:Howling Woods Farm\, 1371 W Veterans Hwy\, Jackson\, New Jersey\, 08527
ORGANIZER;CN="Howling Woods Farm":MAILTO:luv2howl@optonline.net
END:VEVENT
BEGIN:VEVENT
DTSTART;VALUE=DATE:20210607
DTEND;VALUE=DATE:20210608
DTSTAMP:20260421T224817
CREATED:20210415T085039Z
LAST-MODIFIED:20210415T085039Z
UID:40716-1623024000-1623110399@howlingwoods.org
SUMMARY:Farm Closed
DESCRIPTION:
URL:https://howlingwoods.org/event/farm-closed-322/
END:VEVENT
BEGIN:VEVENT
DTSTART;VALUE=DATE:20210606
DTEND;VALUE=DATE:20210607
DTSTAMP:20260421T224817
CREATED:20210216T050612Z
LAST-MODIFIED:20210216T050612Z
UID:40470-1622937600-1623023999@howlingwoods.org
SUMMARY:Visit the Farm
DESCRIPTION:Come and meet Kotori\, Naiche\, Chante\, Sirius\, Orion\, Raven\, Luna\, Jack and Sayen. Learn about wolves during a one-hour interactive tour of the farm. For appointment call 609-901-1387. Be sure to call at least three weeks in advance to visit on a weekend.
URL:https://howlingwoods.org/event/visit-the-farm-301/
LOCATION:Howling Woods Farm\, 1371 W Veterans Hwy\, Jackson\, New Jersey\, 08527
END:VEVENT
BEGIN:VEVENT
DTSTART;VALUE=DATE:20210605
DTEND;VALUE=DATE:20210606
DTSTAMP:20260421T224817
CREATED:20210216T045650Z
LAST-MODIFIED:20210216T045650Z
UID:40454-1622851200-1622937599@howlingwoods.org
SUMMARY:Farm Closed
DESCRIPTION:
URL:https://howlingwoods.org/event/farm-closed-321/
END:VEVENT
BEGIN:VEVENT
DTSTART;VALUE=DATE:20210601
DTEND;VALUE=DATE:20210605
DTSTAMP:20260421T224817
CREATED:20210216T050252Z
LAST-MODIFIED:20210216T050252Z
UID:40464-1622505600-1622851199@howlingwoods.org
SUMMARY:Visit the Farm
DESCRIPTION:Come and meet Kotori\, Naiche\, Chante\, Sirius\, Orion\, Raven\, Luna\, Jack and Sayen. Learn about wolves during a one-hour interactive tour of the farm. For appointment call 609-901-1387. Be sure to call at least three weeks in advance to visit on a weekend.
URL:https://howlingwoods.org/event/visit-the-farm-298/
LOCATION:Howling Woods Farm\, 1371 W Veterans Hwy\, Jackson\, New Jersey\, 08527
END:VEVENT
BEGIN:VEVENT
DTSTART;VALUE=DATE:20210530
DTEND;VALUE=DATE:20210601
DTSTAMP:20260421T224817
CREATED:20210216T045609Z
LAST-MODIFIED:20210216T045609Z
UID:40452-1622332800-1622505599@howlingwoods.org
SUMMARY:Farm Closed
DESCRIPTION:
URL:https://howlingwoods.org/event/farm-closed-320/
END:VEVENT
BEGIN:VEVENT
DTSTART;VALUE=DATE:20210525
DTEND;VALUE=DATE:20210530
DTSTAMP:20260421T224817
CREATED:20210216T050206Z
LAST-MODIFIED:20210216T050206Z
UID:40462-1621900800-1622332799@howlingwoods.org
SUMMARY:Visit the Farm
DESCRIPTION:Come and meet Kotori\, Naiche\, Chante\, Sirius\, Orion\, Raven\, Luna\, Jack and Sayen. Learn about wolves during a one-hour interactive tour of the farm. For appointment call 609-901-1387. Be sure to call at least three weeks in advance to visit on a weekend.
URL:https://howlingwoods.org/event/visit-the-farm-297/
LOCATION:Howling Woods Farm\, 1371 W Veterans Hwy\, Jackson\, New Jersey\, 08527
END:VEVENT
BEGIN:VEVENT
DTSTART;VALUE=DATE:20210524
DTEND;VALUE=DATE:20210525
DTSTAMP:20260421T224817
CREATED:20210216T045535Z
LAST-MODIFIED:20210216T045535Z
UID:40450-1621814400-1621900799@howlingwoods.org
SUMMARY:Farm Closed
DESCRIPTION:
URL:https://howlingwoods.org/event/farm-closed-319/
END:VEVENT
BEGIN:VEVENT
DTSTART;TZID=UTC:20210523T080000
DTEND;TZID=UTC:20210523T170000
DTSTAMP:20260421T224817
CREATED:20210216T050447Z
LAST-MODIFIED:20210216T050447Z
UID:40468-1621756800-1621789200@howlingwoods.org
SUMMARY:Visit the Farm
DESCRIPTION:Come and meet Kotori\, Naiche\, Chante\, Sirius\, Orion\, Raven\, Luna\, Jack and Sayen. Learn about wolves during a one-hour interactive tour of the farm. For appointment call 609-901-1387. Be sure to call at least three weeks in advance to visit on a weekend.
URL:https://howlingwoods.org/event/visit-the-farm-300/
LOCATION:Howling Woods Farm\, 1371 W Veterans Hwy\, Jackson\, New Jersey\, 08527
END:VEVENT
BEGIN:VEVENT
DTSTART;VALUE=DATE:20210522
DTEND;VALUE=DATE:20210523
DTSTAMP:20260421T224817
CREATED:20210216T045506Z
LAST-MODIFIED:20210216T045506Z
UID:40448-1621641600-1621727999@howlingwoods.org
SUMMARY:Farm Closed
DESCRIPTION:
URL:https://howlingwoods.org/event/farm-closed-318/
END:VEVENT
BEGIN:VEVENT
DTSTART;VALUE=DATE:20210518
DTEND;VALUE=DATE:20210522
DTSTAMP:20260421T224817
CREATED:20210216T050115Z
LAST-MODIFIED:20210216T050115Z
UID:40460-1621296000-1621641599@howlingwoods.org
SUMMARY:Visit the Farm
DESCRIPTION:Come and meet Kotori\, Naiche\, Chante\, Sirius\, Orion\, Raven\, Luna\, Jack and Sayen. Learn about wolves during a one-hour interactive tour of the farm. For appointment call 609-901-1387. Be sure to call at least three weeks in advance to visit on a weekend.
URL:https://howlingwoods.org/event/visit-the-farm-296/
LOCATION:Howling Woods Farm\, 1371 W Veterans Hwy\, Jackson\, New Jersey\, 08527
END:VEVENT
BEGIN:VEVENT
DTSTART;VALUE=DATE:20210516
DTEND;VALUE=DATE:20210518
DTSTAMP:20260421T224817
CREATED:20210216T045432Z
LAST-MODIFIED:20210216T045432Z
UID:40446-1621123200-1621295999@howlingwoods.org
SUMMARY:Farm Closed
DESCRIPTION:
URL:https://howlingwoods.org/event/farm-closed-317/
END:VEVENT
END:VCALENDAR