BEGIN:VCALENDAR
VERSION:2.0
PRODID:-//Howling Woods Farm - ECPv6.15.20//NONSGML v1.0//EN
CALSCALE:GREGORIAN
METHOD:PUBLISH
X-WR-CALNAME:Howling Woods Farm
X-ORIGINAL-URL:https://howlingwoods.org
X-WR-CALDESC:Events for Howling Woods Farm
REFRESH-INTERVAL;VALUE=DURATION:PT1H
X-Robots-Tag:noindex
X-PUBLISHED-TTL:PT1H
BEGIN:VTIMEZONE
TZID:UTC
BEGIN:STANDARD
TZOFFSETFROM:+0000
TZOFFSETTO:+0000
TZNAME:UTC
DTSTART:20190101T000000
END:STANDARD
END:VTIMEZONE
BEGIN:VEVENT
DTSTART;VALUE=DATE:20201122
DTEND;VALUE=DATE:20201123
DTSTAMP:20260421T224727
CREATED:20200906T083218Z
LAST-MODIFIED:20200906T083218Z
UID:38159-1606003200-1606089599@howlingwoods.org
SUMMARY:Visit the Farm
DESCRIPTION:Come and meet Kotori\, Naiche\, Chante\, Sirius\, Orion\, Raven and Luna. Learn about wolves during a one-hour tour of the farm. For appointment call 609-901-1387. Please be sure to call at least one week in advance if you wish to visit on a weekend.
URL:https://howlingwoods.org/event/visit-the-farm-275/
LOCATION:Howling Woods Farm\, 1371 W Veterans Hwy\, Jackson\, New Jersey\, 08527
ORGANIZER;CN="Howling Woods Farm":MAILTO:luv2howl@optonline.net
END:VEVENT
BEGIN:VEVENT
DTSTART;VALUE=DATE:20201121
DTEND;VALUE=DATE:20201122
DTSTAMP:20260421T224727
CREATED:20200906T084114Z
LAST-MODIFIED:20200906T084114Z
UID:38175-1605916800-1606003199@howlingwoods.org
SUMMARY:Farm Closed
DESCRIPTION:
URL:https://howlingwoods.org/event/farm-closed-295/
END:VEVENT
BEGIN:VEVENT
DTSTART;VALUE=DATE:20201117
DTEND;VALUE=DATE:20201121
DTSTAMP:20260421T224727
CREATED:20200906T083106Z
LAST-MODIFIED:20200906T083106Z
UID:38157-1605571200-1605916799@howlingwoods.org
SUMMARY:Visit the Farm
DESCRIPTION:Come and meet Kotori\, Naiche\, Chante\, Sirius\, Orion\, Raven and Luna. Learn about wolves during a one-hour tour of the farm. For appointment call 609-901-1387. Please be sure to call at least one week in advance if you wish to visit on a weekend.
URL:https://howlingwoods.org/event/visit-the-farm-274/
LOCATION:Howling Woods Farm\, 1371 W Veterans Hwy\, Jackson\, New Jersey\, 08527
ORGANIZER;CN="Howling Woods Farm":MAILTO:luv2howl@optonline.net
END:VEVENT
BEGIN:VEVENT
DTSTART;VALUE=DATE:20201115
DTEND;VALUE=DATE:20201117
DTSTAMP:20260421T224727
CREATED:20200906T084035Z
LAST-MODIFIED:20200906T084035Z
UID:38173-1605398400-1605571199@howlingwoods.org
SUMMARY:Farm Closed
DESCRIPTION:
URL:https://howlingwoods.org/event/farm-closed-294/
END:VEVENT
BEGIN:VEVENT
DTSTART;VALUE=DATE:20201110
DTEND;VALUE=DATE:20201115
DTSTAMP:20260421T224727
CREATED:20200906T082935Z
LAST-MODIFIED:20200906T082935Z
UID:38155-1604966400-1605398399@howlingwoods.org
SUMMARY:Visit the Farm
DESCRIPTION:Come and meet Kotori\, Naiche\, Chante\, Sirius\, Orion\, Raven and Luna. Learn about wolves during a one-hour tour of the farm. For appointment call 609-901-1387. Please be sure to call at least one week in advance if you wish to visit on a weekend.
URL:https://howlingwoods.org/event/visit-the-farm-273/
LOCATION:Howling Woods Farm\, 1371 W Veterans Hwy\, Jackson\, New Jersey\, 08527
ORGANIZER;CN="Howling Woods Farm":MAILTO:luv2howl@optonline.net
END:VEVENT
BEGIN:VEVENT
DTSTART;VALUE=DATE:20201109
DTEND;VALUE=DATE:20201110
DTSTAMP:20260421T224727
CREATED:20200906T083956Z
LAST-MODIFIED:20200906T083956Z
UID:38171-1604880000-1604966399@howlingwoods.org
SUMMARY:Farm Closed
DESCRIPTION:
URL:https://howlingwoods.org/event/farm-closed-293/
END:VEVENT
BEGIN:VEVENT
DTSTART;VALUE=DATE:20201108
DTEND;VALUE=DATE:20201109
DTSTAMP:20260421T224727
CREATED:20200906T082807Z
LAST-MODIFIED:20200906T082807Z
UID:38153-1604793600-1604879999@howlingwoods.org
SUMMARY:Visit the Farm
DESCRIPTION:Come and meet Kotori\, Naiche\, Chante\, Sirius\, Orion\, Raven and Luna. Learn about wolves during a one-hour tour of the farm. For appointment call 609-901-1387. Please be sure to call at least one week in advance if you wish to visit on a weekend.
URL:https://howlingwoods.org/event/visit-the-farm-272/
LOCATION:Howling Woods Farm\, 1371 W Veterans Hwy\, Jackson\, New Jersey\, 08527
ORGANIZER;CN="Howling Woods Farm":MAILTO:luv2howl@optonline.net
END:VEVENT
BEGIN:VEVENT
DTSTART;VALUE=DATE:20201107
DTEND;VALUE=DATE:20201108
DTSTAMP:20260421T224727
CREATED:20200906T083924Z
LAST-MODIFIED:20200906T083924Z
UID:38169-1604707200-1604793599@howlingwoods.org
SUMMARY:Farm Closed
DESCRIPTION:
URL:https://howlingwoods.org/event/farm-closed-292/
END:VEVENT
BEGIN:VEVENT
DTSTART;VALUE=DATE:20201103
DTEND;VALUE=DATE:20201107
DTSTAMP:20260421T224727
CREATED:20200906T082659Z
LAST-MODIFIED:20200906T082659Z
UID:38151-1604361600-1604707199@howlingwoods.org
SUMMARY:Visit the Farm
DESCRIPTION:Come and meet Kotori\, Naiche\, Chante\, Sirius\, Orion\, Raven and Luna. Learn about wolves during a one-hour tour of the farm. For appointment call 609-901-1387. Please be sure to call at least one week in advance if you wish to visit on a weekend.
URL:https://howlingwoods.org/event/visit-the-farm-271/
LOCATION:Howling Woods Farm\, 1371 W Veterans Hwy\, Jackson\, New Jersey\, 08527
ORGANIZER;CN="Howling Woods Farm":MAILTO:luv2howl@optonline.net
END:VEVENT
BEGIN:VEVENT
DTSTART;VALUE=DATE:20201101
DTEND;VALUE=DATE:20201103
DTSTAMP:20260421T224727
CREATED:20200906T083835Z
LAST-MODIFIED:20200906T083835Z
UID:38167-1604188800-1604361599@howlingwoods.org
SUMMARY:Farm Closed
DESCRIPTION:
URL:https://howlingwoods.org/event/farm-closed-291/
END:VEVENT
BEGIN:VEVENT
DTSTART;VALUE=DATE:20201027
DTEND;VALUE=DATE:20201101
DTSTAMP:20260421T224727
CREATED:20200730T111034Z
LAST-MODIFIED:20200730T111034Z
UID:37551-1603756800-1604188799@howlingwoods.org
SUMMARY:Visit the Farm
DESCRIPTION:Come and meet Kotori\, Naiche\, Chante\, Sirius\, Orion\, Raven and Luna. Learn about wolves during a one-hour tour of the farm. For appointment call 609-901-1387. Please be sure to call at least one week in advance if you wish to visit on a weekend.
URL:https://howlingwoods.org/event/visit-the-farm-270/
LOCATION:Howling Woods Farm\, 1371 W Veterans Hwy\, Jackson\, New Jersey\, 08527
END:VEVENT
BEGIN:VEVENT
DTSTART;VALUE=DATE:20201026
DTEND;VALUE=DATE:20201027
DTSTAMP:20260421T224727
CREATED:20200730T111324Z
LAST-MODIFIED:20200730T111324Z
UID:37555-1603670400-1603756799@howlingwoods.org
SUMMARY:Farm Closed
DESCRIPTION:
URL:https://howlingwoods.org/event/farm-closed-289/
END:VEVENT
BEGIN:VEVENT
DTSTART;VALUE=DATE:20201025
DTEND;VALUE=DATE:20201026
DTSTAMP:20260421T224727
CREATED:20200730T110932Z
LAST-MODIFIED:20200730T110932Z
UID:37549-1603584000-1603670399@howlingwoods.org
SUMMARY:Visit the Farm
DESCRIPTION:Come and meet Kotori\, Naiche\, Chante\, Sirius\, Orion\, Raven and Luna. Learn about wolves during a one-hour tour of the farm. For appointment call 609-901-1387. Please be sure to call at least one week in advance if you wish to visit on a weekend.
URL:https://howlingwoods.org/event/visit-the-farm-269/
LOCATION:Howling Woods Farm\, 1371 W Veterans Hwy\, Jackson\, New Jersey\, 08527
END:VEVENT
BEGIN:VEVENT
DTSTART;VALUE=DATE:20201024
DTEND;VALUE=DATE:20201025
DTSTAMP:20260421T224727
CREATED:20200730T110353Z
LAST-MODIFIED:20200730T110353Z
UID:37539-1603497600-1603583999@howlingwoods.org
SUMMARY:Farm Closed
DESCRIPTION:
URL:https://howlingwoods.org/event/farm-closed-287/
END:VEVENT
BEGIN:VEVENT
DTSTART;VALUE=DATE:20201020
DTEND;VALUE=DATE:20201024
DTSTAMP:20260421T224727
CREATED:20200730T110833Z
LAST-MODIFIED:20200730T110833Z
UID:37547-1603152000-1603497599@howlingwoods.org
SUMMARY:Visit the Farm
DESCRIPTION:Come and meet Kotori\, Naiche\, Chante\, Sirius\, Orion\, Raven and Luna. Learn about wolves during a one-hour tour of the farm. For appointment call 609-901-1387. Please be sure to call at least one week in advance if you wish to visit on a weekend.
URL:https://howlingwoods.org/event/visit-the-farm-268/
LOCATION:Howling Woods Farm\, 1371 W Veterans Hwy\, Jackson\, New Jersey\, 08527
END:VEVENT
BEGIN:VEVENT
DTSTART;VALUE=DATE:20201019
DTEND;VALUE=DATE:20201020
DTSTAMP:20260421T224727
CREATED:20200730T110305Z
LAST-MODIFIED:20200730T110305Z
UID:37537-1603065600-1603151999@howlingwoods.org
SUMMARY:Farm Closed
DESCRIPTION:
URL:https://howlingwoods.org/event/farm-closed-286/
END:VEVENT
BEGIN:VEVENT
DTSTART;VALUE=DATE:20201018
DTEND;VALUE=DATE:20201019
DTSTAMP:20260421T224727
CREATED:20200730T110732Z
LAST-MODIFIED:20200906T081556Z
UID:37545-1602979200-1603065599@howlingwoods.org
SUMMARY:Farm Closed
DESCRIPTION:
URL:https://howlingwoods.org/event/visit-the-farm-267/
LOCATION:Howling Woods Farm\, 1371 W Veterans Hwy\, Jackson\, New Jersey\, 08527
END:VEVENT
BEGIN:VEVENT
DTSTART;VALUE=DATE:20201017
DTEND;VALUE=DATE:20201018
DTSTAMP:20260421T224727
CREATED:20200730T111206Z
LAST-MODIFIED:20200906T081950Z
UID:37553-1602892800-1602979199@howlingwoods.org
SUMMARY:Visit the Farm
DESCRIPTION:Come and meet Kotori\, Naiche\, Chante\, Sirius\, Orion\, Raven and Luna. Learn about wolves during a one-hour tour of the farm. For appointment call 609-901-1387. Please be sure to call at least one week in advance if you wish to visit on a weekend.
URL:https://howlingwoods.org/event/farm-closed-288/
LOCATION:Howling Woods Farm\, 1371 W Veterans Hwy\, Jackson\, New Jersey\, 08527
ORGANIZER;CN="Howling Woods Farm":MAILTO:luv2howl@optonline.net
END:VEVENT
BEGIN:VEVENT
DTSTART;VALUE=DATE:20201013
DTEND;VALUE=DATE:20201017
DTSTAMP:20260421T224727
CREATED:20200730T110617Z
LAST-MODIFIED:20200730T110617Z
UID:37543-1602547200-1602892799@howlingwoods.org
SUMMARY:Visit the Farm
DESCRIPTION:Come and meet Kotori\, Naiche\, Chante\, Sirius\, Orion\, Raven and Luna. Learn about wolves during a one-hour tour of the farm. For appointment call 609-901-1387. Please be sure to call at least one week in advance if you wish to visit on a weekend.
URL:https://howlingwoods.org/event/visit-the-farm-266/
LOCATION:Howling Woods Farm\, 1371 W Veterans Hwy\, Jackson\, New Jersey\, 08527
END:VEVENT
BEGIN:VEVENT
DTSTART;VALUE=DATE:20201011
DTEND;VALUE=DATE:20201013
DTSTAMP:20260421T224727
CREATED:20200730T110136Z
LAST-MODIFIED:20200730T110136Z
UID:37533-1602374400-1602547199@howlingwoods.org
SUMMARY:Farm Closed
DESCRIPTION:
URL:https://howlingwoods.org/event/farm-closed-284/
END:VEVENT
BEGIN:VEVENT
DTSTART;VALUE=DATE:20201006
DTEND;VALUE=DATE:20201011
DTSTAMP:20260421T224727
CREATED:20200730T110502Z
LAST-MODIFIED:20200730T110502Z
UID:37541-1601942400-1602374399@howlingwoods.org
SUMMARY:Visit the Farm
DESCRIPTION:Come and meet Kotori\, Naiche\, Chante\, Sirius\, Orion\, Raven and Luna. Learn about wolves during a one-hour tour of the farm. For appointment call 609-901-1387. Please be sure to call at least one week in advance if you wish to visit on a weekend.
URL:https://howlingwoods.org/event/visit-the-farm-258/
LOCATION:Howling Woods Farm\, 1371 W Veterans Hwy\, Jackson\, New Jersey\, 08527
END:VEVENT
BEGIN:VEVENT
DTSTART;VALUE=DATE:20201004
DTEND;VALUE=DATE:20201006
DTSTAMP:20260421T224727
CREATED:20200730T110051Z
LAST-MODIFIED:20200730T110051Z
UID:37531-1601769600-1601942399@howlingwoods.org
SUMMARY:Farm Closed
DESCRIPTION:
URL:https://howlingwoods.org/event/farm-closed-283/
END:VEVENT
BEGIN:VEVENT
DTSTART;VALUE=DATE:20200929
DTEND;VALUE=DATE:20201004
DTSTAMP:20260421T224727
CREATED:20200730T105100Z
LAST-MODIFIED:20200730T105100Z
UID:37528-1601337600-1601769599@howlingwoods.org
SUMMARY:Visit the Farm
DESCRIPTION:Come and meet Kotori\, Naiche\, Chante\, Sirius\, Orion\, Raven and Luna. Learn about wolves during a one-hour tour of the farm. For appointment call 609-901-1387. Please be sure to call at least one week in advance if you wish to visit on a weekend.
URL:https://howlingwoods.org/event/visit-the-farm-265/
LOCATION:Howling Woods Farm\, 1371 W Veterans Hwy\, Jackson\, New Jersey\, 08527
ORGANIZER;CN="Howling Woods Farm":MAILTO:luv2howl@optonline.net
END:VEVENT
BEGIN:VEVENT
DTSTART;VALUE=DATE:20200928
DTEND;VALUE=DATE:20200929
DTSTAMP:20260421T224727
CREATED:20200730T104950Z
LAST-MODIFIED:20200730T104950Z
UID:37526-1601251200-1601337599@howlingwoods.org
SUMMARY:Farm Closed
DESCRIPTION:
URL:https://howlingwoods.org/event/farm-closed-282/
END:VEVENT
BEGIN:VEVENT
DTSTART;VALUE=DATE:20200927
DTEND;VALUE=DATE:20200928
DTSTAMP:20260421T224727
CREATED:20200730T104917Z
LAST-MODIFIED:20200730T104917Z
UID:37524-1601164800-1601251199@howlingwoods.org
SUMMARY:Visit the Farm
DESCRIPTION:Come and meet Kotori\, Naiche\, Chante\, Sirius\, Orion\, Raven and Luna. Learn about wolves during a one-hour tour of the farm. For appointment call 609-901-1387. Please be sure to call at least one week in advance if you wish to visit on a weekend.
URL:https://howlingwoods.org/event/visit-the-farm-264/
END:VEVENT
BEGIN:VEVENT
DTSTART;VALUE=DATE:20200926
DTEND;VALUE=DATE:20200927
DTSTAMP:20260421T224727
CREATED:20200730T104830Z
LAST-MODIFIED:20200730T104830Z
UID:37522-1601078400-1601164799@howlingwoods.org
SUMMARY:Farm Closed
DESCRIPTION:
URL:https://howlingwoods.org/event/farm-closed-281/
END:VEVENT
BEGIN:VEVENT
DTSTART;VALUE=DATE:20200922
DTEND;VALUE=DATE:20200926
DTSTAMP:20260421T224727
CREATED:20200730T104751Z
LAST-MODIFIED:20200730T104751Z
UID:37520-1600732800-1601078399@howlingwoods.org
SUMMARY:Visit the Farm
DESCRIPTION:Come and meet Kotori\, Naiche\, Chante\, Sirius\, Orion\, Raven and Luna. Learn about wolves during a one-hour tour of the farm. For appointment call 609-901-1387. Please be sure to call at least one week in advance if you wish to visit on a weekend.
URL:https://howlingwoods.org/event/visit-the-farm-263/
END:VEVENT
BEGIN:VEVENT
DTSTART;VALUE=DATE:20200920
DTEND;VALUE=DATE:20200922
DTSTAMP:20260421T224727
CREATED:20200730T104635Z
LAST-MODIFIED:20200730T104635Z
UID:37518-1600560000-1600732799@howlingwoods.org
SUMMARY:Farm Closed
DESCRIPTION:
URL:https://howlingwoods.org/event/farm-closed-280/
END:VEVENT
BEGIN:VEVENT
DTSTART;VALUE=DATE:20200915
DTEND;VALUE=DATE:20200920
DTSTAMP:20260421T224727
CREATED:20200730T104521Z
LAST-MODIFIED:20200730T104521Z
UID:37516-1600128000-1600559999@howlingwoods.org
SUMMARY:Visit the Farm
DESCRIPTION:Come and meet Kotori\, Naiche\, Chante\, Sirius\, Orion\, Raven and Luna. Learn about wolves during a one-hour tour of the farm. For appointment call 609-901-1387. Please be sure to call at least one week in advance if you wish to visit on a weekend.
URL:https://howlingwoods.org/event/visit-the-farm-262/
LOCATION:Howling Woods Farm\, 1371 W Veterans Hwy\, Jackson\, New Jersey\, 08527
ORGANIZER;CN="Howling Woods Farm":MAILTO:luv2howl@optonline.net
END:VEVENT
BEGIN:VEVENT
DTSTART;VALUE=DATE:20200914
DTEND;VALUE=DATE:20200915
DTSTAMP:20260421T224727
CREATED:20200730T104116Z
LAST-MODIFIED:20200730T104116Z
UID:37508-1600041600-1600127999@howlingwoods.org
SUMMARY:Farm Closed
DESCRIPTION:
URL:https://howlingwoods.org/event/farm-closed-278/
END:VEVENT
END:VCALENDAR