BEGIN:VCALENDAR
VERSION:2.0
PRODID:-//Howling Woods Farm - ECPv6.15.20//NONSGML v1.0//EN
CALSCALE:GREGORIAN
METHOD:PUBLISH
X-ORIGINAL-URL:https://howlingwoods.org
X-WR-CALDESC:Events for Howling Woods Farm
REFRESH-INTERVAL;VALUE=DURATION:PT1H
X-Robots-Tag:noindex
X-PUBLISHED-TTL:PT1H
BEGIN:VTIMEZONE
TZID:UTC
BEGIN:STANDARD
TZOFFSETFROM:+0000
TZOFFSETTO:+0000
TZNAME:UTC
DTSTART:20230101T000000
END:STANDARD
END:VTIMEZONE
BEGIN:VEVENT
DTSTART;TZID=UTC:20241012T100000
DTEND;TZID=UTC:20241012T150000
DTSTAMP:20260421T215930
CREATED:20241002T042612Z
LAST-MODIFIED:20241002T044149Z
UID:53137-1728727200-1728745200@howlingwoods.org
SUMMARY:Book Signing: GOBLIN the Wolf and the Well
DESCRIPTION:Come to the farm (no reservation needed) to meet Eric Grissom\, the author of  ‘Goblin: the Wolf and the Well’: \nWhat would you give up to protect the one you loved? Uncover the mystery in the thrilling sequel to the fantasy adventure graphic novel Goblin.\nGoblin: The Wolf and the Well (Ages 10+)\nWritten by Eric Grissom\nArt by Will Perkins\nPublished by Dark Horse Books \n“One dark and stormy night\, Rikt meets a mysterious fortune teller in the woods. Looking into his future\, she foresees that his best friend and only companion\, a wolf named Fish-breath\, is in mortal danger. Overcome with the fear of losing his four-legged friend\, Rikt trades the freedom of the wild for the protection of Underwood—a boarding school for monster children and a sanctuary for wolves. Was his bargain worth the price? And what terrible fate awaits the children who live there? The Wolf and the Well is perfect for fans of fantasy adventure graphic novels like Amulet\, Lightfall\, and City of Dragons. \nAfter losing his parents\, Rikt struggles with a fear of being alone. The anxiety becomes unbearable when he receives three prophecies from a mysterious witch\, one of which foretells a terrible fate for his best friend\, a wolf named Fish-breath. After the first two prophecies prove true\, Rikt meets Ms. Evelyn\, a friendly human who offers them protection at Underwood\, her boarding school for monstrous creatures and wayward wolves. Rikt soon learns things at Underwood are not what they seem and suspects the other children are in danger. With the help of a servant troll girl and a neurotic faun\, Rikt must uncover the mystery of Underwood before he learns first-hand what horrors await at the bottom of an ancient well.” \n 
URL:https://howlingwoods.org/event/book-signing-goblin-the-wolf-and-the-well/
LOCATION:Howling Woods Farm\, 1371 W Veterans Hwy\, Jackson\, New Jersey\, 08527
ORGANIZER;CN="Howling Woods Farm":MAILTO:luv2howl@optonline.net
END:VEVENT
BEGIN:VEVENT
DTSTART;VALUE=DATE:20241016
DTEND;VALUE=DATE:20241017
DTSTAMP:20260421T215930
CREATED:20240716T011930Z
LAST-MODIFIED:20240716T011930Z
UID:52590-1729036800-1729123199@howlingwoods.org
SUMMARY:Visit the Farm
DESCRIPTION:Come to the farm and meet Lyra\, Orion\, Sirius\, Raven\, Luna\, Jack\, Oberon\, Sayen\, Aristos\, Chante and our two new pups Buddy and Holly during a one hour tour of our facility. You must make an appointment before visiting\, and to schedule please call 609-901-1387.
URL:https://howlingwoods.org/event/visit-the-farm-685/
LOCATION:Howling Woods Farm\, 1371 W Veterans Hwy\, Jackson\, New Jersey\, 08527
ORGANIZER;CN="Howling Woods Farm":MAILTO:luv2howl@optonline.net
END:VEVENT
BEGIN:VEVENT
DTSTART;VALUE=DATE:20241018
DTEND;VALUE=DATE:20241019
DTSTAMP:20260421T215930
CREATED:20240716T012131Z
LAST-MODIFIED:20240716T012655Z
UID:52593-1729209600-1729295999@howlingwoods.org
SUMMARY:Visit the Farm
DESCRIPTION:Come to the farm and meet Lyra\, Orion\, Sirius\, Raven\, Luna\, Jack\, Oberon\, Sayen\, Aristos\, Chante and our two new pups Buddy and Holly during a one hour tour of our facility. You must make an appointment before visiting\, and to schedule please call 609-901-1387.
URL:https://howlingwoods.org/event/visit-the-farm-686/
LOCATION:Howling Woods Farm\, 1371 W Veterans Hwy\, Jackson\, New Jersey\, 08527
ORGANIZER;CN="Howling Woods Farm":MAILTO:luv2howl@optonline.net
END:VEVENT
BEGIN:VEVENT
DTSTART;TZID=UTC:20241019T100000
DTEND;TZID=UTC:20241019T160000
DTSTAMP:20260421T215930
CREATED:20240716T010824Z
LAST-MODIFIED:20240910T033319Z
UID:52583-1729332000-1729353600@howlingwoods.org
SUMMARY:Cranberry Festival - Chatsworth\, NJ
DESCRIPTION:Come to the Chatsworth Cranberry Festival to meet or have your photo taken with our animals.
URL:https://howlingwoods.org/event/cranberry-festival-chatsworth-nj/
END:VEVENT
BEGIN:VEVENT
DTSTART;TZID=UTC:20241020T100000
DTEND;TZID=UTC:20241020T160000
DTSTAMP:20260421T215930
CREATED:20240716T011614Z
LAST-MODIFIED:20240910T033225Z
UID:52588-1729418400-1729440000@howlingwoods.org
SUMMARY:Cranberry Festival - Chatsworth\, NJ
DESCRIPTION:Come to the Chatsworth Cranberry Festival to meet or have your photo taken with our animals.
URL:https://howlingwoods.org/event/cranberry-festival-chatsworth-nj-2/
END:VEVENT
BEGIN:VEVENT
DTSTART;TZID=UTC:20241021T180000
DTEND;TZID=UTC:20241021T190000
DTSTAMP:20260421T215930
CREATED:20240910T032940Z
LAST-MODIFIED:20240910T032940Z
UID:53011-1729533600-1729537200@howlingwoods.org
SUMMARY:Presentation - Piscataway Public Library
DESCRIPTION:Come to hear a presentation about wolves and meet two of our animals on October 21 at the Piscataway Public Library.
URL:https://howlingwoods.org/event/presentation-piscataway-public-library-2/
LOCATION:Piscataway Public Library
ORGANIZER;CN="Howling Woods Farm":MAILTO:luv2howl@optonline.net
END:VEVENT
BEGIN:VEVENT
DTSTART;VALUE=DATE:20241023
DTEND;VALUE=DATE:20241024
DTSTAMP:20260421T215930
CREATED:20240716T012821Z
LAST-MODIFIED:20240716T012821Z
UID:52596-1729641600-1729727999@howlingwoods.org
SUMMARY:Visit the Farm
DESCRIPTION:Come to the farm and meet Lyra\, Orion\, Sirius\, Raven\, Luna\, Jack\, Oberon\, Sayen\, Aristos\, Chante and our two new pups Buddy and Holly during a one hour tour of our facility. You must make an appointment before visiting\, and to schedule please call 609-901-1387.
URL:https://howlingwoods.org/event/visit-the-farm-687/
LOCATION:Howling Woods Farm\, 1371 W Veterans Hwy\, Jackson\, New Jersey\, 08527
ORGANIZER;CN="Howling Woods Farm":MAILTO:luv2howl@optonline.net
END:VEVENT
BEGIN:VEVENT
DTSTART;TZID=UTC:20241023T150000
DTEND;TZID=UTC:20241023T160000
DTSTAMP:20260421T215930
CREATED:20240716T013715Z
LAST-MODIFIED:20240716T013715Z
UID:52602-1729695600-1729699200@howlingwoods.org
SUMMARY:Presentation - Glen Ridge Public Library
DESCRIPTION:Come to hear a presentation about wolves and meet two of our animals on October 23 at the Glen Ridge Public Library.
URL:https://howlingwoods.org/event/presentation-glen-ridge-public-library/
END:VEVENT
BEGIN:VEVENT
DTSTART;VALUE=DATE:20241025
DTEND;VALUE=DATE:20241026
DTSTAMP:20260421T215930
CREATED:20240716T012907Z
LAST-MODIFIED:20240716T012907Z
UID:52598-1729814400-1729900799@howlingwoods.org
SUMMARY:Visit the Farm
DESCRIPTION:Come to the farm and meet Lyra\, Orion\, Sirius\, Raven\, Luna\, Jack\, Oberon\, Sayen\, Aristos\, Chante and our two new pups Buddy and Holly during a one hour tour of our facility. You must make an appointment before visiting\, and to schedule please call 609-901-1387.
URL:https://howlingwoods.org/event/visit-the-farm-688/
LOCATION:Howling Woods Farm\, 1371 W Veterans Hwy\, Jackson\, New Jersey\, 08527
ORGANIZER;CN="Howling Woods Farm":MAILTO:luv2howl@optonline.net
END:VEVENT
BEGIN:VEVENT
DTSTART;VALUE=DATE:20241026
DTEND;VALUE=DATE:20241027
DTSTAMP:20260421T215930
CREATED:20240716T012956Z
LAST-MODIFIED:20240716T012956Z
UID:52600-1729900800-1729987199@howlingwoods.org
SUMMARY:Visit the Farm
DESCRIPTION:Come to the farm and meet Lyra\, Orion\, Sirius\, Raven\, Luna\, Jack\, Oberon\, Sayen\, Aristos\, Chante and our two new pups Buddy and Holly during a one hour tour of our facility. You must make an appointment before visiting\, and to schedule please call 609-901-1387.
URL:https://howlingwoods.org/event/visit-the-farm-689/
LOCATION:Howling Woods Farm\, 1371 W Veterans Hwy\, Jackson\, New Jersey\, 08527
ORGANIZER;CN="Howling Woods Farm":MAILTO:luv2howl@optonline.net
END:VEVENT
BEGIN:VEVENT
DTSTART;VALUE=DATE:20241030
DTEND;VALUE=DATE:20241031
DTSTAMP:20260421T215930
CREATED:20240716T014222Z
LAST-MODIFIED:20240716T014222Z
UID:52607-1730246400-1730332799@howlingwoods.org
SUMMARY:Visit the Farm
DESCRIPTION:Come to the farm and meet Lyra\, Orion\, Sirius\, Raven\, Luna\, Jack\, Oberon\, Sayen\, Aristos\, Chante and our two new pups Buddy and Holly during a one hour tour of our facility. You must make an appointment before visiting\, and to schedule please call 609-901-1387.
URL:https://howlingwoods.org/event/visit-the-farm-690/
LOCATION:Howling Woods Farm\, 1371 W Veterans Hwy\, Jackson\, New Jersey\, 08527
ORGANIZER;CN="Howling Woods Farm":MAILTO:luv2howl@optonline.net
END:VEVENT
BEGIN:VEVENT
DTSTART;VALUE=DATE:20241101
DTEND;VALUE=DATE:20241102
DTSTAMP:20260421T215930
CREATED:20240716T014340Z
LAST-MODIFIED:20240716T014340Z
UID:52609-1730419200-1730505599@howlingwoods.org
SUMMARY:Visit the Farm
DESCRIPTION:Come to the farm and meet Lyra\, Orion\, Sirius\, Raven\, Luna\, Jack\, Oberon\, Sayen\, Aristos\, Chante and our two new pups Buddy and Holly during a one hour tour of our facility. You must make an appointment before visiting\, and to schedule please call 609-901-1387.
URL:https://howlingwoods.org/event/visit-the-farm-691/
LOCATION:Howling Woods Farm\, 1371 W Veterans Hwy\, Jackson\, New Jersey\, 08527
ORGANIZER;CN="Howling Woods Farm":MAILTO:luv2howl@optonline.net
END:VEVENT
BEGIN:VEVENT
DTSTART;TZID=UTC:20241102T110000
DTEND;TZID=UTC:20241102T123000
DTSTAMP:20260421T215930
CREATED:20240716T222131Z
LAST-MODIFIED:20240716T222131Z
UID:52648-1730545200-1730550600@howlingwoods.org
SUMMARY:Presentation - Belmar Public Library at Taylor Pavilion
DESCRIPTION:Come hear a presentation about wolves and meet two of our animals after the presentation.
URL:https://howlingwoods.org/event/presentation-belmar-public-library-at-taylor-pavilion/
LOCATION:Taylor Pavilion\, 500 Ocean Ave North\, Belmar\, NJ\, 07719
ORGANIZER;CN="Belmar Public Library":MAILTO:library@belmar.com
END:VEVENT
BEGIN:VEVENT
DTSTART;VALUE=DATE:20241103
DTEND;VALUE=DATE:20241104
DTSTAMP:20260421T215930
CREATED:20240716T014752Z
LAST-MODIFIED:20240716T014752Z
UID:52611-1730592000-1730678399@howlingwoods.org
SUMMARY:Visit the Farm
DESCRIPTION:Come to the farm and meet Lyra\, Orion\, Sirius\, Raven\, Luna\, Jack\, Oberon\, Sayen\, Aristos\, Chante and our two new pups Buddy and Holly during a one hour tour of our facility. You must make an appointment before visiting\, and to schedule please call 609-901-1387.
URL:https://howlingwoods.org/event/visit-the-farm-692/
LOCATION:Howling Woods Farm\, 1371 W Veterans Hwy\, Jackson\, New Jersey\, 08527
ORGANIZER;CN="Howling Woods Farm":MAILTO:luv2howl@optonline.net
END:VEVENT
BEGIN:VEVENT
DTSTART;VALUE=DATE:20241106
DTEND;VALUE=DATE:20241107
DTSTAMP:20260421T215930
CREATED:20240716T014840Z
LAST-MODIFIED:20240716T014840Z
UID:52613-1730851200-1730937599@howlingwoods.org
SUMMARY:Visit the Farm
DESCRIPTION:Come to the farm and meet Lyra\, Orion\, Sirius\, Raven\, Luna\, Jack\, Oberon\, Sayen\, Aristos\, Chante and our two new pups Buddy and Holly during a one hour tour of our facility. You must make an appointment before visiting\, and to schedule please call 609-901-1387.
URL:https://howlingwoods.org/event/visit-the-farm-693/
LOCATION:Howling Woods Farm\, 1371 W Veterans Hwy\, Jackson\, New Jersey\, 08527
ORGANIZER;CN="Howling Woods Farm":MAILTO:luv2howl@optonline.net
END:VEVENT
BEGIN:VEVENT
DTSTART;VALUE=DATE:20241108
DTEND;VALUE=DATE:20241109
DTSTAMP:20260421T215930
CREATED:20240716T014929Z
LAST-MODIFIED:20240716T014929Z
UID:52615-1731024000-1731110399@howlingwoods.org
SUMMARY:Visit the Farm
DESCRIPTION:Come to the farm and meet Lyra\, Orion\, Sirius\, Raven\, Luna\, Jack\, Oberon\, Sayen\, Aristos\, Chante and our two new pups Buddy and Holly during a one hour tour of our facility. You must make an appointment before visiting\, and to schedule please call 609-901-1387.
URL:https://howlingwoods.org/event/visit-the-farm-694/
LOCATION:Howling Woods Farm\, 1371 W Veterans Hwy\, Jackson\, New Jersey\, 08527
ORGANIZER;CN="Howling Woods Farm":MAILTO:luv2howl@optonline.net
END:VEVENT
BEGIN:VEVENT
DTSTART;TZID=UTC:20241110T090000
DTEND;TZID=UTC:20241110T160000
DTSTAMP:20260421T215930
CREATED:20240716T020158Z
LAST-MODIFIED:20240716T020158Z
UID:52619-1731229200-1731254400@howlingwoods.org
SUMMARY:Military Appreciation Day
DESCRIPTION:Veterans\, Active Duty\, First Responders and their families may visit the farm to meet our animals.  No reservation needed\, no donation required\, no age limits\, relaxed clothing restrictions.  We will have animals on leash in front to meet young children.  Adults and children 10 years and older will be given tours of the pens during which you can interact and have your photos taken with the animals.  Beginning at 0900\, tours start promptly on the half hour and last 30 minutes.  Last tour starts at 1530.  Visit our store to find great gifts for animal lovers.
URL:https://howlingwoods.org/event/military-appreciation-day-3/
LOCATION:Howling Woods Farm\, 1371 W Veterans Hwy\, Jackson\, New Jersey\, 08527
ORGANIZER;CN="Howling Woods Farm":MAILTO:luv2howl@optonline.net
END:VEVENT
BEGIN:VEVENT
DTSTART;VALUE=DATE:20241113
DTEND;VALUE=DATE:20241114
DTSTAMP:20260421T215930
CREATED:20240716T021259Z
LAST-MODIFIED:20240716T021259Z
UID:52621-1731456000-1731542399@howlingwoods.org
SUMMARY:Visit the Farm
DESCRIPTION:Come to the farm and meet Lyra\, Orion\, Sirius\, Raven\, Luna\, Jack\, Oberon\, Sayen\, Aristos\, Chante and our two new pups Buddy and Holly during a one hour tour of our facility.  Visit our store to find great gifts for animal lovers.  You must make an appointment before visiting\, and to schedule please call 609-901-1387.
URL:https://howlingwoods.org/event/visit-the-farm-696/
LOCATION:Howling Woods Farm\, 1371 W Veterans Hwy\, Jackson\, New Jersey\, 08527
ORGANIZER;CN="Howling Woods Farm":MAILTO:luv2howl@optonline.net
END:VEVENT
BEGIN:VEVENT
DTSTART;VALUE=DATE:20241115
DTEND;VALUE=DATE:20241116
DTSTAMP:20260421T215930
CREATED:20240716T021439Z
LAST-MODIFIED:20240716T021439Z
UID:52623-1731628800-1731715199@howlingwoods.org
SUMMARY:Visit the Farm
DESCRIPTION:Come to the farm and meet Lyra\, Orion\, Sirius\, Raven\, Luna\, Jack\, Oberon\, Sayen\, Aristos\, Chante and our two new pups Buddy and Holly during a one hour tour of our facility.  Visit our store to find great gifts for animal lovers.  You must make an appointment before visiting\, and to schedule please call 609-901-1387.
URL:https://howlingwoods.org/event/visit-the-farm-697/
LOCATION:Howling Woods Farm\, 1371 W Veterans Hwy\, Jackson\, New Jersey\, 08527
ORGANIZER;CN="Howling Woods Farm":MAILTO:luv2howl@optonline.net
END:VEVENT
BEGIN:VEVENT
DTSTART;VALUE=DATE:20241117
DTEND;VALUE=DATE:20241118
DTSTAMP:20260421T215930
CREATED:20240717T013451Z
LAST-MODIFIED:20240717T013451Z
UID:52661-1731801600-1731887999@howlingwoods.org
SUMMARY:Visit the Farm
DESCRIPTION:Come to the farm and meet Lyra\, Orion\, Sirius\, Raven\, Luna\, Jack\, Oberon\, Sayen\, Aristos\, Chante and our two new pups Buddy and Holly during a one hour tour of our facility. Visit our store to find great gifts for animal lovers. You must make an appointment before visiting\, and to schedule please call 609-901-1387.
URL:https://howlingwoods.org/event/visit-the-farm-695/
LOCATION:Howling Woods Farm\, 1371 W Veterans Hwy\, Jackson\, New Jersey\, 08527
ORGANIZER;CN="Howling Woods Farm":MAILTO:luv2howl@optonline.net
END:VEVENT
BEGIN:VEVENT
DTSTART;VALUE=DATE:20241120
DTEND;VALUE=DATE:20241121
DTSTAMP:20260421T215930
CREATED:20240717T013606Z
LAST-MODIFIED:20240717T013606Z
UID:52663-1732060800-1732147199@howlingwoods.org
SUMMARY:Visit the Farm
DESCRIPTION:Come to the farm and meet Lyra\, Orion\, Sirius\, Raven\, Luna\, Jack\, Oberon\, Sayen\, Aristos\, Chante and our two new pups Buddy and Holly during a one hour tour of our facility. Visit our store to find great gifts for animal lovers. You must make an appointment before visiting\, and to schedule please call 609-901-1387.
URL:https://howlingwoods.org/event/visit-the-farm-700/
LOCATION:Howling Woods Farm\, 1371 W Veterans Hwy\, Jackson\, New Jersey\, 08527
ORGANIZER;CN="Howling Woods Farm":MAILTO:luv2howl@optonline.net
END:VEVENT
BEGIN:VEVENT
DTSTART;VALUE=DATE:20241122
DTEND;VALUE=DATE:20241123
DTSTAMP:20260421T215930
CREATED:20240717T013753Z
LAST-MODIFIED:20240717T013753Z
UID:52665-1732233600-1732319999@howlingwoods.org
SUMMARY:Visit the Farm
DESCRIPTION:Come to the farm and meet Lyra\, Orion\, Sirius\, Raven\, Luna\, Jack\, Oberon\, Sayen\, Aristos\, Chante and our two new pups Buddy and Holly during a one hour tour of our facility. Visit our store to find great gifts for animal lovers. You must make an appointment before visiting\, and to schedule please call 609-901-1387.
URL:https://howlingwoods.org/event/visit-the-farm-704/
LOCATION:Howling Woods Farm\, 1371 W Veterans Hwy\, Jackson\, New Jersey\, 08527
ORGANIZER;CN="Howling Woods Farm":MAILTO:luv2howl@optonline.net
END:VEVENT
BEGIN:VEVENT
DTSTART;VALUE=DATE:20241123
DTEND;VALUE=DATE:20241124
DTSTAMP:20260421T215930
CREATED:20240717T014935Z
LAST-MODIFIED:20240717T014935Z
UID:52669-1732320000-1732406399@howlingwoods.org
SUMMARY:Visit the Farm
DESCRIPTION:Come to the farm and meet Lyra\, Orion\, Sirius\, Raven\, Luna\, Jack\, Oberon\, Sayen\, Aristos\, Chante and our two new pups Buddy and Holly during a one hour tour of our facility. Visit our store to find great gifts for animal lovers. You must make an appointment before visiting\, and to schedule please call 609-901-1387.
URL:https://howlingwoods.org/event/visit-the-farm-705/
LOCATION:Howling Woods Farm\, 1371 W Veterans Hwy\, Jackson\, New Jersey\, 08527
ORGANIZER;CN="Howling Woods Farm":MAILTO:luv2howl@optonline.net
END:VEVENT
BEGIN:VEVENT
DTSTART;VALUE=DATE:20241127
DTEND;VALUE=DATE:20241128
DTSTAMP:20260421T215930
CREATED:20240717T015018Z
LAST-MODIFIED:20240717T015018Z
UID:52671-1732665600-1732751999@howlingwoods.org
SUMMARY:Visit the Farm
DESCRIPTION:Come to the farm and meet Lyra\, Orion\, Sirius\, Raven\, Luna\, Jack\, Oberon\, Sayen\, Aristos\, Chante and our two new pups Buddy and Holly during a one hour tour of our facility. Visit our store to find great gifts for animal lovers. You must make an appointment before visiting\, and to schedule please call 609-901-1387.
URL:https://howlingwoods.org/event/visit-the-farm-706/
LOCATION:Howling Woods Farm\, 1371 W Veterans Hwy\, Jackson\, New Jersey\, 08527
ORGANIZER;CN="Howling Woods Farm":MAILTO:luv2howl@optonline.net
END:VEVENT
BEGIN:VEVENT
DTSTART;VALUE=DATE:20241128
DTEND;VALUE=DATE:20241129
DTSTAMP:20260421T215930
CREATED:20241120T234720Z
LAST-MODIFIED:20241120T234720Z
UID:53564-1732752000-1732838399@howlingwoods.org
SUMMARY:Farm Closed
DESCRIPTION:
URL:https://howlingwoods.org/event/farm-closed-531/
END:VEVENT
BEGIN:VEVENT
DTSTART;VALUE=DATE:20241129
DTEND;VALUE=DATE:20241130
DTSTAMP:20260421T215930
CREATED:20240717T015114Z
LAST-MODIFIED:20240717T015114Z
UID:52673-1732838400-1732924799@howlingwoods.org
SUMMARY:Visit the Farm
DESCRIPTION:Come to the farm and meet Lyra\, Orion\, Sirius\, Raven\, Luna\, Jack\, Oberon\, Sayen\, Aristos\, Chante and our two new pups Buddy and Holly during a one hour tour of our facility. Visit our store to find great gifts for animal lovers. You must make an appointment before visiting\, and to schedule please call 609-901-1387.
URL:https://howlingwoods.org/event/visit-the-farm-707/
LOCATION:Howling Woods Farm\, 1371 W Veterans Hwy\, Jackson\, New Jersey\, 08527
ORGANIZER;CN="Howling Woods Farm":MAILTO:luv2howl@optonline.net
END:VEVENT
BEGIN:VEVENT
DTSTART;VALUE=DATE:20241201
DTEND;VALUE=DATE:20241202
DTSTAMP:20260421T215930
CREATED:20240716T030117Z
LAST-MODIFIED:20240716T030117Z
UID:52631-1733011200-1733097599@howlingwoods.org
SUMMARY:Visit the Farm
DESCRIPTION:Come to the farm and meet Lyra\, Orion\, Sirius\, Raven\, Luna\, Jack\, Oberon\, Sayen\, Aristos\, Chante and our two new pups Buddy and Holly during a one hour tour of our facility.  Visit our gift shop to find cool gifts for animal lovers.  You must make an appointment before visiting\, and to schedule please call 609-901-1387.
URL:https://howlingwoods.org/event/visit-the-farm-698/
LOCATION:Howling Woods Farm\, 1371 W Veterans Hwy\, Jackson\, New Jersey\, 08527
ORGANIZER;CN="Howling Woods Farm":MAILTO:luv2howl@optonline.net
END:VEVENT
BEGIN:VEVENT
DTSTART;TZID=UTC:20241201T100000
DTEND;TZID=UTC:20241201T160000
DTSTAMP:20260421T215930
CREATED:20240716T024015Z
LAST-MODIFIED:20240716T024015Z
UID:52625-1733047200-1733068800@howlingwoods.org
SUMMARY:Photos with Santa and his Wolf
DESCRIPTION:Come to the farm and have your photo taken with Santa and his wolf.  No reservations required\, no age restrictions.  You can bring your pet(s)\, but his wolf will not be in the photo.  Santa arrives at 10am and will be staying until 4pm. \nFor a tour of the farm you must make a reservation in advance by calling 609-901-1387.
URL:https://howlingwoods.org/event/photos-with-santa-and-his-wolf-4/
LOCATION:Howling Woods Farm\, 1371 W Veterans Hwy\, Jackson\, New Jersey\, 08527
ORGANIZER;CN="Howling Woods Farm":MAILTO:luv2howl@optonline.net
END:VEVENT
BEGIN:VEVENT
DTSTART;VALUE=DATE:20241204
DTEND;VALUE=DATE:20241205
DTSTAMP:20260421T215930
CREATED:20240717T015431Z
LAST-MODIFIED:20240717T015431Z
UID:52675-1733270400-1733356799@howlingwoods.org
SUMMARY:Visit the Farm
DESCRIPTION:Come to the farm and meet Lyra\, Orion\, Sirius\, Raven\, Luna\, Jack\, Oberon\, Sayen\, Aristos\, Chante and our two new pups Buddy and Holly during a one hour tour of our facility. Visit our store to find great gifts for animal lovers. You must make an appointment before visiting\, and to schedule please call 609-901-1387.
URL:https://howlingwoods.org/event/visit-the-farm-708/
LOCATION:Howling Woods Farm\, 1371 W Veterans Hwy\, Jackson\, New Jersey\, 08527
ORGANIZER;CN="Howling Woods Farm":MAILTO:luv2howl@optonline.net
END:VEVENT
BEGIN:VEVENT
DTSTART;VALUE=DATE:20241205
DTEND;VALUE=DATE:20241206
DTSTAMP:20260421T215930
CREATED:20241120T233750Z
LAST-MODIFIED:20241120T233750Z
UID:53552-1733356800-1733443199@howlingwoods.org
SUMMARY:Visit the Farm
DESCRIPTION:Come to the farm and meet Lyra\, Orion\, Sirius\, Raven\, Luna\, Jack\, Oberon\, Sayen\, Aristos\, Chante and our two new pups Buddy and Holly during a one hour tour of our facility.  Visit our gift shop to find cool gifts for animal lovers.  You must make an appointment before visiting\, and to schedule please call 609-901-1387.
URL:https://howlingwoods.org/event/visit-the-farm-716/
LOCATION:Howling Woods Farm\, 1371 W Veterans Hwy\, Jackson\, New Jersey\, 08527
ORGANIZER;CN="Howling Woods Farm":MAILTO:luv2howl@optonline.net
END:VEVENT
END:VCALENDAR