BEGIN:VCALENDAR
VERSION:2.0
PRODID:-//Howling Woods Farm - ECPv6.15.20//NONSGML v1.0//EN
CALSCALE:GREGORIAN
METHOD:PUBLISH
X-WR-CALNAME:Howling Woods Farm
X-ORIGINAL-URL:https://howlingwoods.org
X-WR-CALDESC:Events for Howling Woods Farm
REFRESH-INTERVAL;VALUE=DURATION:PT1H
X-Robots-Tag:noindex
X-PUBLISHED-TTL:PT1H
BEGIN:VTIMEZONE
TZID:UTC
BEGIN:STANDARD
TZOFFSETFROM:+0000
TZOFFSETTO:+0000
TZNAME:UTC
DTSTART:20190101T000000
END:STANDARD
END:VTIMEZONE
BEGIN:VEVENT
DTSTART;VALUE=DATE:20210315
DTEND;VALUE=DATE:20210316
DTSTAMP:20260421T180431
CREATED:20210216T003933Z
LAST-MODIFIED:20210216T003933Z
UID:40391-1615766400-1615852799@howlingwoods.org
SUMMARY:Farm Closed
DESCRIPTION:
URL:https://howlingwoods.org/event/farm-closed-304/
END:VEVENT
BEGIN:VEVENT
DTSTART;TZID=UTC:20210314T090000
DTEND;TZID=UTC:20210314T160000
DTSTAMP:20260421T180431
CREATED:20210216T011650Z
LAST-MODIFIED:20210216T011650Z
UID:40437-1615712400-1615737600@howlingwoods.org
SUMMARY:Book Signing/Open House
DESCRIPTION:Join us for an open house featuring a book signing for “New Jersey’s Lost Piney Culture” by William J. Lewis.  Come and spend time chatting with the author\, and meet a few of our animals who will be out on leash for children of all ages to meet.  Enjoy a cup of fresh brewed coffee from Pinelands Coffee Roasters LLC who will also be present.  9am to 4pm.
URL:https://howlingwoods.org/event/book-signing-open-house/
LOCATION:Howling Woods Farm\, 1371 W Veterans Hwy\, Jackson\, New Jersey\, 08527
ORGANIZER;CN="Howling Woods Farm":MAILTO:luv2howl@optonline.net
END:VEVENT
BEGIN:VEVENT
DTSTART;VALUE=DATE:20210314
DTEND;VALUE=DATE:20210315
DTSTAMP:20260421T180431
CREATED:20210216T005032Z
LAST-MODIFIED:20210216T005032Z
UID:40415-1615680000-1615766399@howlingwoods.org
SUMMARY:Visit the Farm
DESCRIPTION:Come and meet Kotori\, Naiche\, Chante\, Sirius\, Orion\, Raven\, Luna\, Jack and Sayen.  Learn about wolves during a one-hour interactive tour of the farm. For appointment call 609-901-1387.  Be sure to call at least three weeks in advance to visit on a weekend.
URL:https://howlingwoods.org/event/visit-the-farm-283/
LOCATION:Howling Woods Farm\, 1371 W Veterans Hwy\, Jackson\, New Jersey\, 08527
ORGANIZER;CN="Howling Woods Farm":MAILTO:luv2howl@optonline.net
END:VEVENT
BEGIN:VEVENT
DTSTART;VALUE=DATE:20210313
DTEND;VALUE=DATE:20210314
DTSTAMP:20260421T180431
CREATED:20210216T003901Z
LAST-MODIFIED:20210216T003901Z
UID:40389-1615593600-1615679999@howlingwoods.org
SUMMARY:Farm Closed
DESCRIPTION:
URL:https://howlingwoods.org/event/farm-closed-303/
END:VEVENT
BEGIN:VEVENT
DTSTART;VALUE=DATE:20210309
DTEND;VALUE=DATE:20210313
DTSTAMP:20260421T180431
CREATED:20210216T004936Z
LAST-MODIFIED:20210216T004936Z
UID:40413-1615248000-1615593599@howlingwoods.org
SUMMARY:Visit the Farm
DESCRIPTION:Come and meet Kotori\, Naiche\, Chante\, Sirius\, Orion\, Raven\, Luna\, Jack and Sayen.  Learn about wolves during a one-hour interactive tour of the farm. For appointment call 609-901-1387.  Be sure to call at least three weeks in advance to visit on a weekend.
URL:https://howlingwoods.org/event/visit-the-farm-282/
LOCATION:Howling Woods Farm\, 1371 W Veterans Hwy\, Jackson\, New Jersey\, 08527
ORGANIZER;CN="Howling Woods Farm":MAILTO:luv2howl@optonline.net
END:VEVENT
BEGIN:VEVENT
DTSTART;VALUE=DATE:20210307
DTEND;VALUE=DATE:20210309
DTSTAMP:20260421T180431
CREATED:20210216T003830Z
LAST-MODIFIED:20210216T003830Z
UID:40387-1615075200-1615247999@howlingwoods.org
SUMMARY:Farm Closed
DESCRIPTION:
URL:https://howlingwoods.org/event/farm-closed-302/
END:VEVENT
BEGIN:VEVENT
DTSTART;VALUE=DATE:20210302
DTEND;VALUE=DATE:20210307
DTSTAMP:20260421T180431
CREATED:20210216T004823Z
LAST-MODIFIED:20210216T004823Z
UID:40411-1614643200-1615075199@howlingwoods.org
SUMMARY:Visit the Farm
DESCRIPTION:Come and meet Kotori\, Naiche\, Chante\, Sirius\, Orion\, Raven\, Luna\, Jack and Sayen.  Learn about wolves during a one-hour interactive tour of the farm. For appointment call 609-901-1387.  Be sure to call at least three weeks in advance to visit on a weekend.
URL:https://howlingwoods.org/event/visit-the-farm-281/
LOCATION:Howling Woods Farm\, 1371 W Veterans Hwy\, Jackson\, New Jersey\, 08527
ORGANIZER;CN="Howling Woods Farm":MAILTO:luv2howl@optonline.net
END:VEVENT
BEGIN:VEVENT
DTSTART;VALUE=DATE:20210301
DTEND;VALUE=DATE:20210302
DTSTAMP:20260421T180431
CREATED:20210216T003750Z
LAST-MODIFIED:20210216T003750Z
UID:40385-1614556800-1614643199@howlingwoods.org
SUMMARY:Farm Closed
DESCRIPTION:
URL:https://howlingwoods.org/event/farm-closed-301/
END:VEVENT
BEGIN:VEVENT
DTSTART;VALUE=DATE:20210228
DTEND;VALUE=DATE:20210301
DTSTAMP:20260421T180431
CREATED:20210215T071330Z
LAST-MODIFIED:20210215T071330Z
UID:40378-1614470400-1614556799@howlingwoods.org
SUMMARY:Visit the Farm
DESCRIPTION:Come and meet Kotori\, Naiche\, Chante\, Sirius\, Orion\, Raven\, Luna\, Jack and Sayen.  Learn about wolves during a one-hour tour of the farm. For appointment call 609-901-1387.  Be sure to call at least three weeks in advance to visit on a weekend.
URL:https://howlingwoods.org/event/visit-the-farm-280/
LOCATION:Howling Woods Farm\, 1371 W Veterans Hwy\, Jackson\, New Jersey\, 08527
ORGANIZER;CN="Howling Woods Farm":MAILTO:luv2howl@optonline.net
END:VEVENT
BEGIN:VEVENT
DTSTART;VALUE=DATE:20210227
DTEND;VALUE=DATE:20210228
DTSTAMP:20260421T180431
CREATED:20210215T071203Z
LAST-MODIFIED:20210215T071235Z
UID:40376-1614384000-1614470399@howlingwoods.org
SUMMARY:Farm Closed
DESCRIPTION:
URL:https://howlingwoods.org/event/farm-closed-299/
END:VEVENT
BEGIN:VEVENT
DTSTART;VALUE=DATE:20210223
DTEND;VALUE=DATE:20210227
DTSTAMP:20260421T180431
CREATED:20210215T071024Z
LAST-MODIFIED:20210215T071024Z
UID:40374-1614038400-1614383999@howlingwoods.org
SUMMARY:Visit the Farm
DESCRIPTION:Come and meet Kotori\, Naiche\, Chante\, Sirius\, Orion\, Raven\, Luna\, Jack and Sayen.  Learn about wolves during a one-hour tour of the farm. For appointment call 609-901-1387.  Be sure to call at least three weeks in advance to visit on a weekend.
URL:https://howlingwoods.org/event/visit-the-farm-279/
LOCATION:Howling Woods Farm\, 1371 W Veterans Hwy\, Jackson\, New Jersey\, 08527
ORGANIZER;CN="Howling Woods Farm":MAILTO:luv2howl@optonline.net
END:VEVENT
BEGIN:VEVENT
DTSTART;VALUE=DATE:20210221
DTEND;VALUE=DATE:20210223
DTSTAMP:20260421T180431
CREATED:20210215T070741Z
LAST-MODIFIED:20210215T070741Z
UID:40372-1613865600-1614038399@howlingwoods.org
SUMMARY:Farm Closed
DESCRIPTION:
URL:https://howlingwoods.org/event/farm-closed-298/
END:VEVENT
BEGIN:VEVENT
DTSTART;VALUE=DATE:20210220
DTEND;VALUE=DATE:20210221
DTSTAMP:20260421T180431
CREATED:20210215T070349Z
LAST-MODIFIED:20210215T070349Z
UID:40369-1613779200-1613865599@howlingwoods.org
SUMMARY:Visit the Farm
DESCRIPTION:Come and meet Kotori\, Naiche\, Chante\, Sirius\, Orion\, Raven\, Luna\, Jack and Sayen.  Learn about wolves during a one-hour tour of the farm. For appointment call 609-901-1387. Please be sure to call at least three weeks in advance if you wish to visit on a weekend.
URL:https://howlingwoods.org/event/visit-the-farm-278/
LOCATION:Howling Woods Farm\, 1371 W Veterans Hwy\, Jackson\, New Jersey\, 08527
ORGANIZER;CN="Howling Woods Farm":MAILTO:luv2howl@optonline.net
END:VEVENT
BEGIN:VEVENT
DTSTART;VALUE=DATE:20210215
DTEND;VALUE=DATE:20210220
DTSTAMP:20260421T180431
CREATED:20210215T071446Z
LAST-MODIFIED:20210215T071446Z
UID:40380-1613347200-1613779199@howlingwoods.org
SUMMARY:Farm Closed
DESCRIPTION:
URL:https://howlingwoods.org/event/farm-closed-300/
END:VEVENT
BEGIN:VEVENT
DTSTART;VALUE=DATE:20201129
DTEND;VALUE=DATE:20201201
DTSTAMP:20260421T180431
CREATED:20200906T083724Z
LAST-MODIFIED:20200906T083724Z
UID:38165-1606608000-1606780799@howlingwoods.org
SUMMARY:Farm Closed
DESCRIPTION:
URL:https://howlingwoods.org/event/farm-closed-290/
END:VEVENT
BEGIN:VEVENT
DTSTART;VALUE=DATE:20201127
DTEND;VALUE=DATE:20201129
DTSTAMP:20260421T180431
CREATED:20200906T083627Z
LAST-MODIFIED:20200906T083627Z
UID:38163-1606435200-1606607999@howlingwoods.org
SUMMARY:Visit the Farm
DESCRIPTION:Come and meet Kotori\, Naiche\, Chante\, Sirius\, Orion\, Raven and Luna. Learn about wolves during a one-hour tour of the farm. For appointment call 609-901-1387. Please be sure to call at least one week in advance if you wish to visit on a weekend.
URL:https://howlingwoods.org/event/visit-the-farm-277/
LOCATION:Howling Woods Farm\, 1371 W Veterans Hwy\, Jackson\, New Jersey\, 08527
ORGANIZER;CN="Howling Woods Farm":MAILTO:luv2howl@optonline.net
END:VEVENT
BEGIN:VEVENT
DTSTART;VALUE=DATE:20201126
DTEND;VALUE=DATE:20201127
DTSTAMP:20260421T180431
CREATED:20200906T084232Z
LAST-MODIFIED:20200906T084232Z
UID:38179-1606348800-1606435199@howlingwoods.org
SUMMARY:Farm Closed
DESCRIPTION:
URL:https://howlingwoods.org/event/farm-closed-297/
END:VEVENT
BEGIN:VEVENT
DTSTART;VALUE=DATE:20201124
DTEND;VALUE=DATE:20201126
DTSTAMP:20260421T180431
CREATED:20200906T083321Z
LAST-MODIFIED:20200906T083454Z
UID:38161-1606176000-1606348799@howlingwoods.org
SUMMARY:Visit the Farm
DESCRIPTION:Come and meet Kotori\, Naiche\, Chante\, Sirius\, Orion\, Raven and Luna. Learn about wolves during a one-hour tour of the farm. For appointment call 609-901-1387. Please be sure to call at least one week in advance if you wish to visit on a weekend.
URL:https://howlingwoods.org/event/visit-the-farm-276/
LOCATION:Howling Woods Farm\, 1371 W Veterans Hwy\, Jackson\, New Jersey\, 08527
ORGANIZER;CN="Howling Woods Farm":MAILTO:luv2howl@optonline.net
END:VEVENT
BEGIN:VEVENT
DTSTART;VALUE=DATE:20201123
DTEND;VALUE=DATE:20201124
DTSTAMP:20260421T180431
CREATED:20200906T084158Z
LAST-MODIFIED:20200906T084158Z
UID:38177-1606089600-1606175999@howlingwoods.org
SUMMARY:Farm Closed
DESCRIPTION:
URL:https://howlingwoods.org/event/farm-closed-296/
END:VEVENT
BEGIN:VEVENT
DTSTART;VALUE=DATE:20201122
DTEND;VALUE=DATE:20201123
DTSTAMP:20260421T180431
CREATED:20200906T083218Z
LAST-MODIFIED:20200906T083218Z
UID:38159-1606003200-1606089599@howlingwoods.org
SUMMARY:Visit the Farm
DESCRIPTION:Come and meet Kotori\, Naiche\, Chante\, Sirius\, Orion\, Raven and Luna. Learn about wolves during a one-hour tour of the farm. For appointment call 609-901-1387. Please be sure to call at least one week in advance if you wish to visit on a weekend.
URL:https://howlingwoods.org/event/visit-the-farm-275/
LOCATION:Howling Woods Farm\, 1371 W Veterans Hwy\, Jackson\, New Jersey\, 08527
ORGANIZER;CN="Howling Woods Farm":MAILTO:luv2howl@optonline.net
END:VEVENT
BEGIN:VEVENT
DTSTART;VALUE=DATE:20201121
DTEND;VALUE=DATE:20201122
DTSTAMP:20260421T180431
CREATED:20200906T084114Z
LAST-MODIFIED:20200906T084114Z
UID:38175-1605916800-1606003199@howlingwoods.org
SUMMARY:Farm Closed
DESCRIPTION:
URL:https://howlingwoods.org/event/farm-closed-295/
END:VEVENT
BEGIN:VEVENT
DTSTART;VALUE=DATE:20201117
DTEND;VALUE=DATE:20201121
DTSTAMP:20260421T180431
CREATED:20200906T083106Z
LAST-MODIFIED:20200906T083106Z
UID:38157-1605571200-1605916799@howlingwoods.org
SUMMARY:Visit the Farm
DESCRIPTION:Come and meet Kotori\, Naiche\, Chante\, Sirius\, Orion\, Raven and Luna. Learn about wolves during a one-hour tour of the farm. For appointment call 609-901-1387. Please be sure to call at least one week in advance if you wish to visit on a weekend.
URL:https://howlingwoods.org/event/visit-the-farm-274/
LOCATION:Howling Woods Farm\, 1371 W Veterans Hwy\, Jackson\, New Jersey\, 08527
ORGANIZER;CN="Howling Woods Farm":MAILTO:luv2howl@optonline.net
END:VEVENT
BEGIN:VEVENT
DTSTART;VALUE=DATE:20201115
DTEND;VALUE=DATE:20201117
DTSTAMP:20260421T180431
CREATED:20200906T084035Z
LAST-MODIFIED:20200906T084035Z
UID:38173-1605398400-1605571199@howlingwoods.org
SUMMARY:Farm Closed
DESCRIPTION:
URL:https://howlingwoods.org/event/farm-closed-294/
END:VEVENT
BEGIN:VEVENT
DTSTART;VALUE=DATE:20201110
DTEND;VALUE=DATE:20201115
DTSTAMP:20260421T180431
CREATED:20200906T082935Z
LAST-MODIFIED:20200906T082935Z
UID:38155-1604966400-1605398399@howlingwoods.org
SUMMARY:Visit the Farm
DESCRIPTION:Come and meet Kotori\, Naiche\, Chante\, Sirius\, Orion\, Raven and Luna. Learn about wolves during a one-hour tour of the farm. For appointment call 609-901-1387. Please be sure to call at least one week in advance if you wish to visit on a weekend.
URL:https://howlingwoods.org/event/visit-the-farm-273/
LOCATION:Howling Woods Farm\, 1371 W Veterans Hwy\, Jackson\, New Jersey\, 08527
ORGANIZER;CN="Howling Woods Farm":MAILTO:luv2howl@optonline.net
END:VEVENT
BEGIN:VEVENT
DTSTART;VALUE=DATE:20201109
DTEND;VALUE=DATE:20201110
DTSTAMP:20260421T180431
CREATED:20200906T083956Z
LAST-MODIFIED:20200906T083956Z
UID:38171-1604880000-1604966399@howlingwoods.org
SUMMARY:Farm Closed
DESCRIPTION:
URL:https://howlingwoods.org/event/farm-closed-293/
END:VEVENT
BEGIN:VEVENT
DTSTART;VALUE=DATE:20201108
DTEND;VALUE=DATE:20201109
DTSTAMP:20260421T180431
CREATED:20200906T082807Z
LAST-MODIFIED:20200906T082807Z
UID:38153-1604793600-1604879999@howlingwoods.org
SUMMARY:Visit the Farm
DESCRIPTION:Come and meet Kotori\, Naiche\, Chante\, Sirius\, Orion\, Raven and Luna. Learn about wolves during a one-hour tour of the farm. For appointment call 609-901-1387. Please be sure to call at least one week in advance if you wish to visit on a weekend.
URL:https://howlingwoods.org/event/visit-the-farm-272/
LOCATION:Howling Woods Farm\, 1371 W Veterans Hwy\, Jackson\, New Jersey\, 08527
ORGANIZER;CN="Howling Woods Farm":MAILTO:luv2howl@optonline.net
END:VEVENT
BEGIN:VEVENT
DTSTART;VALUE=DATE:20201107
DTEND;VALUE=DATE:20201108
DTSTAMP:20260421T180431
CREATED:20200906T083924Z
LAST-MODIFIED:20200906T083924Z
UID:38169-1604707200-1604793599@howlingwoods.org
SUMMARY:Farm Closed
DESCRIPTION:
URL:https://howlingwoods.org/event/farm-closed-292/
END:VEVENT
BEGIN:VEVENT
DTSTART;VALUE=DATE:20201103
DTEND;VALUE=DATE:20201107
DTSTAMP:20260421T180431
CREATED:20200906T082659Z
LAST-MODIFIED:20200906T082659Z
UID:38151-1604361600-1604707199@howlingwoods.org
SUMMARY:Visit the Farm
DESCRIPTION:Come and meet Kotori\, Naiche\, Chante\, Sirius\, Orion\, Raven and Luna. Learn about wolves during a one-hour tour of the farm. For appointment call 609-901-1387. Please be sure to call at least one week in advance if you wish to visit on a weekend.
URL:https://howlingwoods.org/event/visit-the-farm-271/
LOCATION:Howling Woods Farm\, 1371 W Veterans Hwy\, Jackson\, New Jersey\, 08527
ORGANIZER;CN="Howling Woods Farm":MAILTO:luv2howl@optonline.net
END:VEVENT
BEGIN:VEVENT
DTSTART;VALUE=DATE:20201101
DTEND;VALUE=DATE:20201103
DTSTAMP:20260421T180431
CREATED:20200906T083835Z
LAST-MODIFIED:20200906T083835Z
UID:38167-1604188800-1604361599@howlingwoods.org
SUMMARY:Farm Closed
DESCRIPTION:
URL:https://howlingwoods.org/event/farm-closed-291/
END:VEVENT
BEGIN:VEVENT
DTSTART;VALUE=DATE:20201027
DTEND;VALUE=DATE:20201101
DTSTAMP:20260421T180431
CREATED:20200730T111034Z
LAST-MODIFIED:20200730T111034Z
UID:37551-1603756800-1604188799@howlingwoods.org
SUMMARY:Visit the Farm
DESCRIPTION:Come and meet Kotori\, Naiche\, Chante\, Sirius\, Orion\, Raven and Luna. Learn about wolves during a one-hour tour of the farm. For appointment call 609-901-1387. Please be sure to call at least one week in advance if you wish to visit on a weekend.
URL:https://howlingwoods.org/event/visit-the-farm-270/
LOCATION:Howling Woods Farm\, 1371 W Veterans Hwy\, Jackson\, New Jersey\, 08527
END:VEVENT
END:VCALENDAR