BEGIN:VCALENDAR
VERSION:2.0
PRODID:-//Howling Woods Farm - ECPv6.15.20//NONSGML v1.0//EN
CALSCALE:GREGORIAN
METHOD:PUBLISH
X-WR-CALNAME:Howling Woods Farm
X-ORIGINAL-URL:https://howlingwoods.org
X-WR-CALDESC:Events for Howling Woods Farm
REFRESH-INTERVAL;VALUE=DURATION:PT1H
X-Robots-Tag:noindex
X-PUBLISHED-TTL:PT1H
BEGIN:VTIMEZONE
TZID:UTC
BEGIN:STANDARD
TZOFFSETFROM:+0000
TZOFFSETTO:+0000
TZNAME:UTC
DTSTART:20200101T000000
END:STANDARD
END:VTIMEZONE
BEGIN:VEVENT
DTSTART;VALUE=DATE:20210829
DTEND;VALUE=DATE:20210830
DTSTAMP:20260421T101441
CREATED:20210503T032220Z
LAST-MODIFIED:20210503T032220Z
UID:40863-1630195200-1630281599@howlingwoods.org
SUMMARY:Farm Closed
DESCRIPTION:
URL:https://howlingwoods.org/event/farm-closed-341/
END:VEVENT
BEGIN:VEVENT
DTSTART;TZID=UTC:20210825T190000
DTEND;TZID=UTC:20210825T220000
DTSTAMP:20260421T101441
CREATED:20210815T170136Z
LAST-MODIFIED:20210815T170136Z
UID:41604-1629918000-1629928800@howlingwoods.org
SUMMARY:Knights of the Inferno MC Bike Night
DESCRIPTION:Come and see two of our animals at the Knights of the Inferno Bike Night at Texas Roadhouse in Holmdel\, NJ 7pm-10pm
URL:https://howlingwoods.org/event/knights-of-the-inferno-mc-bike-night/
LOCATION:Texas Roadhouse\, Holmdel\, NJ\, 2105 NJ-35 Suite 103\, Holmdel\, NJ\, 07733\, United States
END:VEVENT
BEGIN:VEVENT
DTSTART;VALUE=DATE:20210824
DTEND;VALUE=DATE:20210829
DTSTAMP:20260421T101441
CREATED:20210503T031938Z
LAST-MODIFIED:20210503T031938Z
UID:40853-1629763200-1630195199@howlingwoods.org
SUMMARY:Visit the Farm
DESCRIPTION:Come to the farm and meet our animals Naiche\, Kotori\, Orion\, Sirius\, Raven\, Luna\, Jack\, Sayen & Chante during a one hour tour of our facility. You must make an appointment before visiting\, and to schedule an appointment please call 732-534-5745 or 609-901-1387 Monday thru Friday between 11am and 4pm. We usually book up 4 weeks in advance\, so please call ahead.
URL:https://howlingwoods.org/event/visit-the-farm-318/
LOCATION:Howling Woods Farm\, 1371 W Veterans Hwy\, Jackson\, New Jersey\, 08527
ORGANIZER;CN="Howling Woods Farm":MAILTO:luv2howl@optonline.net
END:VEVENT
BEGIN:VEVENT
DTSTART;VALUE=DATE:20210823
DTEND;VALUE=DATE:20210824
DTSTAMP:20260421T101441
CREATED:20210503T032152Z
LAST-MODIFIED:20210503T032152Z
UID:40861-1629676800-1629763199@howlingwoods.org
SUMMARY:Farm Closed
DESCRIPTION:
URL:https://howlingwoods.org/event/farm-closed-340/
END:VEVENT
BEGIN:VEVENT
DTSTART;VALUE=DATE:20210822
DTEND;VALUE=DATE:20210823
DTSTAMP:20260421T101441
CREATED:20210503T031832Z
LAST-MODIFIED:20210503T031832Z
UID:40851-1629590400-1629676799@howlingwoods.org
SUMMARY:Visit the Farm
DESCRIPTION:Come to the farm and meet our animals Naiche\, Kotori\, Orion\, Sirius\, Raven\, Luna\, Jack\, Sayen & Chante during a one hour tour of our facility. You must make an appointment before visiting\, and to schedule an appointment please call 732-534-5745 or 609-901-1387 Monday thru Friday between 11am and 4pm. We usually book up 4 weeks in advance\, so please call ahead.
URL:https://howlingwoods.org/event/visit-the-farm-317/
LOCATION:Howling Woods Farm\, 1371 W Veterans Hwy\, Jackson\, New Jersey\, 08527
ORGANIZER;CN="Howling Woods Farm":MAILTO:luv2howl@optonline.net
END:VEVENT
BEGIN:VEVENT
DTSTART;VALUE=DATE:20210821
DTEND;VALUE=DATE:20210822
DTSTAMP:20260421T101441
CREATED:20210503T032124Z
LAST-MODIFIED:20210503T032124Z
UID:40859-1629504000-1629590399@howlingwoods.org
SUMMARY:Farm Closed
DESCRIPTION:
URL:https://howlingwoods.org/event/farm-closed-339/
END:VEVENT
BEGIN:VEVENT
DTSTART;VALUE=DATE:20210817
DTEND;VALUE=DATE:20210821
DTSTAMP:20260421T101441
CREATED:20210503T031736Z
LAST-MODIFIED:20210503T031736Z
UID:40849-1629158400-1629503999@howlingwoods.org
SUMMARY:Visit the Farm
DESCRIPTION:Come to the farm and meet our animals Naiche\, Kotori\, Orion\, Sirius\, Raven\, Luna\, Jack\, Sayen & Chante during a one hour tour of our facility. You must make an appointment before visiting\, and to schedule an appointment please call 732-534-5745 or 609-901-1387 Monday thru Friday between 11am and 4pm. We usually book up 4 weeks in advance\, so please call ahead.
URL:https://howlingwoods.org/event/visit-the-farm-316/
LOCATION:Howling Woods Farm\, 1371 W Veterans Hwy\, Jackson\, New Jersey\, 08527
ORGANIZER;CN="Howling Woods Farm":MAILTO:luv2howl@optonline.net
END:VEVENT
BEGIN:VEVENT
DTSTART;VALUE=DATE:20210815
DTEND;VALUE=DATE:20210817
DTSTAMP:20260421T101441
CREATED:20210503T032049Z
LAST-MODIFIED:20210503T032049Z
UID:40857-1628985600-1629158399@howlingwoods.org
SUMMARY:Farm Closed
DESCRIPTION:
URL:https://howlingwoods.org/event/farm-closed-338/
END:VEVENT
BEGIN:VEVENT
DTSTART;VALUE=DATE:20210810
DTEND;VALUE=DATE:20210815
DTSTAMP:20260421T101441
CREATED:20210503T031608Z
LAST-MODIFIED:20210503T031608Z
UID:40847-1628553600-1628985599@howlingwoods.org
SUMMARY:Visit the Farm
DESCRIPTION:Come to the farm and meet our animals Naiche\, Kotori\, Orion\, Sirius\, Raven\, Luna\, Jack\, Sayen & Chante during a one hour tour of our facility. You must make an appointment before visiting\, and to schedule an appointment please call 732-534-5745 or 609-901-1387 Monday thru Friday between 11am and 4pm. We usually book up 4 weeks in advance\, so please call ahead.
URL:https://howlingwoods.org/event/visit-the-farm-315/
LOCATION:Howling Woods Farm\, 1371 W Veterans Hwy\, Jackson\, New Jersey\, 08527
ORGANIZER;CN="Howling Woods Farm":MAILTO:luv2howl@optonline.net
END:VEVENT
BEGIN:VEVENT
DTSTART;VALUE=DATE:20210809
DTEND;VALUE=DATE:20210810
DTSTAMP:20260421T101441
CREATED:20210503T032013Z
LAST-MODIFIED:20210503T032013Z
UID:40855-1628467200-1628553599@howlingwoods.org
SUMMARY:Farm Closed
DESCRIPTION:
URL:https://howlingwoods.org/event/farm-closed-337/
END:VEVENT
BEGIN:VEVENT
DTSTART;VALUE=DATE:20210808
DTEND;VALUE=DATE:20210809
DTSTAMP:20260421T101441
CREATED:20210503T031507Z
LAST-MODIFIED:20210503T031507Z
UID:40845-1628380800-1628467199@howlingwoods.org
SUMMARY:Visit the Farm
DESCRIPTION:Come to the farm and meet our animals Naiche\, Kotori\, Orion\, Sirius\, Raven\, Luna\, Jack\, Sayen & Chante during a one hour tour of our facility. You must make an appointment before visiting\, and to schedule an appointment please call 732-534-5745 or 609-901-1387 Monday thru Friday between 11am and 4pm. We usually book up 4 weeks in advance\, so please call ahead.
URL:https://howlingwoods.org/event/visit-the-farm-314/
LOCATION:Howling Woods Farm\, 1371 W Veterans Hwy\, Jackson\, New Jersey\, 08527
ORGANIZER;CN="Howling Woods Farm":MAILTO:luv2howl@optonline.net
END:VEVENT
BEGIN:VEVENT
DTSTART;VALUE=DATE:20210807
DTEND;VALUE=DATE:20210808
DTSTAMP:20260421T101441
CREATED:20210503T032404Z
LAST-MODIFIED:20210503T032404Z
UID:40865-1628294400-1628380799@howlingwoods.org
SUMMARY:Farm Closed
DESCRIPTION:
URL:https://howlingwoods.org/event/farm-closed-342/
END:VEVENT
BEGIN:VEVENT
DTSTART;VALUE=DATE:20210803
DTEND;VALUE=DATE:20210807
DTSTAMP:20260421T101441
CREATED:20210503T031404Z
LAST-MODIFIED:20210503T031404Z
UID:40843-1627948800-1628294399@howlingwoods.org
SUMMARY:Visit the Farm
DESCRIPTION:Come to the farm and meet our animals Naiche\, Kotori\, Orion\, Sirius\, Raven\, Luna\, Jack\, Sayen & Chante during a one hour tour of our facility. You must make an appointment before visiting\, and to schedule an appointment please call 732-534-5745 or 609-901-1387 Monday thru Friday between 11am and 4pm. We usually book up 4 weeks in advance\, so please call ahead.
URL:https://howlingwoods.org/event/visit-the-farm-313/
LOCATION:Howling Woods Farm\, 1371 W Veterans Hwy\, Jackson\, New Jersey\, 08527
ORGANIZER;CN="Howling Woods Farm":MAILTO:luv2howl@optonline.net
END:VEVENT
BEGIN:VEVENT
DTSTART;VALUE=DATE:20210802
DTEND;VALUE=DATE:20210803
DTSTAMP:20260421T101441
CREATED:20210503T030752Z
LAST-MODIFIED:20210503T030752Z
UID:40841-1627862400-1627948799@howlingwoods.org
SUMMARY:Farm Closed
DESCRIPTION:
URL:https://howlingwoods.org/event/farm-closed-336/
END:VEVENT
BEGIN:VEVENT
DTSTART;VALUE=DATE:20210801
DTEND;VALUE=DATE:20210802
DTSTAMP:20260421T101441
CREATED:20210415T092708Z
LAST-MODIFIED:20210415T092708Z
UID:40752-1627776000-1627862399@howlingwoods.org
SUMMARY:Farm Closed
DESCRIPTION:
URL:https://howlingwoods.org/event/farm-closed-334/
END:VEVENT
BEGIN:VEVENT
DTSTART;VALUE=DATE:20210727
DTEND;VALUE=DATE:20210801
DTSTAMP:20260421T101441
CREATED:20210415T093633Z
LAST-MODIFIED:20210415T093633Z
UID:40764-1627344000-1627775999@howlingwoods.org
SUMMARY:Visit the Farm
DESCRIPTION:Come and meet Kotori\, Naiche\, Chante\, Sirius\, Orion\, Raven\, Luna\, Jack and Sayen. Learn about wolves during a one-hour interactive tour of the farm. For appointment call 609-901-1387. Be sure to call at least three weeks in advance to visit on a weekend.
URL:https://howlingwoods.org/event/visit-the-farm-312/
LOCATION:Howling Woods Farm\, 1371 W Veterans Hwy\, Jackson\, New Jersey\, 08527
ORGANIZER;CN="Howling Woods Farm":MAILTO:luv2howl@optonline.net
END:VEVENT
BEGIN:VEVENT
DTSTART;VALUE=DATE:20210726
DTEND;VALUE=DATE:20210727
DTSTAMP:20260421T101441
CREATED:20210415T093733Z
LAST-MODIFIED:20210415T093733Z
UID:40766-1627257600-1627343999@howlingwoods.org
SUMMARY:Farm Closed
DESCRIPTION:
URL:https://howlingwoods.org/event/farm-closed-335/
END:VEVENT
BEGIN:VEVENT
DTSTART;VALUE=DATE:20210725
DTEND;VALUE=DATE:20210726
DTSTAMP:20260421T101441
CREATED:20210415T093439Z
LAST-MODIFIED:20210415T093439Z
UID:40762-1627171200-1627257599@howlingwoods.org
SUMMARY:Visit the Farm
DESCRIPTION:Come and meet Kotori\, Naiche\, Chante\, Sirius\, Orion\, Raven\, Luna\, Jack and Sayen. Learn about wolves during a one-hour interactive tour of the farm. For appointment call 609-901-1387. Be sure to call at least three weeks in advance to visit on a weekend.
URL:https://howlingwoods.org/event/visit-the-farm-311/
LOCATION:Howling Woods Farm\, 1371 W Veterans Hwy\, Jackson\, New Jersey\, 08527
ORGANIZER;CN="Howling Woods Farm":MAILTO:luv2howl@optonline.net
END:VEVENT
BEGIN:VEVENT
DTSTART;VALUE=DATE:20210724
DTEND;VALUE=DATE:20210725
DTSTAMP:20260421T101441
CREATED:20210415T092610Z
LAST-MODIFIED:20210415T092610Z
UID:40750-1627084800-1627171199@howlingwoods.org
SUMMARY:Farm Closed
DESCRIPTION:
URL:https://howlingwoods.org/event/farm-closed-333/
END:VEVENT
BEGIN:VEVENT
DTSTART;VALUE=DATE:20210720
DTEND;VALUE=DATE:20210724
DTSTAMP:20260421T101441
CREATED:20210415T093211Z
LAST-MODIFIED:20210415T093211Z
UID:40760-1626739200-1627084799@howlingwoods.org
SUMMARY:Visit the Farm
DESCRIPTION:Come and meet Kotori\, Naiche\, Chante\, Sirius\, Orion\, Raven\, Luna\, Jack and Sayen. Learn about wolves during a one-hour interactive tour of the farm. For appointment call 609-901-1387. Be sure to call at least three weeks in advance to visit on a weekend.
URL:https://howlingwoods.org/event/visit-the-farm-310/
LOCATION:Howling Woods Farm\, 1371 W Veterans Hwy\, Jackson\, New Jersey\, 08527
ORGANIZER;CN="Howling Woods Farm":MAILTO:luv2howl@optonline.net
END:VEVENT
BEGIN:VEVENT
DTSTART;VALUE=DATE:20210718
DTEND;VALUE=DATE:20210720
DTSTAMP:20260421T101441
CREATED:20210415T092330Z
LAST-MODIFIED:20210415T092330Z
UID:40748-1626566400-1626739199@howlingwoods.org
SUMMARY:Farm Closed
DESCRIPTION:
URL:https://howlingwoods.org/event/farm-closed-332/
END:VEVENT
BEGIN:VEVENT
DTSTART;TZID=UTC:20210715T190000
DTEND;TZID=UTC:20210715T190000
DTSTAMP:20260421T101441
CREATED:20210503T052602Z
LAST-MODIFIED:20210503T052757Z
UID:40957-1626375600-1626375600@howlingwoods.org
SUMMARY:Presentation - Hackensack Public Library
DESCRIPTION:Come and enjoy a presentation about wolves at the Johnson Public Library in Hackensack\, New Jersey.  Meet two of our animals after the presentation.  Johnson Public Library in Hackensack\, NJ  6:00-7:00PM
URL:https://howlingwoods.org/event/presentation-hackensack-public-library/
LOCATION:Johnson Public Library\, 274 Main St\, Hackensack\, NJ\, 07601
END:VEVENT
BEGIN:VEVENT
DTSTART;VALUE=DATE:20210713
DTEND;VALUE=DATE:20210718
DTSTAMP:20260421T101441
CREATED:20210415T093101Z
LAST-MODIFIED:20210415T093101Z
UID:40758-1626134400-1626566399@howlingwoods.org
SUMMARY:Visit the Farm
DESCRIPTION:Come and meet Kotori\, Naiche\, Chante\, Sirius\, Orion\, Raven\, Luna\, Jack and Sayen. Learn about wolves during a one-hour interactive tour of the farm. For appointment call 609-901-1387. Be sure to call at least three weeks in advance to visit on a weekend.
URL:https://howlingwoods.org/event/visit-the-farm-309/
LOCATION:Howling Woods Farm\, 1371 W Veterans Hwy\, Jackson\, New Jersey\, 08527
ORGANIZER;CN="Howling Woods Farm":MAILTO:luv2howl@optonline.net
END:VEVENT
BEGIN:VEVENT
DTSTART;VALUE=DATE:20210712
DTEND;VALUE=DATE:20210713
DTSTAMP:20260421T101441
CREATED:20210415T092225Z
LAST-MODIFIED:20210415T092225Z
UID:40746-1626048000-1626134399@howlingwoods.org
SUMMARY:Farm Closed
DESCRIPTION:
URL:https://howlingwoods.org/event/farm-closed-331/
END:VEVENT
BEGIN:VEVENT
DTSTART;VALUE=DATE:20210711
DTEND;VALUE=DATE:20210712
DTSTAMP:20260421T101441
CREATED:20210415T092931Z
LAST-MODIFIED:20210415T092931Z
UID:40756-1625961600-1626047999@howlingwoods.org
SUMMARY:Visit the Farm
DESCRIPTION:Come and meet Kotori\, Naiche\, Chante\, Sirius\, Orion\, Raven\, Luna\, Jack and Sayen. Learn about wolves during a one-hour interactive tour of the farm. For appointment call 609-901-1387. Be sure to call at least three weeks in advance to visit on a weekend.
URL:https://howlingwoods.org/event/visit-the-farm-308/
LOCATION:Howling Woods Farm\, 1371 W Veterans Hwy\, Jackson\, New Jersey\, 08527
ORGANIZER;CN="Howling Woods Farm":MAILTO:luv2howl@optonline.net
END:VEVENT
BEGIN:VEVENT
DTSTART;VALUE=DATE:20210710
DTEND;VALUE=DATE:20210711
DTSTAMP:20260421T101441
CREATED:20210415T092140Z
LAST-MODIFIED:20210415T092140Z
UID:40744-1625875200-1625961599@howlingwoods.org
SUMMARY:Farm Closed
DESCRIPTION:
URL:https://howlingwoods.org/event/farm-closed-330/
END:VEVENT
BEGIN:VEVENT
DTSTART;VALUE=DATE:20210706
DTEND;VALUE=DATE:20210710
DTSTAMP:20260421T101441
CREATED:20210415T092829Z
LAST-MODIFIED:20210415T092829Z
UID:40754-1625529600-1625875199@howlingwoods.org
SUMMARY:Visit the Farm
DESCRIPTION:Come and meet Kotori\, Naiche\, Chante\, Sirius\, Orion\, Raven\, Luna\, Jack and Sayen. Learn about wolves during a one-hour interactive tour of the farm. For appointment call 609-901-1387. Be sure to call at least three weeks in advance to visit on a weekend.
URL:https://howlingwoods.org/event/visit-the-farm-307/
LOCATION:Howling Woods Farm\, 1371 W Veterans Hwy\, Jackson\, New Jersey\, 08527
ORGANIZER;CN="Howling Woods Farm":MAILTO:luv2howl@optonline.net
END:VEVENT
BEGIN:VEVENT
DTSTART;VALUE=DATE:20210705
DTEND;VALUE=DATE:20210706
DTSTAMP:20260421T101441
CREATED:20210415T092033Z
LAST-MODIFIED:20210415T092033Z
UID:40742-1625443200-1625529599@howlingwoods.org
SUMMARY:Farm Closed
DESCRIPTION:
URL:https://howlingwoods.org/event/farm-closed-329/
END:VEVENT
BEGIN:VEVENT
DTSTART;VALUE=DATE:20210704
DTEND;VALUE=DATE:20210705
DTSTAMP:20260421T101441
CREATED:20210415T091722Z
LAST-MODIFIED:20210415T091722Z
UID:40738-1625356800-1625443199@howlingwoods.org
SUMMARY:Farm Closed
DESCRIPTION:
URL:https://howlingwoods.org/event/farm-closed-328/
END:VEVENT
BEGIN:VEVENT
DTSTART;VALUE=DATE:20210629
DTEND;VALUE=DATE:20210704
DTSTAMP:20260421T101441
CREATED:20210415T091933Z
LAST-MODIFIED:20210415T091933Z
UID:40740-1624924800-1625356799@howlingwoods.org
SUMMARY:Visit the Farm
DESCRIPTION:Come and meet Kotori\, Naiche\, Chante\, Sirius\, Orion\, Raven\, Luna\, Jack and Sayen. Learn about wolves during a one-hour interactive tour of the farm. For appointment call 609-901-1387. Be sure to call at least three weeks in advance to visit on a weekend.
URL:https://howlingwoods.org/event/visit-the-farm-306/
LOCATION:Howling Woods Farm\, 1371 W Veterans Hwy\, Jackson\, New Jersey\, 08527
ORGANIZER;CN="Howling Woods Farm":MAILTO:luv2howl@optonline.net
END:VEVENT
END:VCALENDAR