BEGIN:VCALENDAR
VERSION:2.0
PRODID:-//Howling Woods Farm - ECPv6.15.20//NONSGML v1.0//EN
CALSCALE:GREGORIAN
METHOD:PUBLISH
X-WR-CALNAME:Howling Woods Farm
X-ORIGINAL-URL:https://howlingwoods.org
X-WR-CALDESC:Events for Howling Woods Farm
REFRESH-INTERVAL;VALUE=DURATION:PT1H
X-Robots-Tag:noindex
X-PUBLISHED-TTL:PT1H
BEGIN:VTIMEZONE
TZID:UTC
BEGIN:STANDARD
TZOFFSETFROM:+0000
TZOFFSETTO:+0000
TZNAME:UTC
DTSTART:20200101T000000
END:STANDARD
END:VTIMEZONE
BEGIN:VEVENT
DTSTART;VALUE=DATE:20211129
DTEND;VALUE=DATE:20211130
DTSTAMP:20260421T023519
CREATED:20210503T045942Z
LAST-MODIFIED:20210503T045942Z
UID:40947-1638144000-1638230399@howlingwoods.org
SUMMARY:Farm Closed
DESCRIPTION:
URL:https://howlingwoods.org/event/farm-closed-360/
END:VEVENT
BEGIN:VEVENT
DTSTART;VALUE=DATE:20211128
DTEND;VALUE=DATE:20211129
DTSTAMP:20260421T023519
CREATED:20210503T045525Z
LAST-MODIFIED:20210503T045525Z
UID:40935-1638057600-1638143999@howlingwoods.org
SUMMARY:Visit the Farm
DESCRIPTION:Come to the farm and meet our animals Naiche\, Kotori\, Orion\, Sirius\, Raven\, Luna\, Jack\, Sayen & Chante during a one hour tour of our facility. You must make an appointment before visiting\, and to schedule an appointment please call 732-534-5745 or 609-901-1387 Monday thru Friday between 11am and 4pm. We usually book up 4 weeks in advance\, so please call ahead.
URL:https://howlingwoods.org/event/visit-the-farm-337/
LOCATION:Howling Woods Farm\, 1371 W Veterans Hwy\, Jackson\, New Jersey\, 08527
ORGANIZER;CN="Howling Woods Farm":MAILTO:luv2howl@optonline.net
END:VEVENT
BEGIN:VEVENT
DTSTART;VALUE=DATE:20211127
DTEND;VALUE=DATE:20211128
DTSTAMP:20260421T023519
CREATED:20210503T045915Z
LAST-MODIFIED:20210503T045915Z
UID:40945-1637971200-1638057599@howlingwoods.org
SUMMARY:Farm Closed
DESCRIPTION:
URL:https://howlingwoods.org/event/farm-closed-359/
END:VEVENT
BEGIN:VEVENT
DTSTART;VALUE=DATE:20211123
DTEND;VALUE=DATE:20211127
DTSTAMP:20260421T023519
CREATED:20210503T045620Z
LAST-MODIFIED:20210503T045620Z
UID:40937-1637625600-1637971199@howlingwoods.org
SUMMARY:Visit the Farm
DESCRIPTION:Come to the farm and meet our animals Naiche\, Kotori\, Orion\, Sirius\, Raven\, Luna\, Jack\, Sayen & Chante during a one hour tour of our facility. You must make an appointment before visiting\, and to schedule an appointment please call 732-534-5745 or 609-901-1387 Monday thru Friday between 11am and 4pm. We usually book up 4 weeks in advance\, so please call ahead.
URL:https://howlingwoods.org/event/visit-the-farm-338/
LOCATION:Howling Woods Farm\, 1371 W Veterans Hwy\, Jackson\, New Jersey\, 08527
ORGANIZER;CN="Howling Woods Farm":MAILTO:luv2howl@optonline.net
END:VEVENT
BEGIN:VEVENT
DTSTART;VALUE=DATE:20211121
DTEND;VALUE=DATE:20211123
DTSTAMP:20260421T023519
CREATED:20210503T050013Z
LAST-MODIFIED:20210503T050013Z
UID:40949-1637452800-1637625599@howlingwoods.org
SUMMARY:Farm Closed
DESCRIPTION:
URL:https://howlingwoods.org/event/farm-closed-361/
END:VEVENT
BEGIN:VEVENT
DTSTART;VALUE=DATE:20211116
DTEND;VALUE=DATE:20211121
DTSTAMP:20260421T023519
CREATED:20210503T045433Z
LAST-MODIFIED:20210503T045433Z
UID:40933-1637020800-1637452799@howlingwoods.org
SUMMARY:Visit the Farm
DESCRIPTION:Come to the farm and meet our animals Naiche\, Kotori\, Orion\, Sirius\, Raven\, Luna\, Jack\, Sayen & Chante during a one hour tour of our facility. You must make an appointment before visiting\, and to schedule an appointment please call 732-534-5745 or 609-901-1387 Monday thru Friday between 11am and 4pm. We usually book up 4 weeks in advance\, so please call ahead.
URL:https://howlingwoods.org/event/visit-the-farm-336/
LOCATION:Howling Woods Farm\, 1371 W Veterans Hwy\, Jackson\, New Jersey\, 08527
ORGANIZER;CN="Howling Woods Farm":MAILTO:luv2howl@optonline.net
END:VEVENT
BEGIN:VEVENT
DTSTART;VALUE=DATE:20211115
DTEND;VALUE=DATE:20211116
DTSTAMP:20260421T023519
CREATED:20210503T045845Z
LAST-MODIFIED:20210503T045845Z
UID:40943-1636934400-1637020799@howlingwoods.org
SUMMARY:Farm Closed
DESCRIPTION:
URL:https://howlingwoods.org/event/farm-closed-358/
END:VEVENT
BEGIN:VEVENT
DTSTART;VALUE=DATE:20211114
DTEND;VALUE=DATE:20211115
DTSTAMP:20260421T023519
CREATED:20210503T045112Z
LAST-MODIFIED:20210503T045112Z
UID:40927-1636848000-1636934399@howlingwoods.org
SUMMARY:Visit the Farm
DESCRIPTION:Come to the farm and meet our animals Naiche\, Kotori\, Orion\, Sirius\, Raven\, Luna\, Jack\, Sayen & Chante during a one hour tour of our facility. You must make an appointment before visiting\, and to schedule an appointment please call 732-534-5745 or 609-901-1387 Monday thru Friday between 11am and 4pm. We usually book up 4 weeks in advance\, so please call ahead.
URL:https://howlingwoods.org/event/visit-the-farm-333/
LOCATION:Howling Woods Farm\, 1371 W Veterans Hwy\, Jackson\, New Jersey\, 08527
ORGANIZER;CN="Howling Woods Farm":MAILTO:luv2howl@optonline.net
END:VEVENT
BEGIN:VEVENT
DTSTART;VALUE=DATE:20211113
DTEND;VALUE=DATE:20211114
DTSTAMP:20260421T023519
CREATED:20210503T045813Z
LAST-MODIFIED:20210503T045813Z
UID:40941-1636761600-1636847999@howlingwoods.org
SUMMARY:Farm Closed
DESCRIPTION:
URL:https://howlingwoods.org/event/farm-closed-357/
END:VEVENT
BEGIN:VEVENT
DTSTART;VALUE=DATE:20211109
DTEND;VALUE=DATE:20211113
DTSTAMP:20260421T023519
CREATED:20210503T045337Z
LAST-MODIFIED:20210503T045337Z
UID:40931-1636416000-1636761599@howlingwoods.org
SUMMARY:Visit the Farm
DESCRIPTION:Come to the farm and meet our animals Naiche\, Kotori\, Orion\, Sirius\, Raven\, Luna\, Jack\, Sayen & Chante during a one hour tour of our facility. You must make an appointment before visiting\, and to schedule an appointment please call 732-534-5745 or 609-901-1387 Monday thru Friday between 11am and 4pm. We usually book up 4 weeks in advance\, so please call ahead.
URL:https://howlingwoods.org/event/visit-the-farm-335/
LOCATION:Howling Woods Farm\, 1371 W Veterans Hwy\, Jackson\, New Jersey\, 08527
ORGANIZER;CN="Howling Woods Farm":MAILTO:luv2howl@optonline.net
END:VEVENT
BEGIN:VEVENT
DTSTART;VALUE=DATE:20211107
DTEND;VALUE=DATE:20211109
DTSTAMP:20260421T023519
CREATED:20210503T050122Z
LAST-MODIFIED:20210503T050122Z
UID:40951-1636243200-1636415999@howlingwoods.org
SUMMARY:Farm Closed
DESCRIPTION:Come to the farm and meet our animals Naiche\, Kotori\, Orion\, Sirius\, Raven\, Luna\, Jack\, Sayen & Chante during a one hour tour of our facility. You must make an appointment before visiting\, and to schedule an appointment please call 732-534-5745 or 609-901-1387 Monday thru Friday between 11am and 4pm. We usually book up 4 weeks in advance\, so please call ahead.
URL:https://howlingwoods.org/event/farm-closed-362/
LOCATION:Howling Woods Farm\, 1371 W Veterans Hwy\, Jackson\, New Jersey\, 08527
ORGANIZER;CN="Howling Woods Farm":MAILTO:luv2howl@optonline.net
END:VEVENT
BEGIN:VEVENT
DTSTART;VALUE=DATE:20211102
DTEND;VALUE=DATE:20211107
DTSTAMP:20260421T023519
CREATED:20210503T045204Z
LAST-MODIFIED:20210503T045204Z
UID:40929-1635811200-1636243199@howlingwoods.org
SUMMARY:Visit the Farm
DESCRIPTION:Come to the farm and meet our animals Naiche\, Kotori\, Orion\, Sirius\, Raven\, Luna\, Jack\, Sayen & Chante during a one hour tour of our facility. You must make an appointment before visiting\, and to schedule an appointment please call 732-534-5745 or 609-901-1387 Monday thru Friday between 11am and 4pm. We usually book up 4 weeks in advance\, so please call ahead.
URL:https://howlingwoods.org/event/visit-the-farm-334/
LOCATION:Howling Woods Farm\, 1371 W Veterans Hwy\, Jackson\, New Jersey\, 08527
ORGANIZER;CN="Howling Woods Farm":MAILTO:luv2howl@optonline.net
END:VEVENT
BEGIN:VEVENT
DTSTART;VALUE=DATE:20211101
DTEND;VALUE=DATE:20211102
DTSTAMP:20260421T023519
CREATED:20210503T050218Z
LAST-MODIFIED:20210503T050218Z
UID:40953-1635724800-1635811199@howlingwoods.org
SUMMARY:Farm Closed
DESCRIPTION:
URL:https://howlingwoods.org/event/farm-closed-363/
END:VEVENT
BEGIN:VEVENT
DTSTART;VALUE=DATE:20211031
DTEND;VALUE=DATE:20211101
DTSTAMP:20260421T023519
CREATED:20210503T043728Z
LAST-MODIFIED:20210503T043728Z
UID:40911-1635638400-1635724799@howlingwoods.org
SUMMARY:Visit the Farm
DESCRIPTION:Come to the farm and meet our animals Naiche\, Kotori\, Orion\, Sirius\, Raven\, Luna\, Jack\, Sayen & Chante during a one hour tour of our facility. You must make an appointment before visiting\, and to schedule an appointment please call 732-534-5745 or 609-901-1387 Monday thru Friday between 11am and 4pm. We usually book up 4 weeks in advance\, so please call ahead.
URL:https://howlingwoods.org/event/visit-the-farm-332/
LOCATION:Howling Woods Farm\, 1371 W Veterans Hwy\, Jackson\, New Jersey\, 08527
ORGANIZER;CN="Howling Woods Farm":MAILTO:luv2howl@optonline.net
END:VEVENT
BEGIN:VEVENT
DTSTART;VALUE=DATE:20211030
DTEND;VALUE=DATE:20211031
DTSTAMP:20260421T023519
CREATED:20210503T044643Z
LAST-MODIFIED:20210503T044643Z
UID:40925-1635552000-1635638399@howlingwoods.org
SUMMARY:Farm Closed
DESCRIPTION:
URL:https://howlingwoods.org/event/farm-closed-356/
END:VEVENT
BEGIN:VEVENT
DTSTART;TZID=UTC:20211027T180000
DTEND;TZID=UTC:20211027T190000
DTSTAMP:20260421T023519
CREATED:20210506T011649Z
LAST-MODIFIED:20210506T011649Z
UID:40985-1635357600-1635361200@howlingwoods.org
SUMMARY:Presentation - Spring Lake (private)
DESCRIPTION:
URL:https://howlingwoods.org/event/presentation-spring-lake-private/
END:VEVENT
BEGIN:VEVENT
DTSTART;VALUE=DATE:20211026
DTEND;VALUE=DATE:20211030
DTSTAMP:20260421T023519
CREATED:20210503T043633Z
LAST-MODIFIED:20210503T043633Z
UID:40909-1635206400-1635551999@howlingwoods.org
SUMMARY:Visit the Farm
DESCRIPTION:Come to the farm and meet our animals Naiche\, Kotori\, Orion\, Sirius\, Raven\, Luna\, Jack\, Sayen & Chante during a one hour tour of our facility. You must make an appointment before visiting\, and to schedule an appointment please call 732-534-5745 or 609-901-1387 Monday thru Friday between 11am and 4pm. We usually book up 4 weeks in advance\, so please call ahead.
URL:https://howlingwoods.org/event/visit-the-farm-331/
LOCATION:Howling Woods Farm\, 1371 W Veterans Hwy\, Jackson\, New Jersey\, 08527
ORGANIZER;CN="Howling Woods Farm":MAILTO:luv2howl@optonline.net
END:VEVENT
BEGIN:VEVENT
DTSTART;VALUE=DATE:20211024
DTEND;VALUE=DATE:20211026
DTSTAMP:20260421T023519
CREATED:20210503T044616Z
LAST-MODIFIED:20210503T044616Z
UID:40923-1635033600-1635206399@howlingwoods.org
SUMMARY:Farm Closed
DESCRIPTION:
URL:https://howlingwoods.org/event/farm-closed-355/
END:VEVENT
BEGIN:VEVENT
DTSTART;VALUE=DATE:20211019
DTEND;VALUE=DATE:20211024
DTSTAMP:20260421T023519
CREATED:20210503T043539Z
LAST-MODIFIED:20210503T043539Z
UID:40907-1634601600-1635033599@howlingwoods.org
SUMMARY:Visit the Farm
DESCRIPTION:Come to the farm and meet our animals Naiche\, Kotori\, Orion\, Sirius\, Raven\, Luna\, Jack\, Sayen & Chante during a one hour tour of our facility. You must make an appointment before visiting\, and to schedule an appointment please call 732-534-5745 or 609-901-1387 Monday thru Friday between 11am and 4pm. We usually book up 4 weeks in advance\, so please call ahead.
URL:https://howlingwoods.org/event/visit-the-farm-330/
LOCATION:Howling Woods Farm\, 1371 W Veterans Hwy\, Jackson\, New Jersey\, 08527
ORGANIZER;CN="Howling Woods Farm":MAILTO:luv2howl@optonline.net
END:VEVENT
BEGIN:VEVENT
DTSTART;VALUE=DATE:20211018
DTEND;VALUE=DATE:20211019
DTSTAMP:20260421T023519
CREATED:20210503T044539Z
LAST-MODIFIED:20210503T044539Z
UID:40921-1634515200-1634601599@howlingwoods.org
SUMMARY:Farm Closed
DESCRIPTION:
URL:https://howlingwoods.org/event/farm-closed-354/
END:VEVENT
BEGIN:VEVENT
DTSTART;VALUE=DATE:20211017
DTEND;VALUE=DATE:20211018
DTSTAMP:20260421T023519
CREATED:20210503T043444Z
LAST-MODIFIED:20210503T043444Z
UID:40905-1634428800-1634515199@howlingwoods.org
SUMMARY:Visit the Farm
DESCRIPTION:Come to the farm and meet our animals Naiche\, Kotori\, Orion\, Sirius\, Raven\, Luna\, Jack\, Sayen & Chante during a one hour tour of our facility. You must make an appointment before visiting\, and to schedule an appointment please call 732-534-5745 or 609-901-1387 Monday thru Friday between 11am and 4pm. We usually book up 4 weeks in advance\, so please call ahead.
URL:https://howlingwoods.org/event/visit-the-farm-329/
LOCATION:Howling Woods Farm\, 1371 W Veterans Hwy\, Jackson\, New Jersey\, 08527
ORGANIZER;CN="Howling Woods Farm":MAILTO:luv2howl@optonline.net
END:VEVENT
BEGIN:VEVENT
DTSTART;VALUE=DATE:20211016
DTEND;VALUE=DATE:20211017
DTSTAMP:20260421T023519
CREATED:20210503T044404Z
LAST-MODIFIED:20210503T044404Z
UID:40915-1634342400-1634428799@howlingwoods.org
SUMMARY:Farm Closed
DESCRIPTION:Come to the farm and meet our animals Naiche\, Kotori\, Orion\, Sirius\, Raven\, Luna\, Jack\, Sayen & Chante during a one hour tour of our facility. You must make an appointment before visiting\, and to schedule an appointment please call 732-534-5745 or 609-901-1387 Monday thru Friday between 11am and 4pm. We usually book up 4 weeks in advance\, so please call ahead.
URL:https://howlingwoods.org/event/farm-closed-351/
END:VEVENT
BEGIN:VEVENT
DTSTART;VALUE=DATE:20211012
DTEND;VALUE=DATE:20211016
DTSTAMP:20260421T023519
CREATED:20210503T043251Z
LAST-MODIFIED:20210503T043251Z
UID:40901-1633996800-1634342399@howlingwoods.org
SUMMARY:Visit the Farm
DESCRIPTION:Come to the farm and meet our animals Naiche\, Kotori\, Orion\, Sirius\, Raven\, Luna\, Jack\, Sayen & Chante during a one hour tour of our facility. You must make an appointment before visiting\, and to schedule an appointment please call 732-534-5745 or 609-901-1387 Monday thru Friday between 11am and 4pm. We usually book up 4 weeks in advance\, so please call ahead.
URL:https://howlingwoods.org/event/visit-the-farm-327/
LOCATION:Howling Woods Farm\, 1371 W Veterans Hwy\, Jackson\, New Jersey\, 08527
ORGANIZER;CN="Howling Woods Farm":MAILTO:luv2howl@optonline.net
END:VEVENT
BEGIN:VEVENT
DTSTART;VALUE=DATE:20211010
DTEND;VALUE=DATE:20211012
DTSTAMP:20260421T023519
CREATED:20210503T043807Z
LAST-MODIFIED:20210503T043807Z
UID:40913-1633824000-1633996799@howlingwoods.org
SUMMARY:Farm Closed
DESCRIPTION:
URL:https://howlingwoods.org/event/farm-closed-343/
END:VEVENT
BEGIN:VEVENT
DTSTART;VALUE=DATE:20211005
DTEND;VALUE=DATE:20211010
DTSTAMP:20260421T023519
CREATED:20210503T043352Z
LAST-MODIFIED:20210503T043352Z
UID:40903-1633392000-1633823999@howlingwoods.org
SUMMARY:Visit the Farm
DESCRIPTION:Come to the farm and meet our animals Naiche\, Kotori\, Orion\, Sirius\, Raven\, Luna\, Jack\, Sayen & Chante during a one hour tour of our facility. You must make an appointment before visiting\, and to schedule an appointment please call 732-534-5745 or 609-901-1387 Monday thru Friday between 11am and 4pm. We usually book up 4 weeks in advance\, so please call ahead.
URL:https://howlingwoods.org/event/visit-the-farm-328/
LOCATION:Howling Woods Farm\, 1371 W Veterans Hwy\, Jackson\, New Jersey\, 08527
ORGANIZER;CN="Howling Woods Farm":MAILTO:luv2howl@optonline.net
END:VEVENT
BEGIN:VEVENT
DTSTART;VALUE=DATE:20211004
DTEND;VALUE=DATE:20211005
DTSTAMP:20260421T023519
CREATED:20210503T044439Z
LAST-MODIFIED:20210503T044439Z
UID:40917-1633305600-1633391999@howlingwoods.org
SUMMARY:Farm Closed
DESCRIPTION:Come to the farm and meet our animals Naiche\, Kotori\, Orion\, Sirius\, Raven\, Luna\, Jack\, Sayen & Chante during a one hour tour of our facility. You must make an appointment before visiting\, and to schedule an appointment please call 732-534-5745 or 609-901-1387 Monday thru Friday between 11am and 4pm. We usually book up 4 weeks in advance\, so please call ahead.
URL:https://howlingwoods.org/event/farm-closed-352/
END:VEVENT
BEGIN:VEVENT
DTSTART;VALUE=DATE:20211003
DTEND;VALUE=DATE:20211004
DTSTAMP:20260421T023519
CREATED:20210503T043146Z
LAST-MODIFIED:20210503T043146Z
UID:40899-1633219200-1633305599@howlingwoods.org
SUMMARY:Visit the Farm
DESCRIPTION:Come to the farm and meet our animals Naiche\, Kotori\, Orion\, Sirius\, Raven\, Luna\, Jack\, Sayen & Chante during a one hour tour of our facility. You must make an appointment before visiting\, and to schedule an appointment please call 732-534-5745 or 609-901-1387 Monday thru Friday between 11am and 4pm. We usually book up 4 weeks in advance\, so please call ahead.
URL:https://howlingwoods.org/event/visit-the-farm-326/
LOCATION:Howling Woods Farm\, 1371 W Veterans Hwy\, Jackson\, New Jersey\, 08527
ORGANIZER;CN="Howling Woods Farm":MAILTO:luv2howl@optonline.net
END:VEVENT
BEGIN:VEVENT
DTSTART;TZID=UTC:20211002T100000
DTEND;TZID=UTC:20211002T150000
DTSTAMP:20260421T023519
CREATED:20210503T050856Z
LAST-MODIFIED:20210503T050856Z
UID:40955-1633168800-1633186800@howlingwoods.org
SUMMARY:Fundraiser for Disabled Veterans
DESCRIPTION:West Veterans Hwy\, Jackson\, NJ
URL:https://howlingwoods.org/event/fundraiser-for-disabled-veterans/
END:VEVENT
BEGIN:VEVENT
DTSTART;VALUE=DATE:20211002
DTEND;VALUE=DATE:20211003
DTSTAMP:20260421T023519
CREATED:20210503T044507Z
LAST-MODIFIED:20210503T044507Z
UID:40919-1633132800-1633219199@howlingwoods.org
SUMMARY:Farm Closed
DESCRIPTION:
URL:https://howlingwoods.org/event/farm-closed-353/
END:VEVENT
BEGIN:VEVENT
DTSTART;VALUE=DATE:20210928
DTEND;VALUE=DATE:20211002
DTSTAMP:20260421T023519
CREATED:20210503T033220Z
LAST-MODIFIED:20210503T033220Z
UID:40869-1632787200-1633132799@howlingwoods.org
SUMMARY:Visit the Farm
DESCRIPTION:Come to the farm and meet our animals Naiche\, Kotori\, Orion\, Sirius\, Raven\, Luna\, Jack\, Sayen & Chante during a one hour tour of our facility. You must make an appointment before visiting\, and to schedule an appointment please call 732-534-5745 or 609-901-1387 Monday thru Friday between 11am and 4pm. We usually book up 4 weeks in advance\, so please call ahead.
URL:https://howlingwoods.org/event/visit-the-farm-320/
LOCATION:Howling Woods Farm\, 1371 W Veterans Hwy\, Jackson\, New Jersey\, 08527
ORGANIZER;CN="Howling Woods Farm":MAILTO:luv2howl@optonline.net
END:VEVENT
END:VCALENDAR