BEGIN:VCALENDAR
VERSION:2.0
PRODID:-//Howling Woods Farm - ECPv6.15.20//NONSGML v1.0//EN
CALSCALE:GREGORIAN
METHOD:PUBLISH
X-WR-CALNAME:Howling Woods Farm
X-ORIGINAL-URL:https://howlingwoods.org
X-WR-CALDESC:Events for Howling Woods Farm
REFRESH-INTERVAL;VALUE=DURATION:PT1H
X-Robots-Tag:noindex
X-PUBLISHED-TTL:PT1H
BEGIN:VTIMEZONE
TZID:UTC
BEGIN:STANDARD
TZOFFSETFROM:+0000
TZOFFSETTO:+0000
TZNAME:UTC
DTSTART:20220101T000000
END:STANDARD
END:VTIMEZONE
BEGIN:VEVENT
DTSTART;VALUE=DATE:20230707
DTEND;VALUE=DATE:20230709
DTSTAMP:20260420T083017
CREATED:20230509T060520Z
LAST-MODIFIED:20230509T060520Z
UID:48591-1688688000-1688860799@howlingwoods.org
SUMMARY:Visit the Farm
DESCRIPTION:Come to the farm and meet Naiche\, Lyra\, Orion\, Sirius\, Raven\, Luna\, Jack\, Sayen & Chante during a one hour tour of our facility. You must make an appointment before visiting\, and to schedule please call 609-901-1387.
URL:https://howlingwoods.org/event/visit-the-farm-507/
LOCATION:Howling Woods Farm\, 1371 W Veterans Hwy\, Jackson\, New Jersey\, 08527
ORGANIZER;CN="Howling Woods Farm":MAILTO:luv2howl@optonline.net
END:VEVENT
BEGIN:VEVENT
DTSTART;TZID=UTC:20230710T190000
DTEND;TZID=UTC:20230710T200000
DTSTAMP:20260420T083017
CREATED:20230620T061622Z
LAST-MODIFIED:20230620T061622Z
UID:49070-1689015600-1689019200@howlingwoods.org
SUMMARY:Clark Library Presentation
DESCRIPTION:Come to hear a presentation about wolves and meet two of our animals.
URL:https://howlingwoods.org/event/clark-library-presentation/
LOCATION:NJ
END:VEVENT
BEGIN:VEVENT
DTSTART;VALUE=DATE:20230712
DTEND;VALUE=DATE:20230713
DTSTAMP:20260420T083017
CREATED:20230509T060713Z
LAST-MODIFIED:20230509T060713Z
UID:48593-1689120000-1689206399@howlingwoods.org
SUMMARY:Visit the Farm
DESCRIPTION:Come to the farm and meet Naiche\, Lyra\, Orion\, Sirius\, Raven\, Luna\, Jack\, Sayen & Chante during a one hour tour of our facility. You must make an appointment before visiting\, and to schedule please call 609-901-1387.
URL:https://howlingwoods.org/event/visit-the-farm-508/
LOCATION:Howling Woods Farm\, 1371 W Veterans Hwy\, Jackson\, New Jersey\, 08527
ORGANIZER;CN="Howling Woods Farm":MAILTO:luv2howl@optonline.net
END:VEVENT
BEGIN:VEVENT
DTSTART;TZID=UTC:20230712T100000
DTEND;TZID=UTC:20230712T110000
DTSTAMP:20260420T083017
CREATED:20230627T035445Z
LAST-MODIFIED:20230627T035445Z
UID:49237-1689156000-1689159600@howlingwoods.org
SUMMARY:Presentation - Long Beach Island Summer Camp (Private)
DESCRIPTION:
URL:https://howlingwoods.org/event/presentation-long-beach-island-summer-camp-private/
LOCATION:NJ
ORGANIZER;CN="Howling Woods Farm":MAILTO:luv2howl@optonline.net
END:VEVENT
BEGIN:VEVENT
DTSTART;TZID=UTC:20230713T110000
DTEND;TZID=UTC:20230713T120000
DTSTAMP:20260420T083017
CREATED:20230620T062041Z
LAST-MODIFIED:20230620T062041Z
UID:49074-1689246000-1689249600@howlingwoods.org
SUMMARY:East Brunswick Public Library Presentation
DESCRIPTION:Come to the East Brunswick Public Library to hear a presentation about wolves and meet two of our animals.
URL:https://howlingwoods.org/event/east-brunswick-public-library-presentation/
LOCATION:NJ
END:VEVENT
BEGIN:VEVENT
DTSTART;TZID=UTC:20230713T120000
DTEND;TZID=UTC:20230713T170000
DTSTAMP:20260420T083017
CREATED:20230627T035722Z
LAST-MODIFIED:20230627T035722Z
UID:49239-1689249600-1689267600@howlingwoods.org
SUMMARY:NYU Movie Filming (private)
DESCRIPTION:
URL:https://howlingwoods.org/event/nyu-movie-filming-private/
LOCATION:NJ
END:VEVENT
BEGIN:VEVENT
DTSTART;VALUE=DATE:20230714
DTEND;VALUE=DATE:20230715
DTSTAMP:20260420T083017
CREATED:20230509T061656Z
LAST-MODIFIED:20230509T061656Z
UID:48601-1689292800-1689379199@howlingwoods.org
SUMMARY:Visit the Farm
DESCRIPTION:Come to the farm and meet Naiche\, Lyra\, Orion\, Sirius\, Raven\, Luna\, Jack\, Sayen & Chante during a one hour tour of our facility. You must make an appointment before visiting\, and to schedule please call 609-901-1387.
URL:https://howlingwoods.org/event/visit-the-farm-512/
LOCATION:Howling Woods Farm\, 1371 W Veterans Hwy\, Jackson\, New Jersey\, 08527
ORGANIZER;CN="Howling Woods Farm":MAILTO:luv2howl@optonline.net
END:VEVENT
BEGIN:VEVENT
DTSTART;VALUE=DATE:20230716
DTEND;VALUE=DATE:20230717
DTSTAMP:20260420T083017
CREATED:20230509T060844Z
LAST-MODIFIED:20230509T060844Z
UID:48595-1689465600-1689551999@howlingwoods.org
SUMMARY:Visit the Farm
DESCRIPTION:Come to the farm and meet Naiche\, Lyra\, Orion\, Sirius\, Raven\, Luna\, Jack\, Sayen & Chante during a one hour tour of our facility. You must make an appointment before visiting\, and to schedule please call 609-901-1387.
URL:https://howlingwoods.org/event/visit-the-farm-509/
LOCATION:Howling Woods Farm\, 1371 W Veterans Hwy\, Jackson\, New Jersey\, 08527
ORGANIZER;CN="Howling Woods Farm":MAILTO:luv2howl@optonline.net
END:VEVENT
BEGIN:VEVENT
DTSTART;VALUE=DATE:20230719
DTEND;VALUE=DATE:20230720
DTSTAMP:20260420T083017
CREATED:20230509T060950Z
LAST-MODIFIED:20230509T060950Z
UID:48597-1689724800-1689811199@howlingwoods.org
SUMMARY:Visit the Farm
DESCRIPTION:Come to the farm and meet Naiche\, Lyra\, Orion\, Sirius\, Raven\, Luna\, Jack\, Sayen & Chante during a one hour tour of our facility. You must make an appointment before visiting\, and to schedule please call 609-901-1387.
URL:https://howlingwoods.org/event/visit-the-farm-510/
LOCATION:Howling Woods Farm\, 1371 W Veterans Hwy\, Jackson\, New Jersey\, 08527
ORGANIZER;CN="Howling Woods Farm":MAILTO:luv2howl@optonline.net
END:VEVENT
BEGIN:VEVENT
DTSTART;TZID=UTC:20230720T133000
DTEND;TZID=UTC:20230720T143000
DTSTAMP:20260420T083017
CREATED:20230620T062446Z
LAST-MODIFIED:20230620T062446Z
UID:49077-1689859800-1689863400@howlingwoods.org
SUMMARY:Teaneck Public Library Presentation
DESCRIPTION:Come to the Teaneck Public Library to hear a presentation about wolves and meet two of our animals.
URL:https://howlingwoods.org/event/teaneck-public-library-presentation/
LOCATION:Teaneck Public Library
END:VEVENT
BEGIN:VEVENT
DTSTART;VALUE=DATE:20230721
DTEND;VALUE=DATE:20230723
DTSTAMP:20260420T083017
CREATED:20230620T061001Z
LAST-MODIFIED:20230620T061052Z
UID:49068-1689897600-1690070399@howlingwoods.org
SUMMARY:Visit the Farm
DESCRIPTION:Come to the farm and meet Naiche\, Lyra\, Orion\, Sirius\, Raven\, Luna\, Jack\, Sayen & Chante during a one hour tour of our facility. You must make an appointment before visiting\, and to schedule please call 609-901-1387.
URL:https://howlingwoods.org/event/visit-the-farm-502/
LOCATION:Howling Woods Farm\, 1371 W Veterans Hwy\, Jackson\, New Jersey\, 08527
END:VEVENT
BEGIN:VEVENT
DTSTART;VALUE=DATE:20230726
DTEND;VALUE=DATE:20230727
DTSTAMP:20260420T083017
CREATED:20230509T063113Z
LAST-MODIFIED:20230509T063113Z
UID:48610-1690329600-1690415999@howlingwoods.org
SUMMARY:Visit the Farm
DESCRIPTION:Come to the farm and meet Naiche\, Lyra\, Orion\, Sirius\, Raven\, Luna\, Jack\, Sayen & Chante during a one hour tour of our facility. You must make an appointment before visiting\, and to schedule please call 609-901-1387.
URL:https://howlingwoods.org/event/visit-the-farm-516/
LOCATION:Howling Woods Farm\, 1371 W Veterans Hwy\, Jackson\, New Jersey\, 08527
ORGANIZER;CN="Howling Woods Farm":MAILTO:luv2howl@optonline.net
END:VEVENT
BEGIN:VEVENT
DTSTART;VALUE=DATE:20230728
DTEND;VALUE=DATE:20230729
DTSTAMP:20260420T083017
CREATED:20230509T062729Z
LAST-MODIFIED:20230509T062729Z
UID:48608-1690502400-1690588799@howlingwoods.org
SUMMARY:Visit the Farm
DESCRIPTION:Come to the farm and meet Naiche\, Lyra\, Orion\, Sirius\, Raven\, Luna\, Jack\, Sayen & Chante during a one hour tour of our facility. You must make an appointment before visiting\, and to schedule please call 609-901-1387.
URL:https://howlingwoods.org/event/visit-the-farm-515/
LOCATION:Howling Woods Farm\, 1371 W Veterans Hwy\, Jackson\, New Jersey\, 08527
ORGANIZER;CN="Howling Woods Farm":MAILTO:luv2howl@optonline.net
END:VEVENT
BEGIN:VEVENT
DTSTART;VALUE=DATE:20230730
DTEND;VALUE=DATE:20230731
DTSTAMP:20260420T083017
CREATED:20230620T062701Z
LAST-MODIFIED:20230620T062701Z
UID:49080-1690675200-1690761599@howlingwoods.org
SUMMARY:Visit the Farm
DESCRIPTION:Come to the farm and meet Naiche\, Lyra\, Orion\, Sirius\, Raven\, Luna\, Jack\, Sayen & Chante during a one hour tour of our facility. You must make an appointment before visiting\, and to schedule please call 609-901-1387.
URL:https://howlingwoods.org/event/visit-the-farm-511/
LOCATION:Howling Woods Farm\, 1371 W Veterans Hwy\, Jackson\, New Jersey\, 08527
ORGANIZER;CN="Howling Woods Farm":MAILTO:luv2howl@optonline.net
END:VEVENT
BEGIN:VEVENT
DTSTART;TZID=UTC:20230801T120000
DTEND;TZID=UTC:20230801T130000
DTSTAMP:20260420T083017
CREATED:20230620T063053Z
LAST-MODIFIED:20230620T063053Z
UID:49082-1690891200-1690894800@howlingwoods.org
SUMMARY:Saint Francis Community Center Presentation
DESCRIPTION:
URL:https://howlingwoods.org/event/saint-francis-community-center-presentation/
LOCATION:Saint Francis Community Center\, Brant Beach\, NJ
END:VEVENT
BEGIN:VEVENT
DTSTART;VALUE=DATE:20230802
DTEND;VALUE=DATE:20230803
DTSTAMP:20260420T083017
CREATED:20230620T063226Z
LAST-MODIFIED:20230620T063226Z
UID:49085-1690934400-1691020799@howlingwoods.org
SUMMARY:Visit the Farm
DESCRIPTION:Come to the farm and meet Naiche\, Lyra\, Orion\, Sirius\, Raven\, Luna\, Jack\, Sayen & Chante during a one hour tour of our facility. You must make an appointment before visiting\, and to schedule please call 609-901-1387.
URL:https://howlingwoods.org/event/visit-the-farm-513/
LOCATION:Howling Woods Farm\, 1371 W Veterans Hwy\, Jackson\, New Jersey\, 08527
ORGANIZER;CN="Howling Woods Farm":MAILTO:luv2howl@optonline.net
END:VEVENT
BEGIN:VEVENT
DTSTART;TZID=UTC:20230803T190000
DTEND;TZID=UTC:20230803T200000
DTSTAMP:20260420T083018
CREATED:20230620T065405Z
LAST-MODIFIED:20230620T065405Z
UID:49109-1691089200-1691092800@howlingwoods.org
SUMMARY:Presentation at Piscataway Public Library
DESCRIPTION:Come to listen to a presentation about wolves and meet two of our animals.
URL:https://howlingwoods.org/event/presentation-at-piscataway-public-library/
LOCATION:Piscataway Public Library
END:VEVENT
BEGIN:VEVENT
DTSTART;VALUE=DATE:20230804
DTEND;VALUE=DATE:20230806
DTSTAMP:20260420T083018
CREATED:20230620T063410Z
LAST-MODIFIED:20230620T063410Z
UID:49087-1691107200-1691279999@howlingwoods.org
SUMMARY:Visit the Farm
DESCRIPTION:Come to the farm and meet Naiche\, Lyra\, Orion\, Sirius\, Raven\, Luna\, Jack\, Sayen & Chante during a one hour tour of our facility. You must make an appointment before visiting\, and to schedule please call 609-901-1387.
URL:https://howlingwoods.org/event/visit-the-farm-514/
LOCATION:Howling Woods Farm\, 1371 W Veterans Hwy\, Jackson\, New Jersey\, 08527
ORGANIZER;CN="Howling Woods Farm":MAILTO:luv2howl@optonline.net
END:VEVENT
BEGIN:VEVENT
DTSTART;VALUE=DATE:20230809
DTEND;VALUE=DATE:20230810
DTSTAMP:20260420T083018
CREATED:20230620T063529Z
LAST-MODIFIED:20230620T063529Z
UID:49089-1691539200-1691625599@howlingwoods.org
SUMMARY:Visit the Farm
DESCRIPTION:Come to the farm and meet Naiche\, Lyra\, Orion\, Sirius\, Raven\, Luna\, Jack\, Sayen & Chante during a one hour tour of our facility. You must make an appointment before visiting\, and to schedule please call 609-901-1387.
URL:https://howlingwoods.org/event/visit-the-farm-517/
LOCATION:Howling Woods Farm\, 1371 W Veterans Hwy\, Jackson\, New Jersey\, 08527
ORGANIZER;CN="Howling Woods Farm":MAILTO:luv2howl@optonline.net
END:VEVENT
BEGIN:VEVENT
DTSTART;VALUE=DATE:20230811
DTEND;VALUE=DATE:20230812
DTSTAMP:20260420T083018
CREATED:20230620T063715Z
LAST-MODIFIED:20230620T063715Z
UID:49091-1691712000-1691798399@howlingwoods.org
SUMMARY:Visit the Farm
DESCRIPTION:Come to the farm and meet Naiche\, Lyra\, Orion\, Sirius\, Raven\, Luna\, Jack\, Sayen & Chante during a one hour tour of our facility. You must make an appointment before visiting\, and to schedule please call 609-901-1387.
URL:https://howlingwoods.org/event/visit-the-farm-518/
LOCATION:Howling Woods Farm\, 1371 W Veterans Hwy\, Jackson\, New Jersey\, 08527
ORGANIZER;CN="Howling Woods Farm":MAILTO:luv2howl@optonline.net
END:VEVENT
BEGIN:VEVENT
DTSTART;VALUE=DATE:20230813
DTEND;VALUE=DATE:20230814
DTSTAMP:20260420T083018
CREATED:20230620T063856Z
LAST-MODIFIED:20230620T063856Z
UID:49093-1691884800-1691971199@howlingwoods.org
SUMMARY:Visit the Farm
DESCRIPTION:Come to the farm and meet Naiche\, Lyra\, Orion\, Sirius\, Raven\, Luna\, Jack\, Sayen & Chante during a one hour tour of our facility. You must make an appointment before visiting\, and to schedule please call 609-901-1387.
URL:https://howlingwoods.org/event/visit-the-farm-519/
LOCATION:Howling Woods Farm\, 1371 W Veterans Hwy\, Jackson\, New Jersey\, 08527
ORGANIZER;CN="Howling Woods Farm":MAILTO:luv2howl@optonline.net
END:VEVENT
BEGIN:VEVENT
DTSTART;VALUE=DATE:20230816
DTEND;VALUE=DATE:20230817
DTSTAMP:20260420T083018
CREATED:20230620T064049Z
LAST-MODIFIED:20230620T064049Z
UID:49095-1692144000-1692230399@howlingwoods.org
SUMMARY:Visit the Farm
DESCRIPTION:Come to the farm and meet Naiche\, Lyra\, Orion\, Sirius\, Raven\, Luna\, Jack\, Sayen & Chante during a one hour tour of our facility. You must make an appointment before visiting\, and to schedule please call 609-901-1387.
URL:https://howlingwoods.org/event/visit-the-farm-520/
LOCATION:Howling Woods Farm\, 1371 W Veterans Hwy\, Jackson\, New Jersey\, 08527
ORGANIZER;CN="Howling Woods Farm":MAILTO:luv2howl@optonline.net
END:VEVENT
BEGIN:VEVENT
DTSTART;VALUE=DATE:20230818
DTEND;VALUE=DATE:20230820
DTSTAMP:20260420T083018
CREATED:20230620T064237Z
LAST-MODIFIED:20230620T064237Z
UID:49097-1692316800-1692489599@howlingwoods.org
SUMMARY:Visit the Farm
DESCRIPTION:Come to the farm and meet Naiche\, Lyra\, Orion\, Sirius\, Raven\, Luna\, Jack\, Sayen & Chante during a one hour tour of our facility. You must make an appointment before visiting\, and to schedule please call 609-901-1387.
URL:https://howlingwoods.org/event/visit-the-farm-521/
LOCATION:Howling Woods Farm\, 1371 W Veterans Hwy\, Jackson\, New Jersey\, 08527
ORGANIZER;CN="Howling Woods Farm":MAILTO:luv2howl@optonline.net
END:VEVENT
BEGIN:VEVENT
DTSTART;VALUE=DATE:20230823
DTEND;VALUE=DATE:20230824
DTSTAMP:20260420T083018
CREATED:20230620T064352Z
LAST-MODIFIED:20230620T064352Z
UID:49099-1692748800-1692835199@howlingwoods.org
SUMMARY:Visit the Farm
DESCRIPTION:Come to the farm and meet Naiche\, Lyra\, Orion\, Sirius\, Raven\, Luna\, Jack\, Sayen & Chante during a one hour tour of our facility. You must make an appointment before visiting\, and to schedule please call 609-901-1387.
URL:https://howlingwoods.org/event/visit-the-farm-522/
LOCATION:Howling Woods Farm\, 1371 W Veterans Hwy\, Jackson\, New Jersey\, 08527
ORGANIZER;CN="Howling Woods Farm":MAILTO:luv2howl@optonline.net
END:VEVENT
BEGIN:VEVENT
DTSTART;VALUE=DATE:20230825
DTEND;VALUE=DATE:20230826
DTSTAMP:20260420T083018
CREATED:20230620T064456Z
LAST-MODIFIED:20230620T064456Z
UID:49101-1692921600-1693007999@howlingwoods.org
SUMMARY:Visit the Farm
DESCRIPTION:Come to the farm and meet Naiche\, Lyra\, Orion\, Sirius\, Raven\, Luna\, Jack\, Sayen & Chante during a one hour tour of our facility. You must make an appointment before visiting\, and to schedule please call 609-901-1387.
URL:https://howlingwoods.org/event/visit-the-farm-523/
LOCATION:Howling Woods Farm\, 1371 W Veterans Hwy\, Jackson\, New Jersey\, 08527
ORGANIZER;CN="Howling Woods Farm":MAILTO:luv2howl@optonline.net
END:VEVENT
BEGIN:VEVENT
DTSTART;TZID=UTC:20230826T090000
DTEND;TZID=UTC:20230826T140000
DTSTAMP:20260420T083018
CREATED:20230729T040458Z
LAST-MODIFIED:20230729T040556Z
UID:49501-1693040400-1693058400@howlingwoods.org
SUMMARY:PLAY-HOOK-e (for veterans)
DESCRIPTION:Veterans\, active duty and children with disabilities are welcome to attend this event in Millstone\, NJ.  You can meet our animals and\, also\, bring your fishing poles.
URL:https://howlingwoods.org/event/play-hook-e-for-veterans/
LOCATION:NJ
END:VEVENT
BEGIN:VEVENT
DTSTART;VALUE=DATE:20230827
DTEND;VALUE=DATE:20230828
DTSTAMP:20260420T083018
CREATED:20230620T064557Z
LAST-MODIFIED:20230620T064557Z
UID:49103-1693094400-1693180799@howlingwoods.org
SUMMARY:Visit the Farm
DESCRIPTION:Come to the farm and meet Naiche\, Lyra\, Orion\, Sirius\, Raven\, Luna\, Jack\, Sayen & Chante during a one hour tour of our facility. You must make an appointment before visiting\, and to schedule please call 609-901-1387.
URL:https://howlingwoods.org/event/visit-the-farm-524/
LOCATION:Howling Woods Farm\, 1371 W Veterans Hwy\, Jackson\, New Jersey\, 08527
ORGANIZER;CN="Howling Woods Farm":MAILTO:luv2howl@optonline.net
END:VEVENT
BEGIN:VEVENT
DTSTART;VALUE=DATE:20230830
DTEND;VALUE=DATE:20230831
DTSTAMP:20260420T083018
CREATED:20230620T064658Z
LAST-MODIFIED:20230620T064658Z
UID:49105-1693353600-1693439999@howlingwoods.org
SUMMARY:Visit the Farm
DESCRIPTION:Come to the farm and meet Naiche\, Lyra\, Orion\, Sirius\, Raven\, Luna\, Jack\, Sayen & Chante during a one hour tour of our facility. You must make an appointment before visiting\, and to schedule please call 609-901-1387.
URL:https://howlingwoods.org/event/visit-the-farm-525/
LOCATION:Howling Woods Farm\, 1371 W Veterans Hwy\, Jackson\, New Jersey\, 08527
ORGANIZER;CN="Howling Woods Farm":MAILTO:luv2howl@optonline.net
END:VEVENT
BEGIN:VEVENT
DTSTART;VALUE=DATE:20230901
DTEND;VALUE=DATE:20230903
DTSTAMP:20260420T083018
CREATED:20230620T064813Z
LAST-MODIFIED:20230620T064813Z
UID:49107-1693526400-1693699199@howlingwoods.org
SUMMARY:Visit the Farm
DESCRIPTION:Come to the farm and meet Naiche\, Lyra\, Orion\, Sirius\, Raven\, Luna\, Jack\, Sayen & Chante during a one hour tour of our facility. You must make an appointment before visiting\, and to schedule please call 609-901-1387.
URL:https://howlingwoods.org/event/visit-the-farm-526/
LOCATION:Howling Woods Farm\, 1371 W Veterans Hwy\, Jackson\, New Jersey\, 08527
ORGANIZER;CN="Howling Woods Farm":MAILTO:luv2howl@optonline.net
END:VEVENT
BEGIN:VEVENT
DTSTART;VALUE=DATE:20230906
DTEND;VALUE=DATE:20230907
DTSTAMP:20260420T083018
CREATED:20230620T074222Z
LAST-MODIFIED:20230620T074222Z
UID:49112-1693958400-1694044799@howlingwoods.org
SUMMARY:Visit the Farm
DESCRIPTION:Come to the farm and meet Naiche\, Lyra\, Orion\, Sirius\, Raven\, Luna\, Jack\, Sayen & Chante during a one hour tour of our facility. You must make an appointment before visiting\, and to schedule please call 609-901-1387.
URL:https://howlingwoods.org/event/visit-the-farm-527/
LOCATION:Howling Woods Farm\, 1371 W Veterans Hwy\, Jackson\, New Jersey\, 08527
ORGANIZER;CN="Howling Woods Farm":MAILTO:luv2howl@optonline.net
END:VEVENT
END:VCALENDAR